- Раздел: Отдых, развлечения
- Дата съёмки: 27.10.2012 23:04
- Дата загрузки фото: 23.01.2021 03:37
- Оригинальная фотография: 2400 x 1604 (529 Кб)
- Технические характеристики:
- Фотоаппарат: Canon EOS 60D
- Выдержка: 0,0
- Гиперфокальное расстояние: inf m
- Диафрагма: 5,6
- Светочувствительность: 100
- Фокусное расстояние: 50,0 mm (35 mm equivalent: 50,0 mm)
- Полный EXIF
- Adobe
- ColorTransform: YCbCr
- Composite
- Aperture: 5,6
- CircleOfConfusion: 0,019 mm
- FOV: 39,0 deg
- Flash: Off, Did not fire
- FocalLength35efl: 50,0 mm (35 mm equivalent: 50,0 mm)
- HyperfocalDistance: inf m
- LensID: Canon EF 50mm f/1.4 USM or Zeiss Lens
- Megapixels: 3,8
- ScaleFactor35efl: 1,6
- ShutterSpeed: 0,0
- ExifIFD
- ApertureValue: 4,0
- ColorSpace: sRGB
- CreateDate: 2012:10:27 23:04:55
- CustomRendered: Normal
- DateTimeOriginal: 2012:10:27 23:04:55
- ExifImageHeight: 1604
- ExifImageWidth: 2400
- ExposureCompensation: 0
- ExposureMode: Manual
- ExposureProgram: Manual
- ExposureTime: 0,0
- FNumber: 5,6
- FocalLength: 50,0 mm
- ISO: 100
- LensInfo: 50mm f/?
- LensModel: EF50mm f/1.4 USM
- LensSerialNumber: 0000000000
- MaxApertureValue: 1,4
- MeteringMode: Center-weighted average
- RecommendedExposureIndex: 100
- SceneCaptureType: Standard
- SensitivityType: Recommended Exposure Index
- SerialNumber: 2131200351
- ShutterSpeedValue: 1/128
- WhiteBalance: Auto
- ICC-header
- ICC-meas
- ICC-view
- IFD0
- Artist: Ypanchintcev Aleksey
- Make: Canon
- Model: Canon EOS 60D
- ModifyDate: 2012:10:28 21:11:41
- Orientation: Horizontal (normal)
- IFD1
- IPTC
- By-line: Ypanchintcev Aleksey
- DateCreated: 2012:10:27
- System
- XMP-aux
- Firmware: 1.1.0
- FlashCompensation: 0
- ImageNumber: 0
- Lens: EF50mm f/1.4 USM
- LensID: 198
- XMP-crs
- AlreadyApplied: True
- BlueHue: 0
- BlueSaturation: +22
- Brightness: +53
- ChromaticAberrationB: 0
- ChromaticAberrationR: 0
- Clarity: 0
- ColorNoiseReduction: 64
- ColorNoiseReductionDetail: 50
- ColorTemperature: 5448
- Contrast: +22
- ConvertToGrayscale: False
- Defringe: 0
- Exposure: +0.41
- FillLight: 39
- GrainAmount: 0
- GreenHue: 0
- GreenSaturation: +29
- HasCrop: False
- HasSettings: True
- HighlightRecovery: 41
- HueAdjustmentAqua: 0
- HueAdjustmentBlue: 0
- HueAdjustmentGreen: 0
- HueAdjustmentMagenta: +14
- HueAdjustmentOrange: -18
- HueAdjustmentPurple: -32
- HueAdjustmentRed: 0
- HueAdjustmentYellow: -20
- LensManualDistortionAmount: 0
- LensProfileEnable: 0
- LensProfileSetup: LensDefaults
- LuminanceAdjustmentAqua: 0
- LuminanceAdjustmentBlue: +2
- LuminanceAdjustmentGreen: 0
- LuminanceAdjustmentMagenta: 0
- LuminanceAdjustmentOrange: 0
- LuminanceAdjustmentPurple: 0
- LuminanceAdjustmentRed: 0
- LuminanceAdjustmentYellow: 0
- LuminanceNoiseReductionContrast: 0
- LuminanceNoiseReductionDetail: 50
- LuminanceSmoothing: 25
- PaintCorrectionActive: true
- PaintCorrectionAmount: 1.000000
- PaintCorrectionBrightness: 0.000000
- PaintCorrectionClarity: 0.000000
- PaintCorrectionContrast: 0.000000
- PaintCorrectionExposure: 0.000000
- PaintCorrectionHue: 237.000000
- PaintCorrectionMaskCenterWeight: 0.000000
- PaintCorrectionMaskFlow: 1.000000
- PaintCorrectionMaskRadius: 0.004758
- PaintCorrectionMaskValue: 1.000000
- PaintCorrectionMaskWhat: Mask/Paint
- PaintCorrectionSaturation: 0.950000
- PaintCorrectionSharpness: 0.000000
- PaintCorrectionWhat: Correction
- ParametricDarks: -14
- ParametricHighlightSplit: 75
- ParametricHighlights: +14
- ParametricLights: -31
- ParametricMidtoneSplit: 50
- ParametricShadowSplit: 14
- ParametricShadows: -40
- PerspectiveHorizontal: 0
- PerspectiveRotate: 0.0
- PerspectiveScale: 100
- PerspectiveVertical: 0
- PostCropVignetteAmount: 0
- ProcessVersion: 5.7
- RedHue: 0
- RedSaturation: 0
- Saturation: 0
- SaturationAdjustmentAqua: +32
- SaturationAdjustmentBlue: +50
- SaturationAdjustmentGreen: 0
- SaturationAdjustmentMagenta: 0
- SaturationAdjustmentOrange: 0
- SaturationAdjustmentPurple: +11
- SaturationAdjustmentRed: +27
- SaturationAdjustmentYellow: -14
- ShadowTint: 0
- Shadows: 28
- SharpenDetail: 67
- SharpenEdgeMasking: 0
- SharpenRadius: +1.0
- Sharpness: 25
- SplitToningBalance: +100
- SplitToningHighlightHue: 55
- SplitToningHighlightSaturation: 15
- SplitToningShadowHue: 257
- SplitToningShadowSaturation: 0
- Tint: -36
- ToneCurve: 0, 0, 32, 22, 64, 56, 128, 128, 192, 196, 255, 255
- ToneCurveName: Medium Contrast
- Version: 6.6
- Vibrance: -29
- VignetteAmount: -47
- VignetteMidpoint: 28
- WhiteBalance: Custom
- XMP-dc
- Creator: Ypanchintcev Aleksey
- Format: image/jpeg
- XMP-exif
- ApertureValue: 5,6
- DateTimeDigitized: 2012:10:27 23:04:55+07:00
- DateTimeOriginal: 2012:10:27 23:04:55+07:00
- ExposureTime: 1/250
- FlashFired: False
- FlashFunction: False
- FlashMode: Off
- FlashRedEyeMode: False
- FlashReturn: No return detection
- ShutterSpeedValue: 1/250
- XMP-tiff
- XMP-xmp
- CreateDate: 2012:10:27 23:04:55.28
- ModifyDate: 2012:10:28 21:11:41+07:00
- XMP-xmpMM
- Просмотров: 242
- Рейтинг: голосов еще нет
- Отзывов: 0