- Раздел: Другое, разное
- Дата съёмки: 14.10.2007 10:18
- Дата загрузки фото: 14.10.2007 10:20
- Оригинальная фотография: 1800 x 1200 (1,6 Мб)
- Технические характеристики:
- Фотоаппарат: FujiFilm FinePix S6500fd
- Выдержка: 1/320
- Гиперфокальное расстояние: 58,08 m
- Диафрагма: 5,0
- Фокусное расстояние: 45,8mm (35mm эквивалент: 190,5mm)
- Экспокоррекция: 0,33
- Полный EXIF
- ColorTransform: YCbCr
- Composite
- Aperture: 5,0
- CircleOfConfusion: 0,007 mm
- FocalLength35efl: 45,8mm (35mm equivalent: 190,5mm)
- HyperfocalDistance: 58,08 m
- ScaleFactor35efl: 4,2
- ShutterSpeed: 1/320
- ExifIFD
- ApertureValue: 5,0
- BrightnessValue: 8,11
- ColorSpace: sRGB
- CreateDate: 2007:10:12 08:12:23
- CustomRendered: Normal
- DateTimeOriginal: 2007:10:12 08:12:23
- ExifImageLength: 1200
- ExifImageWidth: 1800
- ExposureCompensation: 0,33
- ExposureMode: Auto
- ExposureProgram: Aperture-priority AE
- ExposureTime: 1/320
- FNumber: 5,0
- Flash: Off
- FocalLength: 45,8mm
- LightSource: Unknown (0)
- MaxApertureValue: 2,8
- MeteringMode: Average
- SceneCaptureType: Standard
- SceneType: Directly photographed
- SensingMethod: One-chip color area
- Sharpness: Normal
- ShutterSpeedValue: 1/320
- WhiteBalance: Auto
- ICC-header
- ICC-meas
- ICC-view
- IFD0
- Make: FUJIFILM
- Model: FinePix S6500fd
- ModifyDate: 2007:10:14 10:18:38
- Orientation: Horizontal (normal)
- IFD1
- IPTC
- ObjectName:
- XMP-crs
- AlreadyApplied: True
- BlueHue: 0
- BlueSaturation: 0
- Brightness: +43
- CameraProfile: ACR 3.6
- ChromaticAberrationB: 0
- ChromaticAberrationR: 0
- Clarity: 0
- ColorNoiseReduction: 39
- Contrast: +58
- ConvertToGrayscale: False
- Defringe: 0
- Exposure: +0.35
- FillLight: 11
- GreenHue: 0
- GreenSaturation: 0
- HasCrop: False
- HasSettings: True
- HighlightRecovery: 25
- HueAdjustmentAqua: 0
- HueAdjustmentBlue: 0
- HueAdjustmentGreen: 0
- HueAdjustmentMagenta: 0
- HueAdjustmentOrange: 0
- HueAdjustmentPurple: 0
- HueAdjustmentRed: 0
- HueAdjustmentYellow: 0
- LuminanceAdjustmentAqua: 0
- LuminanceAdjustmentBlue: 0
- LuminanceAdjustmentGreen: 0
- LuminanceAdjustmentMagenta: 0
- LuminanceAdjustmentOrange: 0
- LuminanceAdjustmentPurple: 0
- LuminanceAdjustmentRed: 0
- LuminanceAdjustmentYellow: 0
- LuminanceSmoothing: 14
- ParametricDarks: +13
- ParametricHighlightSplit: 75
- ParametricHighlights: -26
- ParametricLights: 0
- ParametricMidtoneSplit: 50
- ParametricShadowSplit: 25
- ParametricShadows: +23
- RawFileName: DSCF3698.RAF
- RedHue: 0
- RedSaturation: 0
- Saturation: +5
- SaturationAdjustmentAqua: 0
- SaturationAdjustmentBlue: 0
- SaturationAdjustmentGreen: 0
- SaturationAdjustmentMagenta: 0
- SaturationAdjustmentOrange: 0
- SaturationAdjustmentPurple: 0
- SaturationAdjustmentRed: 0
- SaturationAdjustmentYellow: 0
- ShadowTint: 0
- Shadows: 1
- SharpenDetail: 1
- SharpenEdgeMasking: 0
- SharpenRadius: +1.0
- Sharpness: 0
- SplitToningBalance: 0
- SplitToningHighlightHue: 0
- SplitToningHighlightSaturation: 0
- SplitToningShadowHue: 0
- SplitToningShadowSaturation: 0
- Temperature: 4900
- Tint: -10
- ToneCurve: 0, 0, 32, 22, 64, 56, 128, 128, 192, 196, 255, 255
- ToneCurveName: Medium Contrast
- Version: 4.2
- Vibrance: 0
- VignetteAmount: 0
- WhiteBalance: Custom
- XMP-dc
- XMP-exif
- DateTimeDigitized: 2007:10:12 08:12:230Z
- DateTimeOriginal: 2007:10:12 08:12:230Z
- ExifImageHeight: 1200
- FlashFired: False
- FlashFunction: False
- FlashMode: Off
- FlashRedEyeMode: False
- FlashReturn: No return detection
- SubjectDistanceRange: Unknown
- XMP-tiff
- ImageHeight: 3036
- ImageWidth: 4048
- XMP-xmp
- CreateDate: 2007:10:14 10:18:38+04:00
- ModifyDate: 2007:10:14 10:18:38+04:00
- XMP-xmpMM
- DerivedFrom:
- Просмотров: 617
- Рейтинг: голосов еще нет
- Отзывов: 0