» Участники » HDD_disassembler » Photofile.ru mirror » fotoplenka.ru - antz17/038 558210613 питиё.jpg |
fotoplenka.ru - antz17/038 558210613 питиё.jpg |
fotoplenka.ru - antz17/038 558210613 питиё.jpg
С таким фотоаппаратом только участница Молотильда могла хуже снять-проявить (или спьяну).
- Раздел: Отдых, развлечения
- Дата съёмки: 21.06.2013 21:32
- Дата загрузки фото: 26.01.2021 13:33
- Оригинальная фотография: 3791 x 2527 (1,3 Мб)
- Технические характеристики:
- Фотоаппарат: Canon EOS 5D Mark II
- Выдержка: 0,0
- Гиперфокальное расстояние: inf m
- Диафрагма: 5,0
- Светочувствительность: 250, 250
- Фокусное расстояние: 27,0 mm
- Полный EXIF
- Composite
- Aperture: 5,0
- CircleOfConfusion: 0,030 mm
- DOF: inf (0,00 m - inf)
- FocalLength35efl: 27,0 mm
- HyperfocalDistance: inf m
- LensID: Canon EF 24-70mm f/2.8L II USM
- Megapixels: 9,6
- ScaleFactor35efl: 1,0
- ShutterSpeed: 0,0
- ExifIFD
- ApertureValue: 4,0
- BrightnessValue: 0
- ColorSpace: Unknown (0)
- CompressedBitsPerPixel: 0
- CreateDate: 2013:06:21 21:32:31
- DateTimeOriginal: 2013:06:21 21:32:31
- ExifImageHeight: 2527
- ExifImageWidth: 3791
- ExposureCompensation: 0
- ExposureIndex: 0
- ExposureProgram: Manual
- ExposureTime: 0,0
- FNumber: 5,0
- Flash: Off, Did not fire
- FocalLength: 27,0 mm
- ISO: 250, 250
- LightSource: Unknown
- MaxApertureValue: 2,8
- MeteringMode: Multi-segment
- SceneType: Unknown (0)
- SensingMethod: Unknown (0)
- ShutterSpeedValue: 1/256
- SubjectDistance: 2,26 m
- IFD0
- Make: Canon
- Model: Canon EOS 5D Mark II
- ModifyDate: 2013:07:08 05:10:25
- Orientation: Horizontal (normal)
- PrimaryChromaticities: 0 0 0 0 0 0
- ReferenceBlackWhite: 0 0 0 0 0 0
- WhitePoint: 0 0
- IPTC
- DateCreated: 2013:06:21
- System
- XMP-aux
- ApproximateFocusDistance: 2,26
- Firmware: 2.0.9
- FlashCompensation: 0
- ImageNumber: 0
- Lens: EF24-70mm f/2.8L II USM
- LensID: 495
- LensInfo: 24-70mm f/?
- SerialNumber: 3431640282
- XMP-crs
- AlreadyApplied: True
- BlueHue: 0
- BlueSaturation: 0
- Brightness: +19
- ChromaticAberrationB: 0
- ChromaticAberrationR: 0
- Clarity: +3
- ColorNoiseReduction: 25
- ColorNoiseReductionDetail: 50
- ColorTemperature: 5448
- Contrast: +36
- ConvertToGrayscale: False
- CropAngle: 0.704525
- CropBottom: 1
- CropConstrainToWarp: 0
- CropHeight: 2527
- CropLeft: 0.01308
- CropRight: 0.98692
- CropTop: 0
- CropUnit: pixels
- CropWidth: 3791
- Defringe: 0
- Exposure: +0.23
- FillLight: 33
- GrainAmount: 0
- GreenHue: 0
- GreenSaturation: 0
- HasCrop: True
- HasSettings: True
- HighlightRecovery: 0
- HueAdjustmentAqua: -45
- HueAdjustmentBlue: -27
- HueAdjustmentGreen: +2
- HueAdjustmentMagenta: 0
- HueAdjustmentOrange: +18
- HueAdjustmentPurple: 0
- HueAdjustmentRed: 0
- HueAdjustmentYellow: 0
- LensManualDistortionAmount: 0
- LensProfileEnable: 0
- LensProfileSetup: LensDefaults
- LuminanceAdjustmentAqua: +18
- LuminanceAdjustmentBlue: -27
- LuminanceAdjustmentGreen: -27
- LuminanceAdjustmentMagenta: 0
- LuminanceAdjustmentOrange: +11
- LuminanceAdjustmentPurple: 0
- LuminanceAdjustmentRed: +18
- LuminanceAdjustmentYellow: 0
- LuminanceNoiseReductionContrast: 0
- LuminanceNoiseReductionDetail: 38
- LuminanceSmoothing: 10
- ParametricDarks: 0
- ParametricHighlightSplit: 75
- ParametricHighlights: 0
- ParametricLights: 0
- ParametricMidtoneSplit: 50
- ParametricShadowSplit: 25
- ParametricShadows: 0
- PerspectiveHorizontal: 0
- PerspectiveRotate: 0.0
- PerspectiveScale: 100
- PerspectiveVertical: 0
- PostCropVignetteAmount: 0
- ProcessVersion: 5.7
- RedHue: 0
- RedSaturation: +10
- Saturation: -13
- SaturationAdjustmentAqua: -2
- SaturationAdjustmentBlue: -11
- SaturationAdjustmentGreen: -11
- SaturationAdjustmentMagenta: +36
- SaturationAdjustmentOrange: -11
- SaturationAdjustmentPurple: +32
- SaturationAdjustmentRed: -7
- SaturationAdjustmentYellow: +2
- ShadowTint: +20
- Shadows: 0
- SharpenDetail: 10
- SharpenEdgeMasking: 0
- SharpenRadius: +1.0
- Sharpness: 79
- SplitToningBalance: 0
- SplitToningHighlightHue: 223
- SplitToningHighlightSaturation: 13
- SplitToningShadowHue: 0
- SplitToningShadowSaturation: 0
- Tint: -16
- ToneCurve: 50, 57, 79, 88, 125, 142, 193, 190, 255, 203
- ToneCurveName: Custom
- Version: 6.4.1
- Vibrance: +49
- VignetteAmount: 0
- WhiteBalance: Custom
- XMP-xmp
- CreateDate: 2013:06:21 21:32:31.19
- ModifyDate: 2013:07:08 05:10:25+04:00
- Просмотров: 243
- Рейтинг: голосов еще нет
- Отзывов: 0
Получить код для блога
Вставка фотографии в текущем разрешении |
Вставка миниатюры |
HTML (для вставки в блог):
BBCode (для вставки в форум):
Ссылка на фото:
Ссылка на миниатюру:
- Послать ссылку другу
Комментарии к фотографии |