» Участники » HDD_disassembler » Корзина-отстойник » fotoplenka.ru - antz17/054 догони меня, топор |
fotoplenka.ru - antz17/054 догони меня, топор |
fotoplenka.ru - antz17/054 догони меня, топор
- Раздел: Другое, разное
- Дата съёмки: 21.06.2013 21:37
- Дата загрузки фото: 26.01.2021 13:33
- Оригинальная фотография: 3347 x 2230 (1,0 Мб)
- Технические характеристики:
- Фотоаппарат: Canon EOS 5D Mark II
- Выдержка: 0,0
- Гиперфокальное расстояние: inf m
- Диафрагма: 5,6
- Светочувствительность: 100, 100
- Фокусное расстояние: 24,0 mm (35 mm equivalent: 24,0 mm)
- Полный EXIF
- Composite
- Aperture: 5,6
- CircleOfConfusion: 0,027 mm
- DOF: inf (0,00 m - inf)
- FOV: 73,0 deg
- FocalLength35efl: 24,0 mm (35 mm equivalent: 24,0 mm)
- HyperfocalDistance: inf m
- LensID: Canon EF 24-70mm f/2.8L II USM
- Megapixels: 7,5
- ScaleFactor35efl: 1,1
- ShutterSpeed: 0,0
- ExifIFD
- ApertureValue: 4,0
- BrightnessValue: 0
- ColorSpace: Unknown (0)
- CompressedBitsPerPixel: 0
- CreateDate: 2013:06:21 21:37:30
- DateTimeOriginal: 2013:06:21 21:37:30
- ExifImageHeight: 2230
- ExifImageWidth: 3347
- ExposureCompensation: 0
- ExposureIndex: 0
- ExposureProgram: Manual
- ExposureTime: 0,0
- FNumber: 5,6
- Flash: Off, Did not fire
- FocalLength: 24,0 mm
- ISO: 100, 100
- LightSource: Unknown
- MaxApertureValue: 2,8
- MeteringMode: Multi-segment
- SceneType: Unknown (0)
- SensingMethod: Unknown (0)
- ShutterSpeedValue: 1/128
- SubjectDistance: 4,36 m
- IFD0
- Make: Canon
- Model: Canon EOS 5D Mark II
- ModifyDate: 2013:07:08 05:11:34
- Orientation: Horizontal (normal)
- PrimaryChromaticities: 0 0 0 0 0 0
- ReferenceBlackWhite: 0 0 0 0 0 0
- WhitePoint: 0 0
- IPTC
- DateCreated: 2013:06:21
- System
- XMP-aux
- ApproximateFocusDistance: 4,36
- Firmware: 2.0.9
- FlashCompensation: 0
- ImageNumber: 0
- Lens: EF24-70mm f/2.8L II USM
- LensID: 495
- LensInfo: 24-70mm f/?
- SerialNumber: 3431640282
- XMP-crs
- AlreadyApplied: True
- BlueHue: 0
- BlueSaturation: 0
- Brightness: +34
- ChromaticAberrationB: 0
- ChromaticAberrationR: 0
- Clarity: -3
- ColorNoiseReduction: 25
- ColorNoiseReductionDetail: 50
- ColorTemperature: 5103
- Contrast: +50
- ConvertToGrayscale: False
- CropAngle: -1.12634
- CropBottom: 0.974446
- CropConstrainToWarp: 0
- CropHeight: 2230
- CropLeft: 0.122143
- CropRight: 1
- CropTop: 0.1335
- CropUnit: pixels
- CropWidth: 3347
- Defringe: 0
- Exposure: -0.60
- FillLight: 18
- GrainAmount: 0
- GreenHue: 0
- GreenSaturation: 0
- HasCrop: True
- HasSettings: True
- HighlightRecovery: 0
- HueAdjustmentAqua: -45
- HueAdjustmentBlue: -27
- HueAdjustmentGreen: +5
- HueAdjustmentMagenta: 0
- HueAdjustmentOrange: +18
- HueAdjustmentPurple: 0
- HueAdjustmentRed: 0
- HueAdjustmentYellow: 0
- LensManualDistortionAmount: 0
- LensProfileEnable: 0
- LensProfileSetup: LensDefaults
- LuminanceAdjustmentAqua: +18
- LuminanceAdjustmentBlue: +18
- LuminanceAdjustmentGreen: -18
- LuminanceAdjustmentMagenta: 0
- LuminanceAdjustmentOrange: +7
- LuminanceAdjustmentPurple: 0
- LuminanceAdjustmentRed: +5
- LuminanceAdjustmentYellow: 0
- LuminanceNoiseReductionContrast: 0
- LuminanceNoiseReductionDetail: 38
- LuminanceSmoothing: 10
- ParametricDarks: 0
- ParametricHighlightSplit: 75
- ParametricHighlights: 0
- ParametricLights: 0
- ParametricMidtoneSplit: 50
- ParametricShadowSplit: 25
- ParametricShadows: 0
- PerspectiveHorizontal: 0
- PerspectiveRotate: 0.0
- PerspectiveScale: 100
- PerspectiveVertical: 0
- PostCropVignetteAmount: 0
- ProcessVersion: 5.7
- RedHue: 0
- RedSaturation: +17
- Saturation: -13
- SaturationAdjustmentAqua: -2
- SaturationAdjustmentBlue: +5
- SaturationAdjustmentGreen: 0
- SaturationAdjustmentMagenta: +36
- SaturationAdjustmentOrange: -14
- SaturationAdjustmentPurple: +32
- SaturationAdjustmentRed: -11
- SaturationAdjustmentYellow: -7
- ShadowTint: +8
- Shadows: 0
- SharpenDetail: 10
- SharpenEdgeMasking: 0
- SharpenRadius: +1.0
- Sharpness: 55
- SplitToningBalance: 0
- SplitToningHighlightHue: 223
- SplitToningHighlightSaturation: 13
- SplitToningShadowHue: 0
- SplitToningShadowSaturation: 0
- Tint: -26
- ToneCurve: 45, 53, 82, 89, 119, 133, 195, 183, 255, 203
- ToneCurveName: Custom
- Version: 6.4.1
- Vibrance: +33
- VignetteAmount: 0
- WhiteBalance: Custom
- XMP-xmp
- CreateDate: 2013:06:21 21:37:30.91
- ModifyDate: 2013:07:08 05:11:34+04:00
- Просмотров: 233
- Рейтинг: голосов еще нет
- Отзывов: 0
Получить код для блога
Вставка фотографии в текущем разрешении |
Вставка миниатюры |
HTML (для вставки в блог):
BBCode (для вставки в форум):
Ссылка на фото:
Ссылка на миниатюру:
- Послать ссылку другу
Комментарии к фотографии |