- Раздел: Отдых, развлечения
- Дата съёмки: 30.04.2011 18:52
- Дата загрузки фото: 01.02.2021 18:23
- Оригинальная фотография: 5616 x 3744 (9,3 Мб)
- Технические характеристики:
- Фотоаппарат: Canon EOS 5D Mark II
- Выдержка: 0,0
- Гиперфокальное расстояние: inf m
- Диафрагма: 8,0
- Светочувствительность: 640
- Фокусное расстояние: 42,0 mm
- Полный EXIF
- Adobe
- ColorTransform: YCbCr
- Composite
- Aperture: 8,0
- CircleOfConfusion: 0,031 mm
- Flash: Off, Did not fire
- FocalLength35efl: 42,0 mm
- HyperfocalDistance: inf m
- LensID: Canon EF 28-70mm f/2.8L or Sigma or Tamron Lens
- Megapixels: 21,0
- ScaleFactor35efl: 1,0
- ShutterSpeed: 0,0
- ExifIFD
- ApertureValue: 8,0
- CreateDate: 2011:04:30 18:52:32
- CustomRendered: Normal
- DateTimeOriginal: 2011:04:30 18:52:32
- ExposureCompensation: 0
- ExposureMode: Manual
- ExposureProgram: Manual
- ExposureTime: 0,0
- FNumber: 8,0
- FocalLength: 42,0 mm
- ISO: 640
- MaxApertureValue: 2,8
- MeteringMode: Multi-segment
- SceneCaptureType: Standard
- ShutterSpeedValue: 1/128
- WhiteBalance: Manual
- ICC-header
- ICC-meas
- ICC-view
- IFD0
- Make: Canon
- Model: Canon EOS 5D Mark II
- ModifyDate: 2011:05:02 00:19:05
- IFD1
- System
- XMP-aux
- Firmware: 2.0.8
- FlashCompensation: 0
- ImageNumber: 0
- Lens: EF28-70mm f/2.8L USM
- LensID: 161
- LensInfo: 28-70mm f/?
- SerialNumber: 1310801614
- XMP-crs
- AlreadyApplied: True
- BlueHue: 0
- BlueSaturation: 0
- Brightness: +50
- ChromaticAberrationB: 0
- ChromaticAberrationR: 0
- Clarity: +29
- ColorNoiseReduction: 100
- ColorNoiseReductionDetail: 100
- ColorTemperature: 4850
- Contrast: +34
- ConvertToGrayscale: False
- Defringe: 0
- Exposure: -0.25
- FillLight: 23
- GrainAmount: 0
- GreenHue: 0
- GreenSaturation: 0
- HasCrop: False
- HasSettings: True
- HighlightRecovery: 0
- HueAdjustmentAqua: 0
- HueAdjustmentBlue: 0
- HueAdjustmentGreen: 0
- HueAdjustmentMagenta: 0
- HueAdjustmentOrange: 0
- HueAdjustmentPurple: 0
- HueAdjustmentRed: 0
- HueAdjustmentYellow: 0
- LensManualDistortionAmount: 0
- LensProfileEnable: 0
- LensProfileSetup: LensDefaults
- LuminanceAdjustmentAqua: 0
- LuminanceAdjustmentBlue: 0
- LuminanceAdjustmentGreen: 0
- LuminanceAdjustmentMagenta: 0
- LuminanceAdjustmentOrange: 0
- LuminanceAdjustmentPurple: 0
- LuminanceAdjustmentRed: 0
- LuminanceAdjustmentYellow: 0
- LuminanceNoiseReductionContrast: 100
- LuminanceNoiseReductionDetail: 100
- LuminanceSmoothing: 77
- ParametricDarks: 0
- ParametricHighlightSplit: 75
- ParametricHighlights: 0
- ParametricLights: 0
- ParametricMidtoneSplit: 50
- ParametricShadowSplit: 25
- ParametricShadows: 0
- PerspectiveHorizontal: 0
- PerspectiveRotate: 0.0
- PerspectiveScale: 100
- PerspectiveVertical: 0
- PostCropVignetteAmount: -35
- PostCropVignetteFeather: 50
- PostCropVignetteHighlightContrast: 0
- PostCropVignetteMidpoint: 50
- PostCropVignetteRoundness: 0
- PostCropVignetteStyle: 1
- ProcessVersion: 5.7
- RedHue: 0
- RedSaturation: 0
- Saturation: -60
- SaturationAdjustmentAqua: 0
- SaturationAdjustmentBlue: 0
- SaturationAdjustmentGreen: 0
- SaturationAdjustmentMagenta: 0
- SaturationAdjustmentOrange: 0
- SaturationAdjustmentPurple: 0
- SaturationAdjustmentRed: 0
- SaturationAdjustmentYellow: 0
- ShadowTint: 0
- Shadows: 8
- SharpenDetail: 25
- SharpenEdgeMasking: 0
- SharpenRadius: +1.0
- Sharpness: 25
- SplitToningBalance: 0
- SplitToningHighlightHue: 0
- SplitToningHighlightSaturation: 0
- SplitToningShadowHue: 0
- SplitToningShadowSaturation: 0
- Tint: +1
- ToneCurve: 0, 0, 32, 22, 64, 56, 128, 128, 192, 196, 255, 255
- ToneCurveName: Medium Contrast
- Version: 6.1
- Vibrance: 0
- VignetteAmount: 0
- WhiteBalance: As Shot
- XMP-exif
- DateTimeDigitized: 2011:04:30 18:52:32.08+07:00
- DateTimeOriginal: 2011:04:30 18:52:32.08+07:00
- ExifImageHeight: 3744
- ExifImageWidth: 5616
- ExposureTime: 1/200
- FlashFired: False
- FlashFunction: False
- FlashMode: Off
- FlashRedEyeMode: False
- FlashReturn: No return detection
- ShutterSpeedValue: 1/200
- XMP-tiff
- ImageHeight: 3744
- ImageWidth: 5616
- XMP-xmp
- CreateDate: 2011:04:30 18:52:32.08+07:00
- ModifyDate: 2011:05:02 00:19:05+07:00
- Просмотров: 167
- Рейтинг: голосов еще нет
- Отзывов: 0