- Раздел: Другое, разное
- Дата съёмки: неизвестно
- Дата загрузки фото: 08.02.2021 23:48
- Оригинальная фотография: 4592 x 3448 (2,7 Мб)
- Технические характеристики:
- Фотоаппарат: Panasonic DMC-GX80
- Выдержка: 0,0
- Гиперфокальное расстояние: inf m
- Диафрагма: 8,0
- Светочувствительность: 200
- Фокусное расстояние: 264,0 mm (35 mm equivalent: 528,0 mm)
- Полный EXIF
- Composite
- Aperture: 8,0
- CircleOfConfusion: 0,015 mm
- FOV: 3,0 deg
- FocalLength35efl: 264,0 mm (35 mm equivalent: 528,0 mm)
- HyperfocalDistance: inf m
- Megapixels: 15,8
- ScaleFactor35efl: 2,0
- ShutterSpeed: 0,0
- ExifIFD
- ApertureValue: 8,0
- ColorSpace: sRGB
- Contrast: Normal
- CreateDate: 2020:08:29 14:15:07
- CustomRendered: Normal
- DateTimeOriginal: 2020:08:29 14:15:07
- DigitalZoomRatio: 0
- ExposureCompensation: 0
- ExposureMode: Auto
- ExposureProgram: Aperture-priority AE
- ExposureTime: 0,0
- FNumber: 8,0
- Flash: Off, Did not fire
- FocalLength: 264,0 mm
- FocalLengthIn35mmFormat: 528 mm
- GainControl: Low gain up
- ISO: 200
- LensModel: OLYMPUS M.75-300mm F4.8-6.7
- LensSerialNumber: 341003630
- LightSource: Unknown
- MaxApertureValue: 5,7
- MeteringMode: Multi-segment
- Saturation: Normal
- SceneCaptureType: Standard
- SceneType: Directly photographed
- SensingMethod: One-chip color area
- SerialNumber: XFR1910080010
- Sharpness: Normal
- ShutterSpeedValue: 1/1024
- WhiteBalance: Auto
- ICC-header
- ICC-meas
- ICC-view
- IFD0
- Make: Panasonic
- Model: DMC-GX80
- ModifyDate: 2020:08:31 19:53:28
- Orientation: Horizontal (normal)
- IFD1
- IPTC
- DateCreated: 2020:08:29
- System
- XMP-aux
- DistortionCorrectionAlreadyApplied: True
- LateralChromaticAberrationCorrectionAlreadyApplied: True
- Lens: OLYMPUS M.75-300mm F4.8-6.7
- XMP-crs
- AlreadyApplied: True
- AutoLateralCA: 0
- Blacks2012: +30
- BlueHue: -10
- BlueSaturation: +25
- Clarity2012: 0
- ColorNoiseReduction: 25
- ColorNoiseReductionDetail: 50
- ColorNoiseReductionSmoothness: 50
- ColorTemperature: 5820
- Contrast2012: 0
- ConvertToGrayscale: False
- DefringeGreenAmount: 0
- DefringeGreenHueHi: 60
- DefringeGreenHueLo: 40
- DefringePurpleAmount: 0
- DefringePurpleHueHi: 70
- DefringePurpleHueLo: 30
- Dehaze: 0
- Exposure2012: 0.00
- GrainAmount: 0
- GreenHue: +10
- GreenSaturation: -10
- HasCrop: False
- HasSettings: True
- Highlights2012: -66
- HueAdjustmentAqua: 0
- HueAdjustmentBlue: +5
- HueAdjustmentGreen: +12
- HueAdjustmentMagenta: +15
- HueAdjustmentOrange: 0
- HueAdjustmentPurple: +20
- HueAdjustmentRed: +12
- HueAdjustmentYellow: 0
- LensManualDistortionAmount: 0
- LensProfileEnable: 0
- LensProfileSetup: LensDefaults
- LookName:
- LuminanceAdjustmentAqua: -15
- LuminanceAdjustmentBlue: -10
- LuminanceAdjustmentGreen: -25
- LuminanceAdjustmentMagenta: -15
- LuminanceAdjustmentOrange: -12
- LuminanceAdjustmentPurple: -10
- LuminanceAdjustmentRed: -20
- LuminanceAdjustmentYellow: 0
- LuminanceSmoothing: 0
- MissingCameraProfile: Fuji Provia 100F - N
- OverrideLookVignette: False
- ParametricDarks: 0
- ParametricHighlightSplit: 75
- ParametricHighlights: 0
- ParametricLights: 0
- ParametricMidtoneSplit: 60
- ParametricShadowSplit: 14
- ParametricShadows: 0
- PerspectiveAspect: 0
- PerspectiveHorizontal: 0
- PerspectiveRotate: 0.0
- PerspectiveScale: 100
- PerspectiveUpright: 0
- PerspectiveVertical: 0
- PerspectiveX: 0.00
- PerspectiveY: 0.00
- PostCropVignetteAmount: 0
- ProcessVersion: 11.0
- RawFileName: _1080046.RW2
- RedHue: +10
- RedSaturation: +5
- Saturation: 0
- SaturationAdjustmentAqua: 0
- SaturationAdjustmentBlue: +10
- SaturationAdjustmentGreen: -30
- SaturationAdjustmentMagenta: -15
- SaturationAdjustmentOrange: -5
- SaturationAdjustmentPurple: -10
- SaturationAdjustmentRed: -15
- SaturationAdjustmentYellow: 0
- ShadowTint: 0
- Shadows2012: +88
- SharpenDetail: 25
- SharpenEdgeMasking: 0
- SharpenRadius: +1.2
- Sharpness: 0
- SplitToningBalance: 0
- SplitToningHighlightHue: 220
- SplitToningHighlightSaturation: 5
- SplitToningShadowHue: 0
- SplitToningShadowSaturation: 0
- Texture: 0
- Tint: +10
- ToneCurve: 0, 0, 255, 255
- ToneCurveBlue: 0, 0, 255, 255
- ToneCurveGreen: 0, 0, 255, 255
- ToneCurveName: Linear
- ToneCurveName2012: Custom
- ToneCurvePV2012: 0, 0, 42, 50, 124, 124, 255, 255
- ToneCurvePV2012Blue: 0, 0, 44, 20, 114, 122, 177, 203, 255, 255
- ToneCurvePV2012Green: 0, 0, 43, 22, 114, 121, 177, 204, 219, 236, 255, 255
- ToneCurvePV2012Red: 0, 0, 43, 20, 114, 122, 178, 203, 255, 255
- ToneCurveRed: 0, 0, 255, 255
- ToneMapStrength: 0
- Version: 11.4.1
- Vibrance: 0
- VignetteAmount: 0
- WhiteBalance: Custom
- Whites2012: 0
- XMP-dc
- XMP-exifEX
- XMP-xmp
- CreateDate: 2020:08:29 14:15:07.796
- ModifyDate: 2020:08:31 19:53:28+03:00
- XMP-xmpMM
- PreservedFileName: _1080046.RW2
- Просмотров: 218
- Рейтинг: голосов еще нет
- Отзывов: 0