- Раздел: Другое, разное
- Дата съёмки: неизвестно
- Дата загрузки фото: 09.02.2021 13:07
- Оригинальная фотография: 4314 x 3236 (6,9 Мб)
- Технические характеристики:
- Фотоаппарат: Olympus E-M1
- Выдержка: 0,0
- Гиперфокальное расстояние: inf m
- Диафрагма: 3,5
- Светочувствительность: 200
- Фокусное расстояние: 30,0 mm (35 mm equivalent: 60,0 mm)
- Полный EXIF
- Adobe
- ColorTransform: YCbCr
- Composite
- Aperture: 3,5
- CircleOfConfusion: 0,015 mm
- FOV: 33,0 deg
- FocalLength35efl: 30,0 mm (35 mm equivalent: 60,0 mm)
- HyperfocalDistance: inf m
- Megapixels: 14,0
- ScaleFactor35efl: 2,0
- ShutterSpeed: 0,0
- ExifIFD
- ApertureValue: 2,8
- CFAPattern: [Blue,Green][Green,Red]
- ColorSpace: sRGB
- Contrast: Normal
- CreateDate: 2020:03:27 12:05:52
- CustomRendered: Normal
- DateTimeOriginal: 2020:03:27 12:05:52
- DigitalZoomRatio: 1
- ExposureCompensation: 0
- ExposureMode: Auto
- ExposureProgram: Aperture-priority AE
- ExposureTime: 0,0
- FNumber: 3,5
- Flash: Auto, Did not fire
- FocalLength: 30,0 mm
- FocalLengthIn35mmFormat: 60 mm
- GainControl: Low gain up
- ISO: 200
- LensInfo: 30mm f/3.5
- LensModel: OLYMPUS M.30mm F3.5 Macro
- LensSerialNumber: ACBA38196
- LightSource: Unknown
- MaxApertureValue: 2,8
- MeteringMode: Center-weighted average
- Saturation: Normal
- SceneCaptureType: Standard
- SensitivityType: Standard Output Sensitivity
- SerialNumber: BHP270561
- Sharpness: Hard
- ShutterSpeedValue: 1/128
- WhiteBalance: Auto
- ICC-header
- ICC-meas
- ICC-view
- IFD0
- ImageDescription: OLYMPUS DIGITAL CAMERA
- Make: OLYMPUS IMAGING CORP.
- Model: E-M1
- ModifyDate: 2020:03:27 18:13:38
- IFD1
- IPTC
- Caption-Abstract: OLYMPUS DIGITAL CAMERA
- DateCreated: 2020:03:27
- System
- XMP-aux
- ApproximateFocusDistance: 0,98
- DistortionCorrectionAlreadyApplied: True
- FlashCompensation: 0
- LateralChromaticAberrationCorrectionAlreadyApplied: True
- Lens: OLYMPUS M.30mm F3.5 Macro
- XMP-crs
- AlreadyApplied: True
- AutoLateralCA: 0
- Blacks2012: +25
- BlueHue: -20
- BlueSaturation: -5
- CameraProfile: Agfa Vista 100 - O
- Clarity2012: -5
- ColorNoiseReduction: 25
- ColorNoiseReductionDetail: 50
- ColorNoiseReductionSmoothness: 50
- ColorTemperature: 6250
- Contrast2012: 0
- ConvertToGrayscale: False
- CropAngle: 0
- CropBottom: 0.977823
- CropConstrainToWarp: 0
- CropLeft: 0.033525
- CropRight: 0.969617
- CropTop: 0.041731
- DefringeGreenAmount: 0
- DefringeGreenHueHi: 60
- DefringeGreenHueLo: 40
- DefringePurpleAmount: 0
- DefringePurpleHueHi: 70
- DefringePurpleHueLo: 30
- Dehaze: 0
- Exposure2012: 0.00
- GrainAmount: 0
- GreenHue: +35
- GreenSaturation: +5
- HasCrop: True
- HasSettings: True
- Highlights2012: -50
- HueAdjustmentAqua: +10
- HueAdjustmentBlue: 0
- HueAdjustmentGreen: +10
- HueAdjustmentMagenta: +30
- HueAdjustmentOrange: +5
- HueAdjustmentPurple: +20
- HueAdjustmentRed: +5
- HueAdjustmentYellow: 0
- LensManualDistortionAmount: 0
- LensProfileEnable: 0
- LensProfileSetup: LensDefaults
- LookName:
- LuminanceAdjustmentAqua: 0
- LuminanceAdjustmentBlue: -25
- LuminanceAdjustmentGreen: 0
- LuminanceAdjustmentMagenta: 0
- LuminanceAdjustmentOrange: 0
- LuminanceAdjustmentPurple: -15
- LuminanceAdjustmentRed: +5
- LuminanceAdjustmentYellow: +10
- LuminanceSmoothing: 0
- OverrideLookVignette: False
- ParametricDarks: 0
- ParametricHighlightSplit: 75
- ParametricHighlights: 0
- ParametricLights: 0
- ParametricMidtoneSplit: 48
- ParametricShadowSplit: 20
- ParametricShadows: 0
- PerspectiveAspect: 0
- PerspectiveHorizontal: 0
- PerspectiveRotate: 0.0
- PerspectiveScale: 100
- PerspectiveUpright: 0
- PerspectiveVertical: 0
- PerspectiveX: 0.00
- PerspectiveY: 0.00
- PostCropVignetteAmount: 0
- ProcessVersion: 11.0
- RawFileName: _3270219.ORF
- RedHue: +25
- RedSaturation: +40
- Saturation: -5
- SaturationAdjustmentAqua: -35
- SaturationAdjustmentBlue: -30
- SaturationAdjustmentGreen: -35
- SaturationAdjustmentMagenta: -45
- SaturationAdjustmentOrange: -20
- SaturationAdjustmentPurple: -45
- SaturationAdjustmentRed: -20
- SaturationAdjustmentYellow: -20
- ShadowTint: -4
- Shadows2012: +45
- SharpenDetail: 25
- SharpenEdgeMasking: 0
- SharpenRadius: +1.0
- Sharpness: 0
- SplitToningBalance: 0
- SplitToningHighlightHue: 0
- SplitToningHighlightSaturation: 0
- SplitToningShadowHue: 0
- SplitToningShadowSaturation: 0
- Texture: 0
- Tint: -4
- ToneCurve: 0, 0, 255, 255
- ToneCurveBlue: 0, 0, 255, 255
- ToneCurveGreen: 0, 0, 255, 255
- ToneCurveName: Linear
- ToneCurveName2012: Custom
- ToneCurvePV2012: 0, 3, 255, 249
- ToneCurvePV2012Blue: 0, 0, 36, 10, 76, 46, 122, 118, 183, 206, 222, 235, 255, 255
- ToneCurvePV2012Green: 0, 0, 36, 10, 76, 46, 124, 122, 181, 201, 219, 230, 255, 255
- ToneCurvePV2012Red: 0, 0, 40, 9, 76, 46, 126, 122, 182, 204, 255, 255
- ToneCurveRed: 0, 0, 255, 255
- ToneMapStrength: 0
- Version: 11.4.1
- Vibrance: 0
- VignetteAmount: 0
- WhiteBalance: As Shot
- Whites2012: -30
- XMP-dc
- Description: OLYMPUS DIGITAL CAMERA
- Format: image/jpeg
- XMP-exifEX
- XMP-xmp
- ModifyDate: 2020:03:27 18:13:38+03:00
- XMP-xmpMM
- PreservedFileName: _3270219.ORF
- Просмотров: 146
- Рейтинг: голосов еще нет
- Отзывов: 0