- Раздел: Другое, разное
- Дата съёмки: неизвестно
- Дата загрузки фото: 10.02.2021 19:04
- Оригинальная фотография: 4592 x 3448 (18,7 Мб)
- Технические характеристики:
- Фотоаппарат: Panasonic DMC-GX80
- Выдержка: 0,0
- Гиперфокальное расстояние: inf m
- Диафрагма: 8,0
- Светочувствительность: 640
- Фокусное расстояние: 30,0 mm (35 mm equivalent: 60,0 mm)
- Полный EXIF
- Composite
- Aperture: 8,0
- CircleOfConfusion: 0,015 mm
- FOV: 33,0 deg
- FocalLength35efl: 30,0 mm (35 mm equivalent: 60,0 mm)
- HyperfocalDistance: inf m
- Megapixels: 15,8
- ScaleFactor35efl: 2,0
- ShutterSpeed: 0,0
- ExifIFD
- ApertureValue: 8,0
- ColorSpace: sRGB
- Contrast: Normal
- CreateDate: 2020:05:09 12:43:30
- CustomRendered: Normal
- DateTimeOriginal: 2020:05:09 12:43:30
- DigitalZoomRatio: 0
- ExposureCompensation: 0
- ExposureMode: Manual
- ExposureProgram: Manual
- ExposureTime: 0,0
- FNumber: 8,0
- Flash: Off, Did not fire
- FocalLength: 30,0 mm
- FocalLengthIn35mmFormat: 60 mm
- GainControl: High gain up
- ISO: 640
- LensModel: OLYMPUS M.30mm F3.5 Macro
- LensSerialNumber: ACBA38196
- LightSource: Unknown
- MaxApertureValue: 2,8
- MeteringMode: Center-weighted average
- Saturation: Normal
- SceneCaptureType: Standard
- SceneType: Directly photographed
- SensingMethod: One-chip color area
- SerialNumber: XFR1910080010
- Sharpness: Normal
- ShutterSpeedValue: 1/128
- WhiteBalance: Auto
- ICC-header
- ICC-meas
- ICC-view
- IFD0
- Make: Panasonic
- Model: DMC-GX80
- ModifyDate: 2020:05:10 00:35:00
- IPTC
- OriginatingProgram: Topaz Labs
- System
- XMP-aux
- DistortionCorrectionAlreadyApplied: True
- LateralChromaticAberrationCorrectionAlreadyApplied: True
- Lens: OLYMPUS M.30mm F3.5 Macro
- XMP-crs
- AlreadyApplied: True
- AutoLateralCA: 0
- Blacks2012: +30
- BlueHue: -20
- BlueSaturation: -5
- Clarity2012: -5
- ColorNoiseReduction: 25
- ColorNoiseReductionDetail: 50
- ColorNoiseReductionSmoothness: 50
- ColorTemperature: 4100
- Contrast2012: 0
- ConvertToGrayscale: False
- DefringeGreenAmount: 0
- DefringeGreenHueHi: 60
- DefringeGreenHueLo: 40
- DefringePurpleAmount: 0
- DefringePurpleHueHi: 70
- DefringePurpleHueLo: 30
- Dehaze: 0
- Exposure2012: -0.56
- GrainAmount: 0
- GreenHue: +35
- GreenSaturation: +5
- HasCrop: False
- HasSettings: True
- Highlights2012: -90
- HueAdjustmentAqua: +10
- HueAdjustmentBlue: 0
- HueAdjustmentGreen: +10
- HueAdjustmentMagenta: +30
- HueAdjustmentOrange: +5
- HueAdjustmentPurple: +20
- HueAdjustmentRed: +5
- HueAdjustmentYellow: 0
- LensManualDistortionAmount: 0
- LensProfileEnable: 0
- LensProfileSetup: LensDefaults
- LookName:
- LuminanceAdjustmentAqua: 0
- LuminanceAdjustmentBlue: -25
- LuminanceAdjustmentGreen: 0
- LuminanceAdjustmentMagenta: 0
- LuminanceAdjustmentOrange: 0
- LuminanceAdjustmentPurple: -15
- LuminanceAdjustmentRed: +5
- LuminanceAdjustmentYellow: +10
- LuminanceSmoothing: 0
- OverrideLookVignette: False
- ParametricDarks: 0
- ParametricHighlightSplit: 75
- ParametricHighlights: 0
- ParametricLights: 0
- ParametricMidtoneSplit: 48
- ParametricShadowSplit: 20
- ParametricShadows: 0
- PerspectiveAspect: 0
- PerspectiveHorizontal: 0
- PerspectiveRotate: 0.0
- PerspectiveScale: 100
- PerspectiveUpright: 0
- PerspectiveVertical: 0
- PerspectiveX: 0.00
- PerspectiveY: 0.00
- PostCropVignetteAmount: 0
- ProcessVersion: 11.0
- RawFileName: _1050165.RW2
- RedHue: +25
- RedSaturation: +40
- Saturation: -5
- SaturationAdjustmentAqua: -35
- SaturationAdjustmentBlue: -30
- SaturationAdjustmentGreen: -35
- SaturationAdjustmentMagenta: -45
- SaturationAdjustmentOrange: -20
- SaturationAdjustmentPurple: -45
- SaturationAdjustmentRed: -20
- SaturationAdjustmentYellow: -20
- ShadowTint: -4
- Shadows2012: +100
- SharpenDetail: 25
- SharpenEdgeMasking: 0
- SharpenRadius: +1.0
- Sharpness: 16
- SplitToningBalance: 0
- SplitToningHighlightHue: 0
- SplitToningHighlightSaturation: 0
- SplitToningShadowHue: 0
- SplitToningShadowSaturation: 0
- Texture: 0
- Tint: +1
- ToneCurve: 0, 0, 255, 255
- ToneCurveBlue: 0, 0, 255, 255
- ToneCurveGreen: 0, 0, 255, 255
- ToneCurveName: Linear
- ToneCurveName2012: Custom
- ToneCurvePV2012: 0, 0, 20, 23, 90, 92, 194, 192, 255, 255
- ToneCurvePV2012Blue: 0, 0, 36, 10, 76, 46, 122, 118, 183, 206, 222, 235, 255, 255
- ToneCurvePV2012Green: 0, 0, 36, 10, 76, 46, 124, 122, 180, 202, 255, 255
- ToneCurvePV2012Red: 0, 0, 40, 9, 76, 46, 126, 122, 182, 204, 255, 255
- ToneCurveRed: 0, 0, 255, 255
- ToneMapStrength: 0
- Version: 11.4.1
- Vibrance: 0
- VignetteAmount: 0
- WhiteBalance: As Shot
- Whites2012: +42
- XMP-dc
- XMP-exifEX
- XMP-xmp
- CreateDate: 2020:05:09 12:43:30.187
- ModifyDate: 2020:05:10 00:35:00+03:00
- XMP-xmpMM
- PreservedFileName: _1050165.RW2
- Просмотров: 142
- Рейтинг: голосов еще нет
- Отзывов: 0