- Раздел: Другое, разное
- Дата съёмки: 23.09.2007 20:33
- Дата загрузки фото: 24.10.2007 13:07
- Оригинальная фотография: 1845 x 2767 (437 Кб)
- Технические характеристики:
- Фотоаппарат: Canon EOS 10D
- Выдержка: 1/250
- Диафрагма: 5,6
- Светочувствительность: 400
- Фокусное расстояние: 183,0mm
- Экспокоррекция: -1/3
- Полный EXIF
- ColorTransform: YCbCr
- Composite
- Aperture: 5,6
- EV: 10,9
- FocalLength35efl: 183,0mm
- ShutterSpeed: 1/250
- ExifIFD
- ApertureValue: 5,6
- ColorSpace: sRGB
- CreateDate: 2007:09:23 16:53:42
- DateTimeOriginal: 2007:09:23 16:53:42
- ExifImageLength: 2767
- ExifImageWidth: 1845
- ExposureCompensation: -1/3
- ExposureProgram: Aperture-priority AE
- ExposureTime: 1/250
- FNumber: 5,6
- Flash: No Flash
- FocalLength: 183,0mm
- ISO: 400
- MaxApertureValue: 2,8
- MeteringMode: Multi-segment
- ShutterSpeedValue: 1/250
- ICC-header
- ICC-meas
- ICC-view
- IFD0
- Artist: Alex Usenko
- Make: Canon
- Model: Canon EOS 10D
- ModifyDate: 2007:09:23 20:33:35
- Orientation: Horizontal (normal)
- TimeZoneOffset: 2 2
- IFD1
- IPTC
- By-line: Alex Usenko
- XMP-aux
- Firmware: 2.0.0
- Lens: 80.0-200.0 mm
- LensInfo: 80
- OwnerName: Alex Usenko
- SerialNumber: 0930306593
- XMP-crs
- AlreadyApplied: True
- BlueHue: 0
- BlueSaturation: 0
- Brightness: +46
- CameraProfile: ACR 2.4
- ChromaticAberrationB: 0
- ChromaticAberrationR: 0
- Clarity: 20
- ColorNoiseReduction: 50
- Contrast: +50
- ConvertToGrayscale: False
- CropAngle: 0
- CropBottom: 1
- CropHeight: 3
- CropLeft: 0.000602
- CropRight: 0.901456
- CropTop: 0.099145
- CropUnit: 3
- CropWidth: 2
- Defringe: 0
- Exposure: 0.00
- FillLight: 0
- GreenHue: 0
- GreenSaturation: 0
- HasCrop: True
- HasSettings: True
- HighlightRecovery: 0
- HueAdjustmentAqua: 0
- HueAdjustmentBlue: 0
- HueAdjustmentGreen: 0
- HueAdjustmentMagenta: 0
- HueAdjustmentOrange: 0
- HueAdjustmentPurple: 0
- HueAdjustmentRed: 0
- HueAdjustmentYellow: 0
- LuminanceAdjustmentAqua: 0
- LuminanceAdjustmentBlue: 0
- LuminanceAdjustmentGreen: 0
- LuminanceAdjustmentMagenta: 0
- LuminanceAdjustmentOrange: 0
- LuminanceAdjustmentPurple: 0
- LuminanceAdjustmentRed: 0
- LuminanceAdjustmentYellow: 0
- LuminanceSmoothing: 0
- ParametricDarks: 0
- ParametricHighlightSplit: 75
- ParametricHighlights: 0
- ParametricLights: 0
- ParametricMidtoneSplit: 50
- ParametricShadowSplit: 25
- ParametricShadows: 0
- RawFileName: CRW_6683.CRW
- RedHue: 0
- RedSaturation: 0
- Saturation: 0
- SaturationAdjustmentAqua: 0
- SaturationAdjustmentBlue: 0
- SaturationAdjustmentGreen: 0
- SaturationAdjustmentMagenta: 0
- SaturationAdjustmentOrange: 0
- SaturationAdjustmentPurple: 0
- SaturationAdjustmentRed: 0
- SaturationAdjustmentYellow: 0
- ShadowTint: 0
- Shadows: 0
- SharpenDetail: 25
- SharpenEdgeMasking: 0
- SharpenRadius: +1.0
- Sharpness: 0
- SplitToningBalance: 0
- SplitToningHighlightHue: 0
- SplitToningHighlightSaturation: 0
- SplitToningShadowHue: 0
- SplitToningShadowSaturation: 0
- Temperature: 4900
- Tint: +29
- ToneCurve: 0, 0, 32, 22, 64, 56, 128, 128, 192, 196, 255, 255
- ToneCurveName: Medium Contrast
- Version: 4.1
- Vibrance: +36
- VignetteAmount: 0
- WhiteBalance: Custom
- XMP-dc
- Creator: Alex Usenko
- Format: image/jpeg
- XMP-exif
- DateTimeDigitized: 2007:09:23 16:53:42+02:00
- DateTimeOriginal: 2007:09:23 16:53:42+02:00
- ExifImageHeight: 2767
- FlashFired: False
- XMP-tiff
- XMP-xmp
- CreateDate: 2007:09:23 20:33:35+02:00
- ModifyDate: 2007:09:23 20:33:35+02:00
- Rating: 0
- XMP-xmpMM
- DerivedFrom:
- Просмотров: 797
- Рейтинг: голосов еще нет
- Отзывов: 0