- Раздел: Отдых, развлечения
- Дата съёмки: 17.10.2012 16:11
- Дата загрузки фото: 06.03.2021 15:38
- Оригинальная фотография: 1604 x 2400 (465 Кб)
- Технические характеристики:
- Фотоаппарат: Canon EOS 60D
- Выдержка: 0,0
- Гиперфокальное расстояние: inf m
- Диафрагма: 2,5
- Светочувствительность: 320
- Фокусное расстояние: 30,0 mm (35 mm equivalent: 30,0 mm)
- Полный EXIF
- Adobe
- ColorTransform: YCbCr
- Composite
- Aperture: 2,5
- CircleOfConfusion: 0,019 mm
- DOF: inf (0,00 m - inf)
- FOV: 61,0 deg
- Flash: Off, Did not fire
- FocalLength35efl: 30,0 mm (35 mm equivalent: 30,0 mm)
- HyperfocalDistance: inf m
- LensID: Canon EF 17-35mm f/2.8L or Sigma Lens
- Megapixels: 3,8
- ScaleFactor35efl: 1,6
- ShutterSpeed: 0,0
- ExifIFD
- ApertureValue: 2,0
- ColorSpace: sRGB
- CreateDate: 2012:10:17 16:11:45
- CustomRendered: Normal
- DateTimeOriginal: 2012:10:17 16:11:45
- ExifImageHeight: 2400
- ExifImageWidth: 1604
- ExposureCompensation: 0
- ExposureMode: Auto
- ExposureProgram: Aperture-priority AE
- ExposureTime: 0,0
- FNumber: 2,5
- FocalLength: 30,0 mm
- ISO: 320
- LensInfo: 30mm f/?
- LensModel: 30mm
- LensSerialNumber: 0000000000
- MaxApertureValue: 1,4
- MeteringMode: Center-weighted average
- RecommendedExposureIndex: 320
- SceneCaptureType: Standard
- SensitivityType: Recommended Exposure Index
- SerialNumber: 2131200351
- ShutterSpeedValue: 1/32
- SubjectDistance: 2,76 m
- WhiteBalance: Auto
- ICC-header
- ICC-meas
- ICC-view
- IFD0
- Artist: Ypanchintcev Aleksey
- Make: Canon
- Model: Canon EOS 60D
- ModifyDate: 2012:10:19 02:04:42
- Orientation: Horizontal (normal)
- IFD1
- IPTC
- By-line: Ypanchintcev Aleksey
- DateCreated: 2012:10:17
- System
- XMP-aux
- ApproximateFocusDistance: 2,76
- Firmware: 1.1.0
- FlashCompensation: 0
- ImageNumber: 0
- Lens: 30mm
- LensID: 169
- XMP-crs
- AlreadyApplied: True
- BlueHue: 0
- BlueSaturation: +59
- Brightness: +60
- ChromaticAberrationB: 0
- ChromaticAberrationR: 0
- Clarity: 0
- ColorNoiseReduction: 64
- ColorNoiseReductionDetail: 50
- ColorTemperature: 5908
- Contrast: +9
- ConvertToGrayscale: False
- Defringe: 0
- Exposure: +0.32
- FillLight: 51
- GrainAmount: 0
- GreenHue: 0
- GreenSaturation: +10
- HasCrop: False
- HasSettings: True
- HighlightRecovery: 34
- HueAdjustmentAqua: 0
- HueAdjustmentBlue: 0
- HueAdjustmentGreen: 0
- HueAdjustmentMagenta: 0
- HueAdjustmentOrange: 0
- HueAdjustmentPurple: 0
- HueAdjustmentRed: 0
- HueAdjustmentYellow: 0
- LensManualDistortionAmount: 0
- LensProfileEnable: 0
- LensProfileSetup: LensDefaults
- LuminanceAdjustmentAqua: 0
- LuminanceAdjustmentBlue: 0
- LuminanceAdjustmentGreen: 0
- LuminanceAdjustmentMagenta: 0
- LuminanceAdjustmentOrange: 0
- LuminanceAdjustmentPurple: 0
- LuminanceAdjustmentRed: 0
- LuminanceAdjustmentYellow: 0
- LuminanceNoiseReductionContrast: 0
- LuminanceNoiseReductionDetail: 50
- LuminanceSmoothing: 25
- ParametricDarks: -22
- ParametricHighlightSplit: 75
- ParametricHighlights: +15
- ParametricLights: +7
- ParametricMidtoneSplit: 50
- ParametricShadowSplit: 14
- ParametricShadows: -40
- PerspectiveHorizontal: 0
- PerspectiveRotate: 0.0
- PerspectiveScale: 100
- PerspectiveVertical: 0
- PostCropVignetteAmount: 0
- ProcessVersion: 5.7
- RedHue: 0
- RedSaturation: 0
- Saturation: 0
- SaturationAdjustmentAqua: 0
- SaturationAdjustmentBlue: 0
- SaturationAdjustmentGreen: 0
- SaturationAdjustmentMagenta: 0
- SaturationAdjustmentOrange: 0
- SaturationAdjustmentPurple: 0
- SaturationAdjustmentRed: +43
- SaturationAdjustmentYellow: 0
- ShadowTint: 0
- Shadows: 20
- SharpenDetail: 67
- SharpenEdgeMasking: 0
- SharpenRadius: +1.0
- Sharpness: 25
- SplitToningBalance: +100
- SplitToningHighlightHue: 55
- SplitToningHighlightSaturation: 31
- SplitToningShadowHue: 257
- SplitToningShadowSaturation: 68
- Tint: -2
- ToneCurve: 0, 0, 32, 22, 64, 56, 128, 128, 192, 196, 255, 255
- ToneCurveName: Medium Contrast
- Version: 6.6
- Vibrance: -59
- VignetteAmount: -72
- VignetteMidpoint: 28
- WhiteBalance: Custom
- XMP-dc
- Creator: Ypanchintcev Aleksey
- Format: image/jpeg
- XMP-exif
- ApertureValue: 2,5
- DateTimeDigitized: 2012:10:17 16:11:45+07:00
- DateTimeOriginal: 2012:10:17 16:11:45+07:00
- ExposureTime: 1/50
- FlashFired: False
- FlashFunction: False
- FlashMode: Off
- FlashRedEyeMode: False
- FlashReturn: No return detection
- ShutterSpeedValue: 1/50
- XMP-tiff
- XMP-xmp
- CreateDate: 2012:10:17 16:11:45.76
- ModifyDate: 2012:10:19 02:04:42+07:00
- XMP-xmpMM
- Просмотров: 404
- Рейтинг: голосов еще нет
- Отзывов: 0