- Раздел: Отдых, развлечения
- Дата съёмки: 05.12.2011 16:56
- Дата загрузки фото: 06.03.2021 15:38
- Оригинальная фотография: 2400 x 1606 (473 Кб)
- Технические характеристики:
- Фотоаппарат: Canon EOS 30D
- Выдержка: 0,0
- Гиперфокальное расстояние: inf m
- Диафрагма: 3,2
- Светочувствительность: 100
- Фокусное расстояние: 21,0 mm (35 mm equivalent: 21,0 mm)
- Полный EXIF
- Adobe
- ColorTransform: YCbCr
- Composite
- Aperture: 3,2
- CircleOfConfusion: 0,019 mm
- FOV: 81,0 deg
- Flash: Off, Did not fire
- FocalLength35efl: 21,0 mm (35 mm equivalent: 21,0 mm)
- HyperfocalDistance: inf m
- Megapixels: 3,9
- ScaleFactor35efl: 1,6
- ShutterSpeed: 0,0
- ExifIFD
- ApertureValue: 2,8
- ColorSpace: sRGB
- CreateDate: 2011:12:05 16:56:50
- CustomRendered: Normal
- DateTimeOriginal: 2011:12:05 16:56:50
- ExifImageHeight: 1606
- ExifImageWidth: 2400
- ExposureCompensation: 0
- ExposureMode: Manual
- ExposureProgram: Manual
- ExposureTime: 0,0
- FNumber: 3,2
- FocalLength: 21,0 mm
- ISO: 100
- LensInfo: 17-50mm f/?
- LensModel: 17.0-50.0 mm
- MaxApertureValue: 2,0
- MeteringMode: Multi-segment
- OwnerName: Yepanchintcev Aleksey
- SceneCaptureType: Standard
- SerialNumber: 1630900046
- ShutterSpeedValue: 1/64
- WhiteBalance: Auto
- ICC-header
- ICC-meas
- ICC-view
- IFD0
- Artist: Yepanchintcev Aleksey
- Make: Canon
- Model: Canon EOS 30D
- ModifyDate: 2012:12:03 22:51:38
- Orientation: Horizontal (normal)
- IFD1
- IPTC
- By-line: Yepanchintcev Aleksey
- DateCreated: 2011:12:05
- System
- XMP-aux
- Firmware: 1.0.5
- FlashCompensation: 0
- ImageNumber: 32
- Lens: 17.0-50.0 mm
- XMP-crs
- AlreadyApplied: True
- BlueHue: 0
- BlueSaturation: +43
- Brightness: +100
- CameraProfile: ACR 4.4
- ChromaticAberrationB: 0
- ChromaticAberrationR: 0
- Clarity: +38
- ColorNoiseReduction: 57
- ColorNoiseReductionDetail: 50
- ColorTemperature: 5563
- Contrast: +43
- ConvertToGrayscale: False
- CropAngle: 0
- CropBottom: 1
- CropConstrainToWarp: 0
- CropHeight: 2302
- CropLeft: 0
- CropRight: 0.985437
- CropTop: 0.014563
- CropUnit: pixels
- CropWidth: 3453
- Defringe: 0
- Exposure: -0.60
- FillLight: 57
- GrainAmount: 0
- GreenHue: 0
- GreenSaturation: -22
- HasCrop: True
- HasSettings: True
- HighlightRecovery: 31
- HueAdjustmentAqua: 0
- HueAdjustmentBlue: 0
- HueAdjustmentGreen: 0
- HueAdjustmentMagenta: 0
- HueAdjustmentOrange: 0
- HueAdjustmentPurple: 0
- HueAdjustmentRed: 0
- HueAdjustmentYellow: 0
- LensManualDistortionAmount: 0
- LensProfileEnable: 0
- LensProfileSetup: LensDefaults
- LuminanceAdjustmentAqua: 0
- LuminanceAdjustmentBlue: 0
- LuminanceAdjustmentGreen: 0
- LuminanceAdjustmentMagenta: 0
- LuminanceAdjustmentOrange: 0
- LuminanceAdjustmentPurple: 0
- LuminanceAdjustmentRed: 0
- LuminanceAdjustmentYellow: 0
- LuminanceNoiseReductionContrast: 0
- LuminanceNoiseReductionDetail: 50
- LuminanceSmoothing: 30
- ParametricDarks: +31
- ParametricHighlightSplit: 75
- ParametricHighlights: +3
- ParametricLights: -16
- ParametricMidtoneSplit: 50
- ParametricShadowSplit: 25
- ParametricShadows: -25
- PerspectiveHorizontal: 0
- PerspectiveRotate: 0.0
- PerspectiveScale: 100
- PerspectiveVertical: 0
- PostCropVignetteAmount: 0
- ProcessVersion: 5.7
- RedHue: 0
- RedSaturation: -34
- Saturation: +10
- SaturationAdjustmentAqua: -60
- SaturationAdjustmentBlue: +19
- SaturationAdjustmentGreen: -100
- SaturationAdjustmentMagenta: -100
- SaturationAdjustmentOrange: -41
- SaturationAdjustmentPurple: -100
- SaturationAdjustmentRed: 0
- SaturationAdjustmentYellow: -41
- ShadowTint: 0
- Shadows: 10
- SharpenDetail: 69
- SharpenEdgeMasking: 0
- SharpenRadius: +1.0
- Sharpness: 21
- SplitToningBalance: +100
- SplitToningHighlightHue: 62
- SplitToningHighlightSaturation: 8
- SplitToningShadowHue: 245
- SplitToningShadowSaturation: 59
- Tint: -7
- ToneCurve: 0, 0, 32, 22, 64, 56, 128, 128, 192, 196, 255, 255
- ToneCurveName: Medium Contrast
- Version: 6.6
- Vibrance: -8
- VignetteAmount: 0
- WhiteBalance: Custom
- XMP-dc
- Creator: Yepanchintcev Aleksey
- Format: image/jpeg
- XMP-exif
- ApertureValue: 3,2
- DateTimeDigitized: 2011:12:05 16:56:50+07:00
- DateTimeOriginal: 2011:12:05 16:56:50+07:00
- ExposureTime: 1/80
- FlashFired: False
- FlashFunction: False
- FlashMode: Off
- FlashRedEyeMode: False
- FlashReturn: No return detection
- MaxApertureValue: 2,8
- ShutterSpeedValue: 1/80
- XMP-tiff
- XMP-xmp
- CreateDate: 2011:12:05 16:56:50+07:00
- ModifyDate: 2012:12:03 22:51:38+07:00
- XMP-xmpMM
- DerivedFrom:
- Просмотров: 387
- Рейтинг: голосов еще нет
- Отзывов: 0