- Раздел: Отдых, развлечения
- Дата съёмки: 22.05.2010 00:47
- Дата загрузки фото: 06.03.2021 15:45
- Оригинальная фотография: 1200 x 800 (161 Кб)
- Технические характеристики:
- Фотоаппарат: Canon EOS 30D
- Выдержка: 0,0
- Гиперфокальное расстояние: inf m
- Диафрагма: 5,0
- Светочувствительность: 100
- Фокусное расстояние: 50,0 mm (35 mm equivalent: 50,0 mm)
- Полный EXIF
- Adobe
- ColorTransform: YCbCr
- Composite
- Aperture: 5,0
- CircleOfConfusion: 0,019 mm
- FOV: 39,0 deg
- Flash: Off, Did not fire
- FocalLength35efl: 50,0 mm (35 mm equivalent: 50,0 mm)
- HyperfocalDistance: inf m
- LensID: Unknown 50mm
- Megapixels: 0,960
- ScaleFactor35efl: 1,6
- ShutterSpeed: 0,0
- ExifIFD
- ApertureValue: 4,0
- ColorSpace: sRGB
- CreateDate: 2010:05:22 00:47:00
- CustomRendered: Normal
- DateTimeOriginal: 2010:05:22 00:47:00
- ExifImageHeight: 800
- ExifImageWidth: 1200
- ExposureCompensation: 0
- ExposureMode: Manual
- ExposureProgram: Manual
- ExposureTime: 0,0
- FNumber: 5,0
- FocalLength: 50,0 mm
- ISO: 100
- MaxApertureValue: 1,0
- MeteringMode: Average
- SceneCaptureType: Standard
- ShutterSpeedValue: 1/128
- WhiteBalance: Auto
- ICC-header
- ICC-meas
- ICC-view
- IFD0
- Artist: Yepanchintcev Aleksey
- Make: Canon
- Model: Canon EOS 30D
- ModifyDate: 2010:06:09 15:11:52
- Orientation: Horizontal (normal)
- IFD1
- IPTC
- By-line: Yepanchintcev Aleksey
- System
- XMP-aux
- Firmware: 1.0.5
- FlashCompensation: 0
- ImageNumber: 64
- Lens: EF50mm f/1.4 USM
- LensID: 65535
- LensInfo: 50mm f/?
- OwnerName: Yepanchintcev Aleksey
- SerialNumber: 1630900046
- XMP-crs
- AlreadyApplied: True
- BlueHue: 0
- BlueSaturation: 0
- Brightness: +89
- CameraProfile: ACR 4.4
- ChromaticAberrationB: 0
- ChromaticAberrationR: 0
- Clarity: -36
- ColorNoiseReduction: 64
- ColorTemperature: 8243
- Contrast: +36
- ConvertToGrayscale: False
- Defringe: 0
- Exposure: -0.48
- FillLight: 25
- GreenHue: 0
- GreenSaturation: 0
- HasCrop: False
- HasSettings: True
- HighlightRecovery: 39
- HueAdjustmentAqua: 0
- HueAdjustmentBlue: 0
- HueAdjustmentGreen: 0
- HueAdjustmentMagenta: 0
- HueAdjustmentOrange: 0
- HueAdjustmentPurple: 0
- HueAdjustmentRed: 0
- HueAdjustmentYellow: 0
- LuminanceAdjustmentAqua: 0
- LuminanceAdjustmentBlue: 0
- LuminanceAdjustmentGreen: 0
- LuminanceAdjustmentMagenta: 0
- LuminanceAdjustmentOrange: 0
- LuminanceAdjustmentPurple: 0
- LuminanceAdjustmentRed: 0
- LuminanceAdjustmentYellow: 0
- LuminanceSmoothing: 25
- ParametricDarks: +52
- ParametricHighlightSplit: 75
- ParametricHighlights: +36
- ParametricLights: -14
- ParametricMidtoneSplit: 50
- ParametricShadowSplit: 14
- ParametricShadows: -45
- PostCropVignetteAmount: 0
- RedHue: 0
- RedSaturation: 0
- Saturation: -50
- SaturationAdjustmentAqua: +52
- SaturationAdjustmentBlue: +64
- SaturationAdjustmentGreen: 0
- SaturationAdjustmentMagenta: 0
- SaturationAdjustmentOrange: -24
- SaturationAdjustmentPurple: 0
- SaturationAdjustmentRed: +43
- SaturationAdjustmentYellow: -19
- ShadowTint: 0
- Shadows: 26
- SharpenDetail: 67
- SharpenEdgeMasking: 0
- SharpenRadius: +1.0
- Sharpness: 25
- SplitToningBalance: +50
- SplitToningHighlightHue: 60
- SplitToningHighlightSaturation: 20
- SplitToningShadowHue: 55
- SplitToningShadowSaturation: 0
- Tint: -7
- ToneCurve: 0, 0, 32, 22, 64, 56, 128, 128, 192, 196, 255, 255
- ToneCurveName: Medium Contrast
- Version: 5.6.1
- Vibrance: +40
- VignetteAmount: -100
- VignetteMidpoint: 20
- WhiteBalance: Custom
- XMP-dc
- Creator: Yepanchintcev Aleksey
- Format: image/jpeg
- XMP-exif
- ApertureValue: 5,0
- DateTimeDigitized: 2010:05:22 00:47:00+07:00
- DateTimeOriginal: 2010:05:22 00:47:00+07:00
- ExposureTime: 1/200
- FlashFired: False
- FlashFunction: False
- FlashMode: Off
- FlashRedEyeMode: False
- FlashReturn: No return detection
- MaxApertureValue: 1,4
- ShutterSpeedValue: 1/200
- XMP-tiff
- ImageHeight: 2336
- ImageWidth: 3504
- XMP-xmp
- CreateDate: 2010:05:22 00:47:00+07:00
- ModifyDate: 2010:06:09 15:11:52+07:00
- Rating: 5
- XMP-xmpMM
- Просмотров: 327
- Рейтинг: голосов еще нет
- Отзывов: 0