- Раздел: Отдых, развлечения
- Дата съёмки: 11.05.2013 17:20
- Дата загрузки фото: 06.03.2021 15:45
- Оригинальная фотография: 1604 x 2400 (406 Кб)
- Технические характеристики:
- Фотоаппарат: Canon EOS 60D
- Выдержка: 0,0
- Гиперфокальное расстояние: inf m
- Диафрагма: 5,6
- Светочувствительность: 100
- Фокусное расстояние: 50,0 mm (35 mm equivalent: 50,0 mm)
- Полный EXIF
- Adobe
- ColorTransform: YCbCr
- Composite
- Aperture: 5,6
- CircleOfConfusion: 0,019 mm
- FOV: 39,0 deg
- FocalLength35efl: 50,0 mm (35 mm equivalent: 50,0 mm)
- HyperfocalDistance: inf m
- LensID: Canon EF 50mm f/1.4 USM or Zeiss Lens
- Megapixels: 3,8
- ScaleFactor35efl: 1,6
- ShutterSpeed: 0,0
- ExifIFD
- ApertureValue: 4,0
- ColorSpace: sRGB
- CreateDate: 2013:05:11 17:20:58
- CustomRendered: Normal
- DateTimeOriginal: 2013:05:11 17:20:58
- ExifImageHeight: 2400
- ExifImageWidth: 1604
- ExposureCompensation: 0
- ExposureMode: Manual
- ExposureProgram: Manual
- ExposureTime: 0,0
- FNumber: 5,6
- Flash: Off, Did not fire
- FocalLength: 50,0 mm
- ISO: 100
- LensInfo: 50mm f/?
- LensModel: EF50mm f/1.4 USM
- LensSerialNumber: 0000000000
- MaxApertureValue: 1,4
- MeteringMode: Multi-segment
- RecommendedExposureIndex: 100
- SceneCaptureType: Standard
- SensitivityType: Recommended Exposure Index
- SerialNumber: 2131200351
- ShutterSpeedValue: 1/128
- WhiteBalance: Auto
- ICC-header
- ICC-meas
- ICC-view
- IFD0
- Artist: Ypanchintcev Aleksey
- BitsPerSample: 8 8 8
- ImageHeight: 4945
- ImageWidth: 3297
- Make: Canon
- Model: Canon EOS 60D
- ModifyDate: 2013:08:03 15:58:05
- Orientation: Horizontal (normal)
- PhotometricInterpretation: RGB
- SamplesPerPixel: 3
- IFD1
- IPTC
- By-line: Ypanchintcev Aleksey
- DateCreated: 2013:05:11
- System
- XMP-aux
- Firmware: 1.1.0
- FlashCompensation: 0
- ImageNumber: 0
- Lens: EF50mm f/1.4 USM
- LensID: 198
- XMP-crs
- AlreadyApplied: True
- AutoLateralCA: 0
- Blacks2012: -23
- BlueHue: 0
- BlueSaturation: -57
- Clarity2012: 0
- ColorNoiseReduction: 48
- ColorNoiseReductionDetail: 50
- ColorTemperature: 6850
- Contrast2012: -2
- ConvertToGrayscale: False
- CropAngle: 0
- CropBottom: 0.953917
- CropConstrainToWarp: 0
- CropHeight: 3297
- CropLeft: 0
- CropRight: 0.953917
- CropTop: 0
- CropUnit: pixels
- CropWidth: 4945
- DefringeGreenAmount: 0
- DefringeGreenHueHi: 60
- DefringeGreenHueLo: 40
- DefringePurpleAmount: 0
- DefringePurpleHueHi: 70
- DefringePurpleHueLo: 30
- Exposure2012: +1.48
- GrainAmount: 0
- GreenHue: 0
- GreenSaturation: -9
- HasCrop: True
- HasSettings: True
- Highlights2012: 0
- HueAdjustmentAqua: 0
- HueAdjustmentBlue: 0
- HueAdjustmentGreen: -74
- HueAdjustmentMagenta: 0
- HueAdjustmentOrange: 0
- HueAdjustmentPurple: 0
- HueAdjustmentRed: 0
- HueAdjustmentYellow: 0
- LensManualDistortionAmount: 0
- LensProfileEnable: 0
- LensProfileSetup: LensDefaults
- LuminanceAdjustmentAqua: 0
- LuminanceAdjustmentBlue: 0
- LuminanceAdjustmentGreen: 0
- LuminanceAdjustmentMagenta: +50
- LuminanceAdjustmentOrange: 0
- LuminanceAdjustmentPurple: 0
- LuminanceAdjustmentRed: 0
- LuminanceAdjustmentYellow: 0
- LuminanceNoiseReductionContrast: 0
- LuminanceNoiseReductionDetail: 50
- LuminanceSmoothing: 24
- ParametricDarks: -41
- ParametricHighlightSplit: 75
- ParametricHighlights: -29
- ParametricLights: -62
- ParametricMidtoneSplit: 50
- ParametricShadowSplit: 25
- ParametricShadows: -25
- PerspectiveHorizontal: 0
- PerspectiveRotate: 0.0
- PerspectiveScale: 100
- PerspectiveVertical: 0
- PostCropVignetteAmount: 0
- ProcessVersion: 6.7
- RedHue: 0
- RedSaturation: 0
- Saturation: 0
- SaturationAdjustmentAqua: 0
- SaturationAdjustmentBlue: 0
- SaturationAdjustmentGreen: 0
- SaturationAdjustmentMagenta: 0
- SaturationAdjustmentOrange: -26
- SaturationAdjustmentPurple: 0
- SaturationAdjustmentRed: 0
- SaturationAdjustmentYellow: -50
- ShadowTint: 0
- Shadows2012: +55
- SharpenDetail: 69
- SharpenEdgeMasking: 0
- SharpenRadius: +1.0
- Sharpness: 21
- SplitToningBalance: +100
- SplitToningHighlightHue: 46
- SplitToningHighlightSaturation: 19
- SplitToningShadowHue: 266
- SplitToningShadowSaturation: 57
- Tint: +5
- ToneCurveName2012: Linear
- ToneCurvePV2012: 0, 0, 255, 255
- ToneCurvePV2012Blue: 0, 0, 255, 255
- ToneCurvePV2012Green: 0, 0, 255, 255
- ToneCurvePV2012Red: 0, 0, 255, 255
- Version: 7.4
- Vibrance: 0
- VignetteAmount: -100
- VignetteMidpoint: 50
- WhiteBalance: Custom
- Whites2012: 0
- XMP-dc
- Creator: Ypanchintcev Aleksey
- Format: image/jpeg
- XMP-xmp
- CreateDate: 2013:05:11 17:20:58.02
- ModifyDate: 2013:08:03 15:58:05+07:00
- XMP-xmpMM
- Просмотров: 420
- Рейтинг: голосов еще нет
- Отзывов: 0