- Раздел: Автомобили
- Дата съёмки: неизвестно
- Дата загрузки фото: 09.03.2021 19:36
- Оригинальная фотография: 3008 x 2005 (2,6 Мб)
- Технические характеристики:
- Фотоаппарат: FujiFilm X-T1
- Выдержка: 0,0
- Гиперфокальное расстояние: inf m
- Диафрагма: 1,0
- Светочувствительность: 1000
- Фокусное расстояние: 6,0 mm (35 mm equivalent: 6,0 mm)
- Полный EXIF
- Adobe
- ColorTransform: YCbCr
- Composite
- Aperture: 1,0
- CircleOfConfusion: 0,020 mm
- FOV: 143,0 deg
- FocalLength35efl: 6,0 mm (35 mm equivalent: 6,0 mm)
- HyperfocalDistance: inf m
- Megapixels: 6,0
- ScaleFactor35efl: 1,5
- ShutterSpeed: 0,0
- ExifIFD
- ApertureValue: 1,0
- BrightnessValue: -4,39
- ColorSpace: sRGB
- CreateDate: 2019:03:01 18:28:19
- CustomRendered: Normal
- DateTimeOriginal: 2019:03:01 18:28:19
- ExposureCompensation: 0
- ExposureMode: Manual
- ExposureProgram: Manual
- ExposureTime: 0,0
- FNumber: 1,0
- Flash: No Flash
- FocalLength: 6,0 mm
- FocalLengthIn35mmFormat: 9 mm
- ISO: 1000
- LensInfo: 6mm f/?
- LensModel: 6.0 mm
- LightSource: Unknown
- MeteringMode: Average
- SceneCaptureType: Standard
- SceneType: Directly photographed
- SensingMethod: One-chip color area
- SensitivityType: Standard Output Sensitivity
- Sharpness: Hard
- ShutterSpeedValue: 1/8
- SubjectDistanceRange: Unknown
- WhiteBalance: Auto
- ICC-header
- ICC-meas
- ICC-view
- IFD0
- Make: FUJIFILM
- Model: X-T1
- ModifyDate: 2019:04:17 21:58:42
- IFD1
- IPTC
- DateCreated: 2019:03:01
- System
- XMP-aux
- LateralChromaticAberrationCorrectionAlreadyApplied: True
- Lens: 6.0 mm
- XMP-crs
- AlreadyApplied: True
- AutoLateralCA: 1
- Blacks2012: +25
- BlueHue: -12
- BlueSaturation: -15
- CameraProfile: Portra 160вЃєВ№ - F
- Clarity2012: 0
- ColorNoiseReduction: 42
- ColorNoiseReductionDetail: 50
- ColorNoiseReductionSmoothness: 50
- ColorTemperature: 3200
- Contrast2012: +49
- ConvertToGrayscale: False
- DefringeGreenAmount: 0
- DefringeGreenHueHi: 60
- DefringeGreenHueLo: 40
- DefringePurpleAmount: 0
- DefringePurpleHueHi: 70
- DefringePurpleHueLo: 30
- Dehaze: 0
- Exposure2012: 0.00
- GrainAmount: 37
- GrainFrequency: 35
- GrainSize: 33
- GreenHue: +50
- GreenSaturation: -10
- HasCrop: False
- HasSettings: True
- Highlights2012: -30
- HueAdjustmentAqua: +5
- HueAdjustmentBlue: -4
- HueAdjustmentGreen: +15
- HueAdjustmentMagenta: +25
- HueAdjustmentOrange: +12
- HueAdjustmentPurple: +10
- HueAdjustmentRed: +8
- HueAdjustmentYellow: +10
- LensManualDistortionAmount: 0
- LensProfileEnable: 0
- LensProfileSetup: LensDefaults
- LookName:
- LuminanceAdjustmentAqua: 0
- LuminanceAdjustmentBlue: -10
- LuminanceAdjustmentGreen: 0
- LuminanceAdjustmentMagenta: 0
- LuminanceAdjustmentOrange: -2
- LuminanceAdjustmentPurple: 0
- LuminanceAdjustmentRed: -20
- LuminanceAdjustmentYellow: 0
- LuminanceNoiseReductionContrast: 0
- LuminanceNoiseReductionDetail: 50
- LuminanceSmoothing: 36
- OverrideLookVignette: False
- ParametricDarks: 0
- ParametricHighlightSplit: 75
- ParametricHighlights: 0
- ParametricLights: 0
- ParametricMidtoneSplit: 60
- ParametricShadowSplit: 14
- ParametricShadows: 0
- PerspectiveAspect: 0
- PerspectiveHorizontal: 0
- PerspectiveRotate: 0.0
- PerspectiveScale: 100
- PerspectiveUpright: 1
- PerspectiveVertical: 0
- PerspectiveX: 0.00
- PerspectiveY: 0.00
- PostCropVignetteAmount: 0
- ProcessVersion: 10.0
- RawFileName: DSCF6265.RAF
- RedHue: +30
- RedSaturation: -10
- Saturation: 0
- SaturationAdjustmentAqua: -10
- SaturationAdjustmentBlue: -10
- SaturationAdjustmentGreen: -20
- SaturationAdjustmentMagenta: -20
- SaturationAdjustmentOrange: -2
- SaturationAdjustmentPurple: 0
- SaturationAdjustmentRed: -20
- SaturationAdjustmentYellow: -5
- ShadowTint: 0
- Shadows2012: +30
- SharpenDetail: 95
- SharpenEdgeMasking: 0
- SharpenRadius: +0.8
- Sharpness: 29
- SplitToningBalance: 0
- SplitToningHighlightHue: 0
- SplitToningHighlightSaturation: 0
- SplitToningShadowHue: 0
- SplitToningShadowSaturation: 0
- Tint: +19
- ToneCurve: 0, 0, 255, 255
- ToneCurveBlue: 0, 0, 255, 255
- ToneCurveGreen: 0, 0, 255, 255
- ToneCurveName: Linear
- ToneCurveName2012: Custom
- ToneCurvePV2012: 0, 0, 21, 29, 51, 61, 91, 97, 168, 170, 255, 255
- ToneCurvePV2012Blue: 0, 0, 44, 18, 80, 63, 117, 122, 179, 200, 255, 255
- ToneCurvePV2012Green: 0, 0, 46, 20, 117, 122, 179, 200, 255, 255
- ToneCurvePV2012Red: 0, 0, 47, 18, 80, 62, 117, 122, 179, 200, 255, 255
- ToneCurveRed: 0, 0, 255, 255
- ToneMapStrength: 0
- Version: 10.5
- Vibrance: 0
- VignetteAmount: 0
- WhiteBalance: As Shot
- Whites2012: +43
- XMP-dc
- XMP-xmp
- ModifyDate: 2019:04:17 21:58:42+06:00
- XMP-xmpMM
- Просмотров: 134
- Рейтинг: голосов еще нет
- Отзывов: 0