- Раздел: Аудио-видео техника
- Дата съёмки: неизвестно
- Дата загрузки фото: 16.04.2021 14:17
- Оригинальная фотография: 3933 x 2950 (2,7 Мб)
- Технические характеристики:
- Фотоаппарат: Apple iPhone 11 Pro
- Выдержка: 0,0
- Гиперфокальное расстояние: inf m
- Диафрагма: 2,0
- Светочувствительность: 160
- Фокусное расстояние: 6,0 mm (35 mm equivalent: 48,0 mm)
- Полный EXIF
- Adobe
- ColorTransform: YCbCr
- Composite
- Aperture: 2,0
- CircleOfConfusion: 0,003 mm
- FOV: 41,0 deg
- FocalLength35efl: 6,0 mm (35 mm equivalent: 48,0 mm)
- HyperfocalDistance: inf m
- Megapixels: 11,6
- ScaleFactor35efl: 8,7
- ShutterSpeed: 0,0
- ExifIFD
- ApertureValue: 2,0
- BrightnessValue: 1,926968183
- ColorSpace: sRGB
- CreateDate: 2021:04:16 12:44:15
- DateTimeOriginal: 2021:04:16 12:44:15
- ExposureCompensation: 0
- ExposureMode: Auto
- ExposureProgram: Program AE
- ExposureTime: 0,0
- FNumber: 2,0
- Flash: Auto, Did not fire
- FocalLength: 6,0 mm
- FocalLengthIn35mmFormat: 52 mm
- ISO: 160
- LensInfo: 1.539999962-6mm f/1.8-2.4
- LensMake: Apple
- LensModel: iPhone 11 Pro back triple camera 6mm f/2
- MeteringMode: Spot
- SceneCaptureType: Standard
- SceneType: Directly photographed
- SensingMethod: One-chip color area
- ShutterSpeedValue: 1/32
- SubjectArea: 2992 940 739 747
- WhiteBalance: Auto
- ICC-header
- ICC-meas
- ICC-view
- IFD0
- Make: Apple
- Model: iPhone 11 Pro
- ModifyDate: 2021:04:16 14:05:59
- Software: 14.4.2
- IFD1
- IPTC
- DateCreated: 2021:04:16
- System
- XMP-aux
- Lens: iPhone 11 Pro back triple camera 6mm f/2
- LensInfo: 1.53999996185121-6mm f/1.8-2.4
- XMP-crs
- AlreadyApplied: True
- AutoLateralCA: 0
- Blacks2012: 0
- BlueHue: 0
- BlueSaturation: 0
- CameraProfile: Embedded
- Clarity2012: 0
- ColorGradeBlending: 50
- ColorGradeGlobalHue: 0
- ColorGradeGlobalLum: 0
- ColorGradeGlobalSat: 0
- ColorGradeHighlightLum: 0
- ColorGradeMidtoneHue: 0
- ColorGradeMidtoneLum: 0
- ColorGradeMidtoneSat: 0
- ColorGradeShadowLum: 0
- ColorNoiseReduction: 0
- Contrast2012: +10
- ConvertToGrayscale: False
- CropAngle: -0.62
- CropBottom: 0.980636
- CropConstrainToWarp: 0
- CropLeft: 0.013435
- CropRight: 0.996847
- CropTop: 0.019216
- DefringeGreenAmount: 0
- DefringeGreenHueHi: 60
- DefringeGreenHueLo: 40
- DefringePurpleAmount: 0
- DefringePurpleHueHi: 70
- DefringePurpleHueLo: 30
- Dehaze: 0
- Exposure2012: 0.00
- GrainAmount: 0
- GreenHue: 0
- GreenSaturation: 0
- HasCrop: True
- HasSettings: True
- Highlights2012: 0
- HueAdjustmentAqua: 0
- HueAdjustmentBlue: 0
- HueAdjustmentGreen: 0
- HueAdjustmentMagenta: 0
- HueAdjustmentOrange: 0
- HueAdjustmentPurple: 0
- HueAdjustmentRed: 0
- HueAdjustmentYellow: 0
- IncrementalTemperature: 0
- IncrementalTint: 0
- LensManualDistortionAmount: 0
- LensProfileEnable: 0
- LuminanceAdjustmentAqua: 0
- LuminanceAdjustmentBlue: 0
- LuminanceAdjustmentGreen: 0
- LuminanceAdjustmentMagenta: 0
- LuminanceAdjustmentOrange: 0
- LuminanceAdjustmentPurple: 0
- LuminanceAdjustmentRed: 0
- LuminanceAdjustmentYellow: 0
- LuminanceSmoothing: 0
- OverrideLookVignette: False
- ParametricDarks: 0
- ParametricHighlightSplit: 75
- ParametricHighlights: 0
- ParametricLights: 0
- ParametricMidtoneSplit: 50
- ParametricShadowSplit: 25
- ParametricShadows: 0
- PerspectiveAspect: 0
- PerspectiveHorizontal: 0
- PerspectiveRotate: 0.0
- PerspectiveScale: 100
- PerspectiveUpright: 0
- PerspectiveVertical: 0
- PerspectiveX: 0.00
- PerspectiveY: 0.00
- PostCropVignetteAmount: 0
- ProcessVersion: 11.0
- RedHue: 0
- RedSaturation: 0
- Saturation: 0
- SaturationAdjustmentAqua: 0
- SaturationAdjustmentBlue: 0
- SaturationAdjustmentGreen: 0
- SaturationAdjustmentMagenta: 0
- SaturationAdjustmentOrange: 0
- SaturationAdjustmentPurple: 0
- SaturationAdjustmentRed: 0
- SaturationAdjustmentYellow: 0
- ShadowTint: 0
- Shadows2012: 0
- Sharpness: 0
- SplitToningBalance: 0
- SplitToningHighlightHue: 0
- SplitToningHighlightSaturation: 0
- SplitToningShadowHue: 0
- SplitToningShadowSaturation: 0
- Texture: 0
- ToneCurveName2012: Linear
- ToneCurvePV2012: 0, 0, 255, 255
- ToneCurvePV2012Blue: 0, 0, 255, 255
- ToneCurvePV2012Green: 0, 0, 255, 255
- ToneCurvePV2012Red: 0, 0, 255, 255
- Version: 13.2
- Vibrance: 0
- VignetteAmount: 0
- WhiteBalance: As Shot
- Whites2012: 0
- XMP-dc
- XMP-mwg-rs
- RegionAppliedToDimensionsH: 3168
- RegionAppliedToDimensionsUnit: pixel
- RegionAppliedToDimensionsW: 4224
- RegionAreaH: 0.036666666666666681, 0.042952380952380964, 0.042952, 0.036667
- RegionAreaUnit: normalized, normalized, normalized, normalized
- RegionAreaW: 0.026190476190476208, 0.030380952380952397, 0.030381, 0.026190
- RegionAreaX: 0.72680952380952379, 0.68700000000000006, 0.687000, 0.726810
- RegionAreaY: 0.27004761904761898, 0.26061904761904758, 0.260619, 0.270048
- RegionExtensionsAngleInfoRoll: 0
- RegionExtensionsAngleInfoYaw: 0
- RegionExtensionsConfidenceLevel: 186
- RegionExtensionsFaceID: 2
- RegionType: Face, Face, Face, Face
- XMP-xmp
- CreateDate: 2021:04:16 12:44:15.113+03:00
- CreatorTool: 14.4.2
- ModifyDate: 2021:04:16 14:05:59+03:00
- XMP-xmpMM
- Просмотров: 260
- Рейтинг: голосов еще нет
- Отзывов: отключены