- Раздел: Другое, разное
- Дата съёмки: неизвестно
- Дата загрузки фото: 02.05.2021 23:06
- Оригинальная фотография: 5000 x 3750 (8,4 Мб)
- Технические характеристики:
- Фотоаппарат: Olympus E-M1X
- Выдержка: 0,0
- Гиперфокальное расстояние: inf m
- Диафрагма: 4,0
- Светочувствительность: 200
- Фокусное расстояние: 21,0 mm (35 mm equivalent: 42,0 mm)
- Полный EXIF
- Adobe
- ColorTransform: YCbCr
- Composite
- Aperture: 4,0
- CircleOfConfusion: 0,015 mm
- FOV: 46,0 deg
- FocalLength35efl: 21,0 mm (35 mm equivalent: 42,0 mm)
- HyperfocalDistance: inf m
- Megapixels: 18,8
- ScaleFactor35efl: 2,0
- ShutterSpeed: 0,0
- ExifIFD
- Acceleration: 978719
- AmbientTemperature: 14,1 C
- ApertureValue: 4,0
- CFAPattern: [Red,Green][Green,Blue]
- ColorSpace: sRGB
- Contrast: Normal
- CreateDate: 2021:05:01 15:01:04
- CustomRendered: Normal
- DateTimeOriginal: 2021:05:01 15:01:04
- DigitalZoomRatio: 1
- ExposureCompensation: 0
- ExposureMode: Auto
- ExposureProgram: Aperture-priority AE
- ExposureTime: 0,0
- FNumber: 4,0
- Flash: Off, Did not fire
- FocalLength: 21,0 mm
- FocalLengthIn35mmFormat: 42 mm
- GainControl: None
- ISO: 200
- LensInfo: 12-40mm f/2.8
- LensModel: OLYMPUS M.12-40mm F2.8
- LensSerialNumber: AC5342488
- LightSource: Unknown
- MaxApertureValue: 2,8
- MeteringMode: Center-weighted average
- Pressure: 1006
- Saturation: Normal
- SceneCaptureType: Standard
- SensitivityType: Standard Output Sensitivity
- SerialNumber: BJ4A09038
- Sharpness: Normal
- ShutterSpeedValue: 1/2048
- WaterDepth: -0
- WhiteBalance: Manual
- ICC-header
- ICC-meas
- ICC-view
- IFD0
- Make: OLYMPUS CORPORATION
- Model: E-M1X
- ModifyDate: 2021:05:02 20:06:22
- IFD1
- IPTC
- DateCreated: 2021:05:01
- System
- XMP-aux
- DistortionCorrectionAlreadyApplied: True
- FlashCompensation: 0
- LateralChromaticAberrationCorrectionAlreadyApplied: True
- Lens: OLYMPUS M.12-40mm F2.8
- XMP-crs
- AlreadyApplied: True
- AutoLateralCA: 0
- Blacks2012: +7
- BlueHue: 0
- BlueSaturation: 0
- Clarity2012: 0
- ColorGradeBlending: 50
- ColorGradeGlobalHue: 0
- ColorGradeGlobalLum: 0
- ColorGradeGlobalSat: 0
- ColorGradeHighlightLum: -100
- ColorGradeMidtoneHue: 213
- ColorGradeMidtoneLum: +4
- ColorGradeMidtoneSat: 12
- ColorGradeShadowLum: +1
- ColorNoiseReduction: 25
- ColorNoiseReductionDetail: 50
- ColorNoiseReductionSmoothness: 50
- ColorTemperature: 9806
- Contrast2012: -16
- CropAngle: 0
- CropBottom: 1
- CropConstrainToWarp: 0
- CropLeft: 0.065173
- CropRight: 1
- CropTop: 0.065173
- DefringeGreenAmount: 0
- DefringeGreenHueHi: 60
- DefringeGreenHueLo: 40
- DefringePurpleAmount: 0
- DefringePurpleHueHi: 70
- DefringePurpleHueLo: 30
- Dehaze: 0
- Exposure2012: 0.00
- GradientBasedCorrActive: true
- GradientBasedCorrAmount: 1.000000
- GradientBasedCorrBrightness: 0.000000
- GradientBasedCorrClarity2012: 0.000000
- GradientBasedCorrContrast2012: 0.000000
- GradientBasedCorrCorrectionRangeMaskColorAmount: 0.500000
- GradientBasedCorrCorrectionRangeMaskDepthFeather: 0.500000
- GradientBasedCorrCorrectionRangeMaskDepthMax: 1.000000
- GradientBasedCorrCorrectionRangeMaskDepthMin: 0.000000
- GradientBasedCorrCorrectionRangeMaskLumFeather: 0.500000
- GradientBasedCorrCorrectionRangeMaskLumMax: 1.000000
- GradientBasedCorrCorrectionRangeMaskLumMin: 0.000000
- GradientBasedCorrCorrectionRangeMaskType: 0
- GradientBasedCorrCorrectionRangeMaskVersion: +2
- GradientBasedCorrDefringe: 0.000000
- GradientBasedCorrExposure2012: -0.182500
- GradientBasedCorrHighlights2012: -1.000000
- GradientBasedCorrHue: 0.000000
- GradientBasedCorrLocalBlacks2012: 0.148650
- GradientBasedCorrLocalDehaze: 0.000000
- GradientBasedCorrLocalHue: 0.000000
- GradientBasedCorrLocalTexture: -0.006760
- GradientBasedCorrLocalWhites2012: 0.000000
- GradientBasedCorrLuminanceNoise: 0.000000
- GradientBasedCorrMaskFullX: 0.501457
- GradientBasedCorrMaskFullY: 0.484934
- GradientBasedCorrMaskValue: 1.000000
- GradientBasedCorrMaskWhat: Mask/Gradient
- GradientBasedCorrMaskZeroX: 0.496262
- GradientBasedCorrMaskZeroY: 0.760855
- GradientBasedCorrMoire: 0.000000
- GradientBasedCorrSaturation: 0.000000
- GradientBasedCorrShadows2012: -0.229730
- GradientBasedCorrSharpness: 0.000000
- GradientBasedCorrTemperature: 0.000000
- GradientBasedCorrTint: 0.000000
- GradientBasedCorrWhat: Correction
- GrainAmount: 0
- GrainFrequency: 35
- GrainSize: 35
- GreenHue: +10
- GreenSaturation: -10
- HasCrop: True
- HasSettings: True
- Highlights2012: -100
- HueAdjustmentAqua: +10
- HueAdjustmentBlue: +10
- HueAdjustmentGreen: +18
- HueAdjustmentMagenta: +15
- HueAdjustmentOrange: -10
- HueAdjustmentPurple: +20
- HueAdjustmentRed: +12
- HueAdjustmentYellow: -15
- LensManualDistortionAmount: 0
- LensProfileEnable: 0
- LookAmount: 1.000000
- LookGroup: Modern
- LookName: Modern 10
- LookParametersConvertToGrayscale: False
- LookParametersLookTable: E1095149FDB39D7A057BAB208837E2E1
- LookParametersProcessVersion: 11.0
- LookParametersRGBTable: 92C15ED8435601CACD2E0A020A6EB83E
- LookParametersRGBTableAmount: 0.5
- LookParametersVersion: 13.2
- LookSupportsMonochrome: false
- LuminanceAdjustmentAqua: -15
- LuminanceAdjustmentBlue: -25
- LuminanceAdjustmentGreen: -25
- LuminanceAdjustmentMagenta: -15
- LuminanceAdjustmentOrange: -15
- LuminanceAdjustmentPurple: -5
- LuminanceAdjustmentRed: -20
- LuminanceAdjustmentYellow: 0
- LuminanceSmoothing: 0
- OverrideLookVignette: False
- ParametricDarks: 0
- ParametricHighlightSplit: 75
- ParametricHighlights: 0
- ParametricLights: +10
- ParametricMidtoneSplit: 48
- ParametricShadowSplit: 14
- ParametricShadows: -10
- PerspectiveAspect: 0
- PerspectiveHorizontal: 0
- PerspectiveRotate: 0.0
- PerspectiveScale: 100
- PerspectiveUpright: 5
- PerspectiveVertical: 0
- PerspectiveX: 0.00
- PerspectiveY: 0.00
- PostCropVignetteAmount: 0
- ProcessVersion: 11.0
- RawFileName: _5010295.ORF
- RedHue: +10
- RedSaturation: +10
- Saturation: +4
- SaturationAdjustmentAqua: 0
- SaturationAdjustmentBlue: 0
- SaturationAdjustmentGreen: -10
- SaturationAdjustmentMagenta: -15
- SaturationAdjustmentOrange: 0
- SaturationAdjustmentPurple: 0
- SaturationAdjustmentRed: -10
- SaturationAdjustmentYellow: 0
- ShadowTint: -5
- Shadows2012: +10
- SharpenDetail: 30
- SharpenEdgeMasking: 0
- SharpenRadius: +3.0
- Sharpness: 100
- SplitToningBalance: 0
- SplitToningHighlightHue: 275
- SplitToningHighlightSaturation: 0
- SplitToningShadowHue: 195
- SplitToningShadowSaturation: 20
- Texture: 0
- Tint: -1
- ToneCurveName2012: Velvia 50
- ToneCurvePV2012: 0, 0, 255, 255
- ToneCurvePV2012Blue: 0, 0, 50, 22, 112, 123, 172, 207, 255, 255
- ToneCurvePV2012Green: 0, 0, 49, 22, 113, 122, 174, 202, 255, 255
- ToneCurvePV2012Red: 0, 0, 50, 21, 113, 123, 178, 204, 255, 255
- Version: 13.2
- Vibrance: 0
- VignetteAmount: 0
- WhiteBalance: Custom
- Whites2012: +10
- XMP-dc
- XMP-exifEX
- XMP-xmp
- CreateDate: 2021:05:01 15:01:04+03:00
- ModifyDate: 2021:05:02 20:06:22+03:00
- XMP-xmpMM
- PreservedFileName: _5010295.ORF
- Просмотров: 137
- Рейтинг: голосов еще нет
- Отзывов: 0