- Раздел: Другое, разное
- Дата съёмки: неизвестно
- Дата загрузки фото: 08.05.2021 19:37
- Оригинальная фотография: 4000 x 3000 (6,4 Мб)
- Технические характеристики:
- Фотоаппарат: Olympus E-M1X
- Выдержка: 0,0
- Гиперфокальное расстояние: inf m
- Диафрагма: 1,8
- Светочувствительность: 1600
- Фокусное расстояние: 15,0 mm (35 mm equivalent: 30,0 mm)
- Полный EXIF
- Adobe
- ColorTransform: YCbCr
- Composite
- Aperture: 1,8
- CircleOfConfusion: 0,015 mm
- FOV: 61,0 deg
- FocalLength35efl: 15,0 mm (35 mm equivalent: 30,0 mm)
- HyperfocalDistance: inf m
- Megapixels: 12,0
- ScaleFactor35efl: 2,0
- ShutterSpeed: 0,0
- ExifIFD
- Acceleration: 980817
- AmbientTemperature: 28,3 C
- ApertureValue: 1,4
- CFAPattern: [Red,Green][Green,Blue]
- ColorSpace: sRGB
- Contrast: Normal
- CreateDate: 2021:05:06 18:09:59
- CustomRendered: Normal
- DateTimeOriginal: 2021:05:06 18:09:59
- DigitalZoomRatio: 1
- ExposureCompensation: 0
- ExposureMode: Manual
- ExposureProgram: Shutter speed priority AE
- ExposureTime: 0,0
- FNumber: 1,8
- Flash: On, Did not fire
- FocalLength: 15,0 mm
- FocalLengthIn35mmFormat: 30 mm
- GainControl: High gain up
- ISO: 1600
- LensInfo: 15mm f/1.7
- LensModel: DJI MFT 15mm F1.7 ASPH
- LensSerialNumber: 15SIC26G193N
- LightSource: Unknown
- MaxApertureValue: 1,4
- MeteringMode: Center-weighted average
- Pressure: 989
- Saturation: Normal
- SceneCaptureType: Standard
- SensitivityType: Standard Output Sensitivity
- SerialNumber: BJ4A09038
- Sharpness: Normal
- ShutterSpeedValue: 1/128
- WaterDepth: -0
- WhiteBalance: Manual
- ICC-header
- ICC-meas
- ICC-view
- IFD0
- Make: OLYMPUS CORPORATION
- Model: E-M1X
- ModifyDate: 2021:05:07 17:33:18
- IFD1
- IPTC
- DateCreated: 2021:05:06
- System
- XMP-aux
- DistortionCorrectionAlreadyApplied: True
- FlashCompensation: 0
- LateralChromaticAberrationCorrectionAlreadyApplied: True
- Lens: DJI MFT 15mm F1.7 ASPH
- XMP-crs
- AlreadyApplied: True
- AutoLateralCA: 0
- Blacks2012: +20
- BlueHue: -5
- BlueSaturation: +25
- Clarity2012: 0
- ColorGradeBlending: 50
- ColorGradeGlobalHue: 0
- ColorGradeGlobalLum: 0
- ColorGradeGlobalSat: 0
- ColorGradeHighlightLum: 0
- ColorGradeMidtoneHue: 0
- ColorGradeMidtoneLum: 0
- ColorGradeMidtoneSat: 0
- ColorGradeShadowLum: 0
- ColorNoiseReduction: 25
- ColorNoiseReductionDetail: 50
- ColorNoiseReductionSmoothness: 50
- ColorTemperature: 4100
- Contrast2012: -14
- ConvertToGrayscale: False
- CropAngle: 0
- CropBottom: 1
- CropConstrainToWarp: 0
- CropLeft: 0
- CropRight: 1
- CropTop: 0
- DefringeGreenAmount: 0
- DefringeGreenHueHi: 60
- DefringeGreenHueLo: 40
- DefringePurpleAmount: 0
- DefringePurpleHueHi: 70
- DefringePurpleHueLo: 30
- Dehaze: 0
- Exposure2012: 0.00
- GrainAmount: 0
- GrainFrequency: 45
- GrainSize: 40
- GreenHue: +35
- GreenSaturation: 0
- HasCrop: False
- HasSettings: True
- Highlights2012: -66
- HueAdjustmentAqua: +10
- HueAdjustmentBlue: -5
- HueAdjustmentGreen: +10
- HueAdjustmentMagenta: +20
- HueAdjustmentOrange: 0
- HueAdjustmentPurple: +20
- HueAdjustmentRed: 0
- HueAdjustmentYellow: 0
- LensManualDistortionAmount: 0
- LensProfileEnable: 0
- LuminanceAdjustmentAqua: +10
- LuminanceAdjustmentBlue: -15
- LuminanceAdjustmentGreen: -5
- LuminanceAdjustmentMagenta: +20
- LuminanceAdjustmentOrange: -4
- LuminanceAdjustmentPurple: +20
- LuminanceAdjustmentRed: +5
- LuminanceAdjustmentYellow: +10
- LuminanceNoiseReductionContrast: 51
- LuminanceNoiseReductionDetail: 50
- LuminanceSmoothing: 40
- OverrideLookVignette: False
- ParametricDarks: -5
- ParametricHighlightSplit: 78
- ParametricHighlights: -14
- ParametricLights: +25
- ParametricMidtoneSplit: 37
- ParametricShadowSplit: 19
- ParametricShadows: -5
- PerspectiveAspect: 0
- PerspectiveHorizontal: 0
- PerspectiveRotate: 0.0
- PerspectiveScale: 100
- PerspectiveUpright: 0
- PerspectiveVertical: 0
- PerspectiveX: 0.00
- PerspectiveY: 0.00
- PostCropVignetteAmount: 0
- ProcessVersion: 11.0
- RawFileName: _5060451.ORF
- RedHue: +18
- RedSaturation: +20
- Saturation: -5
- SaturationAdjustmentAqua: -50
- SaturationAdjustmentBlue: -30
- SaturationAdjustmentGreen: -50
- SaturationAdjustmentMagenta: -40
- SaturationAdjustmentOrange: -8
- SaturationAdjustmentPurple: -50
- SaturationAdjustmentRed: -30
- SaturationAdjustmentYellow: -15
- ShadowTint: -2
- Shadows2012: +27
- Sharpness: 0
- SplitToningBalance: 0
- SplitToningHighlightHue: 0
- SplitToningHighlightSaturation: 0
- SplitToningShadowHue: 0
- SplitToningShadowSaturation: 0
- Texture: 0
- Tint: +16
- ToneCurveName2012: Gold 100 - -
- ToneCurvePV2012: 0, 0, 15, 17, 58, 60, 122, 125, 255, 255
- ToneCurvePV2012Blue: 0, 0, 24, 11, 83, 70, 119, 122, 183, 200, 255, 255
- ToneCurvePV2012Green: 0, 0, 28, 9, 120, 124, 181, 198, 255, 255
- ToneCurvePV2012Red: 0, 0, 30, 11, 71, 51, 119, 122, 182, 196, 255, 255
- Version: 13.2
- Vibrance: 0
- VignetteAmount: 0
- WhiteBalance: Custom
- Whites2012: -26
- XMP-dc
- XMP-exifEX
- XMP-xmp
- CreateDate: 2021:05:06 18:09:59+03:00
- ModifyDate: 2021:05:07 17:33:18+03:00
- XMP-xmpMM
- PreservedFileName: _5060451.ORF
- Просмотров: 107
- Рейтинг: голосов еще нет
- Отзывов: 0