- Раздел: Другое, разное
- Дата съёмки: неизвестно
- Дата загрузки фото: 12.05.2021 23:09
- Оригинальная фотография: 4000 x 3000 (4,3 Мб)
- Технические характеристики:
- Фотоаппарат: Olympus E-M1X
- Выдержка: 0,0
- Гиперфокальное расстояние: inf m
- Диафрагма: 7,1
- Светочувствительность: 800
- Фокусное расстояние: 30,0 mm (35 mm equivalent: 60,0 mm)
- Полный EXIF
- Adobe
- ColorTransform: YCbCr
- Composite
- Aperture: 7,1
- CircleOfConfusion: 0,015 mm
- FOV: 33,0 deg
- FocalLength35efl: 30,0 mm (35 mm equivalent: 60,0 mm)
- HyperfocalDistance: inf m
- Megapixels: 12,0
- ScaleFactor35efl: 2,0
- ShutterSpeed: 0,0
- ExifIFD
- Acceleration: 979567
- AmbientTemperature: 27,1 C
- ApertureValue: 5,7
- CFAPattern: [Red,Green][Green,Blue]
- ColorSpace: sRGB
- Contrast: Normal
- CreateDate: 2021:05:12 19:47:13
- CustomRendered: Normal
- DateTimeOriginal: 2021:05:12 19:47:13
- DigitalZoomRatio: 1
- ExposureCompensation: 0
- ExposureMode: Auto
- ExposureProgram: Aperture-priority AE
- ExposureTime: 0,0
- FNumber: 7,1
- Flash: Off, Did not fire
- FocalLength: 30,0 mm
- FocalLengthIn35mmFormat: 60 mm
- GainControl: High gain up
- ISO: 800
- LensInfo: 30mm f/3.5
- LensModel: OLYMPUS M.30mm F3.5 Macro
- LensSerialNumber: ACBA38196
- LightSource: Unknown
- MaxApertureValue: 2,8
- MeteringMode: Spot
- Pressure: 1009
- Saturation: Normal
- SceneCaptureType: Standard
- SensitivityType: Standard Output Sensitivity
- SerialNumber: BJ4A09038
- Sharpness: Normal
- ShutterSpeedValue: 1/32
- WaterDepth: -0
- WhiteBalance: Manual
- ICC-header
- ICC-meas
- ICC-view
- IFD0
- Make: OLYMPUS CORPORATION
- Model: E-M1X
- ModifyDate: 2021:05:12 20:09:01
- IFD1
- IPTC
- DateCreated: 2021:05:12
- System
- XMP-aux
- DistortionCorrectionAlreadyApplied: True
- FlashCompensation: 0
- LateralChromaticAberrationCorrectionAlreadyApplied: True
- Lens: OLYMPUS M.30mm F3.5 Macro
- XMP-crs
- AlreadyApplied: True
- AutoLateralCA: 0
- Blacks2012: +25
- BlueHue: 0
- BlueSaturation: -36
- Clarity2012: 0
- ColorGradeBlending: 50
- ColorGradeGlobalHue: 0
- ColorGradeGlobalLum: 0
- ColorGradeGlobalSat: 0
- ColorGradeHighlightLum: 0
- ColorGradeMidtoneHue: 0
- ColorGradeMidtoneLum: 0
- ColorGradeMidtoneSat: 0
- ColorGradeShadowLum: 0
- ColorNoiseReduction: 25
- ColorNoiseReductionDetail: 50
- ColorNoiseReductionSmoothness: 50
- ColorTemperature: 5250
- Contrast2012: 0
- ConvertToGrayscale: False
- CropAngle: 0
- CropBottom: 1
- CropConstrainToWarp: 0
- CropLeft: 0
- CropRight: 1
- CropTop: 0
- DefringeGreenAmount: 0
- DefringeGreenHueHi: 60
- DefringeGreenHueLo: 40
- DefringePurpleAmount: 0
- DefringePurpleHueHi: 70
- DefringePurpleHueLo: 30
- Dehaze: 0
- Exposure2012: 0.00
- GrainAmount: 0
- GreenHue: +66
- GreenSaturation: +33
- HasCrop: False
- HasSettings: True
- Highlights2012: -25
- HueAdjustmentAqua: +10
- HueAdjustmentBlue: +10
- HueAdjustmentGreen: +15
- HueAdjustmentMagenta: +15
- HueAdjustmentOrange: -5
- HueAdjustmentPurple: +10
- HueAdjustmentRed: +10
- HueAdjustmentYellow: -10
- LensManualDistortionAmount: 0
- LensProfileEnable: 0
- LuminanceAdjustmentAqua: -15
- LuminanceAdjustmentBlue: -15
- LuminanceAdjustmentGreen: -15
- LuminanceAdjustmentMagenta: -15
- LuminanceAdjustmentOrange: -15
- LuminanceAdjustmentPurple: -5
- LuminanceAdjustmentRed: -15
- LuminanceAdjustmentYellow: 0
- LuminanceNoiseReductionContrast: 0
- LuminanceNoiseReductionDetail: 50
- LuminanceSmoothing: 19
- OverrideLookVignette: False
- ParametricDarks: 0
- ParametricHighlightSplit: 75
- ParametricHighlights: 0
- ParametricLights: +10
- ParametricMidtoneSplit: 48
- ParametricShadowSplit: 14
- ParametricShadows: -10
- PerspectiveAspect: 0
- PerspectiveHorizontal: 0
- PerspectiveRotate: 0.0
- PerspectiveScale: 100
- PerspectiveUpright: 0
- PerspectiveVertical: 0
- PerspectiveX: 0.00
- PerspectiveY: 0.00
- PostCropVignetteAmount: 0
- ProcessVersion: 11.0
- RawFileName: _5120821.ORF
- RedHue: +10
- RedSaturation: +10
- Saturation: +5
- SaturationAdjustmentAqua: 0
- SaturationAdjustmentBlue: 0
- SaturationAdjustmentGreen: +8
- SaturationAdjustmentMagenta: -15
- SaturationAdjustmentOrange: 0
- SaturationAdjustmentPurple: 0
- SaturationAdjustmentRed: -10
- SaturationAdjustmentYellow: 0
- ShadowTint: 0
- Shadows2012: +23
- SharpenDetail: 0
- SharpenEdgeMasking: 0
- SharpenRadius: +1.0
- Sharpness: 15
- SplitToningBalance: 0
- SplitToningHighlightHue: 275
- SplitToningHighlightSaturation: 0
- SplitToningShadowHue: 0
- SplitToningShadowSaturation: 0
- Texture: 0
- Tint: +15
- ToneCurveName2012: Velvia 50 - -
- ToneCurvePV2012: 0, 0, 36, 46, 122, 125, 255, 255
- ToneCurvePV2012Blue: 0, 0, 50, 22, 112, 123, 172, 207, 255, 255
- ToneCurvePV2012Green: 0, 0, 49, 22, 113, 122, 173, 203, 255, 255
- ToneCurvePV2012Red: 0, 0, 50, 21, 113, 123, 178, 204, 255, 255
- Version: 13.2
- Vibrance: 0
- VignetteAmount: 0
- WhiteBalance: As Shot
- Whites2012: 0
- XMP-dc
- XMP-exifEX
- XMP-xmp
- CreateDate: 2021:05:12 19:47:13+03:00
- ModifyDate: 2021:05:12 20:09:01+03:00
- XMP-xmpMM
- PreservedFileName: _5120821.ORF
- Просмотров: 111
- Рейтинг: голосов еще нет
- Отзывов: 0