- Раздел: Другое, разное
- Дата съёмки: неизвестно
- Дата загрузки фото: 24.05.2021 17:18
- Оригинальная фотография: 4000 x 3000 (7,4 Мб)
- Технические характеристики:
- Фотоаппарат: Olympus E-M1X
- Выдержка: 0,0
- Гиперфокальное расстояние: inf m
- Диафрагма: 2,8
- Светочувствительность: 200
- Фокусное расстояние: 29,0 mm (35 mm equivalent: 58,0 mm)
- Полный EXIF
- Adobe
- ColorTransform: YCbCr
- Composite
- Aperture: 2,8
- CircleOfConfusion: 0,015 mm
- FOV: 34,0 deg
- FocalLength35efl: 29,0 mm (35 mm equivalent: 58,0 mm)
- HyperfocalDistance: inf m
- Megapixels: 12,0
- ScaleFactor35efl: 2,0
- ShutterSpeed: 0,0
- ExifIFD
- Acceleration: 971913
- AmbientTemperature: 31,1 C
- ApertureValue: 2,0
- CFAPattern: [Red,Green][Green,Blue]
- ColorSpace: sRGB
- Contrast: Normal
- CreateDate: 2021:05:21 10:38:10
- CustomRendered: Normal
- DateTimeOriginal: 2021:05:21 10:38:10
- DigitalZoomRatio: 1
- ExposureCompensation: 0
- ExposureMode: Auto
- ExposureProgram: Aperture-priority AE
- ExposureTime: 0,0
- FNumber: 2,8
- Flash: On, Did not fire
- FocalLength: 29,0 mm
- FocalLengthIn35mmFormat: 58 mm
- GainControl: None
- ISO: 200
- LensInfo: 12-40mm f/2.8
- LensModel: OLYMPUS M.12-40mm F2.8
- LensSerialNumber: AC5342488
- LightSource: Unknown
- MaxApertureValue: 2,8
- MeteringMode: Multi-segment
- Pressure: 880
- Saturation: High
- SceneCaptureType: Standard
- SensitivityType: Standard Output Sensitivity
- SerialNumber: BJ4A09038
- Sharpness: Normal
- ShutterSpeedValue: 1/2048
- WaterDepth: -0
- WhiteBalance: Manual
- ICC-header
- ICC-meas
- ICC-view
- IFD0
- Make: OLYMPUS CORPORATION
- Model: E-M1X
- ModifyDate: 2021:05:24 14:17:00
- IFD1
- IPTC
- DateCreated: 2021:05:21
- System
- XMP-aux
- DistortionCorrectionAlreadyApplied: True
- FlashCompensation: 0
- LateralChromaticAberrationCorrectionAlreadyApplied: True
- Lens: OLYMPUS M.12-40mm F2.8
- XMP-crs
- AlreadyApplied: True
- AutoLateralCA: 0
- Blacks2012: +30
- BlueHue: -20
- BlueSaturation: -5
- CameraProfile: Camera Muted
- Clarity2012: -5
- ColorGradeBlending: 50
- ColorGradeGlobalHue: 0
- ColorGradeGlobalLum: 0
- ColorGradeGlobalSat: 0
- ColorGradeHighlightLum: 0
- ColorGradeMidtoneHue: 0
- ColorGradeMidtoneLum: 0
- ColorGradeMidtoneSat: 0
- ColorGradeShadowLum: 0
- ColorNoiseReduction: 25
- ColorNoiseReductionDetail: 50
- ColorNoiseReductionSmoothness: 50
- ColorTemperature: 5800
- Contrast2012: 0
- ConvertToGrayscale: False
- CropAngle: 1.12664
- CropBottom: 1
- CropConstrainToWarp: 0
- CropLeft: 0.019962
- CropRight: 0.980038
- CropTop: 0
- DefringeGreenAmount: 0
- DefringeGreenHueHi: 60
- DefringeGreenHueLo: 40
- DefringePurpleAmount: 0
- DefringePurpleHueHi: 70
- DefringePurpleHueLo: 30
- Dehaze: 0
- Exposure2012: 0.00
- GrainAmount: 0
- GrainFrequency: 65
- GrainSize: 20
- GreenHue: +35
- GreenSaturation: +5
- HasCrop: True
- HasSettings: True
- Highlights2012: -60
- HueAdjustmentAqua: +10
- HueAdjustmentBlue: 0
- HueAdjustmentGreen: +10
- HueAdjustmentMagenta: +30
- HueAdjustmentOrange: +5
- HueAdjustmentPurple: +20
- HueAdjustmentRed: +5
- HueAdjustmentYellow: 0
- LensManualDistortionAmount: 0
- LensProfileEnable: 0
- LuminanceAdjustmentAqua: 0
- LuminanceAdjustmentBlue: -25
- LuminanceAdjustmentGreen: 0
- LuminanceAdjustmentMagenta: 0
- LuminanceAdjustmentOrange: 0
- LuminanceAdjustmentPurple: -15
- LuminanceAdjustmentRed: +5
- LuminanceAdjustmentYellow: +10
- LuminanceSmoothing: 0
- OverrideLookVignette: False
- ParametricDarks: +15
- ParametricHighlightSplit: 75
- ParametricHighlights: +10
- ParametricLights: +10
- ParametricMidtoneSplit: 48
- ParametricShadowSplit: 20
- ParametricShadows: +30
- PerspectiveAspect: 0
- PerspectiveHorizontal: 0
- PerspectiveRotate: 0.0
- PerspectiveScale: 100
- PerspectiveUpright: 0
- PerspectiveVertical: 0
- PerspectiveX: 0.00
- PerspectiveY: 0.00
- PostCropVignetteAmount: 0
- ProcessVersion: 11.0
- RawFileName: _5210051.ORF
- RedHue: +25
- RedSaturation: +40
- Saturation: -5
- SaturationAdjustmentAqua: -35
- SaturationAdjustmentBlue: -30
- SaturationAdjustmentGreen: -35
- SaturationAdjustmentMagenta: -45
- SaturationAdjustmentOrange: -20
- SaturationAdjustmentPurple: -45
- SaturationAdjustmentRed: -20
- SaturationAdjustmentYellow: -20
- ShadowTint: -4
- Shadows2012: +55
- Sharpness: 0
- SplitToningBalance: 0
- SplitToningHighlightHue: 0
- SplitToningHighlightSaturation: 0
- SplitToningShadowHue: 0
- SplitToningShadowSaturation: 0
- Texture: 0
- Tint: +3
- ToneCurveName2012: Vista 100 - -
- ToneCurvePV2012: 0, 0, 20, 23, 90, 92, 194, 192, 255, 255
- ToneCurvePV2012Blue: 0, 0, 36, 10, 76, 46, 122, 118, 183, 206, 222, 235, 255, 255
- ToneCurvePV2012Green: 0, 0, 36, 10, 76, 46, 124, 122, 180, 202, 255, 255
- ToneCurvePV2012Red: 0, 0, 40, 9, 76, 46, 126, 122, 182, 204, 255, 255
- Version: 13.2
- Vibrance: 0
- VignetteAmount: 0
- WhiteBalance: As Shot
- Whites2012: -35
- XMP-dc
- XMP-exifEX
- XMP-xmp
- CreateDate: 2021:05:21 10:38:10+03:00
- ModifyDate: 2021:05:24 14:17:00+03:00
- XMP-xmpMM
- PreservedFileName: _5210051.ORF
- Просмотров: 133
- Рейтинг: голосов еще нет
- Отзывов: 0