- Раздел: Другое, разное
- Дата съёмки: неизвестно
- Дата загрузки фото: 07.06.2021 19:25
- Оригинальная фотография: 4608 x 3456 (7,2 Мб)
- Технические характеристики:
- Фотоаппарат: Olympus E-M1
- Выдержка: 0,0
- Гиперфокальное расстояние: inf m
- Диафрагма: 4,0
- Светочувствительность: 200
- Фокусное расстояние: 30,0 mm (35 mm equivalent: 60,0 mm)
- Экспокоррекция: -1
- Полный EXIF
- Adobe
- ColorTransform: YCbCr
- Composite
- Aperture: 4,0
- CircleOfConfusion: 0,015 mm
- FOV: 33,0 deg
- FocalLength35efl: 30,0 mm (35 mm equivalent: 60,0 mm)
- HyperfocalDistance: inf m
- Megapixels: 15,9
- ScaleFactor35efl: 2,0
- ShutterSpeed: 0,0
- ExifIFD
- ApertureValue: 4,0
- CFAPattern: [Blue,Green][Green,Red]
- ColorSpace: sRGB
- Contrast: High
- CreateDate: 2020:05:03 17:50:30
- CustomRendered: Normal
- DateTimeOriginal: 2020:05:03 17:50:30
- DigitalZoomRatio: 1
- ExposureCompensation: -1
- ExposureMode: Manual
- ExposureProgram: Aperture-priority AE
- ExposureTime: 0,0
- FNumber: 4,0
- Flash: Auto, Did not fire
- FocalLength: 30,0 mm
- FocalLengthIn35mmFormat: 60 mm
- GainControl: Low gain up
- ISO: 200
- LensInfo: 30mm f/3.5
- LensModel: OLYMPUS M.30mm F3.5 Macro
- LensSerialNumber: ACBA38196
- LightSource: Unknown
- MaxApertureValue: 2,8
- MeteringMode: Multi-segment
- Saturation: High
- SceneCaptureType: Standard
- SensitivityType: Standard Output Sensitivity
- SerialNumber: BHP270561
- Sharpness: Normal
- ShutterSpeedValue: 1/32
- WhiteBalance: Manual
- ICC-header
- ICC-meas
- ICC-view
- IFD0
- ImageDescription: OLYMPUS DIGITAL CAMERA
- Make: OLYMPUS IMAGING CORP.
- Model: E-M1
- ModifyDate: 2020:05:04 10:32:39
- IFD1
- IPTC
- Caption-Abstract: OLYMPUS DIGITAL CAMERA
- DateCreated: 2020:05:03
- System
- XMP-aux
- ApproximateFocusDistance: 0,17
- DistortionCorrectionAlreadyApplied: True
- FlashCompensation: 0
- LateralChromaticAberrationCorrectionAlreadyApplied: True
- Lens: OLYMPUS M.30mm F3.5 Macro
- XMP-crs
- AlreadyApplied: True
- AutoLateralCA: 0
- Blacks2012: +30
- BlueHue: -20
- BlueSaturation: -5
- Clarity2012: -5
- ColorNoiseReduction: 25
- ColorNoiseReductionDetail: 50
- ColorNoiseReductionSmoothness: 50
- ColorTemperature: 5050
- Contrast2012: 0
- ConvertToGrayscale: False
- DefringeGreenAmount: 0
- DefringeGreenHueHi: 60
- DefringeGreenHueLo: 40
- DefringePurpleAmount: 0
- DefringePurpleHueHi: 70
- DefringePurpleHueLo: 30
- Dehaze: 0
- Exposure2012: +0.23
- GrainAmount: 0
- GreenHue: +35
- GreenSaturation: +5
- HasCrop: False
- HasSettings: True
- Highlights2012: -60
- HueAdjustmentAqua: +10
- HueAdjustmentBlue: 0
- HueAdjustmentGreen: +10
- HueAdjustmentMagenta: +30
- HueAdjustmentOrange: +5
- HueAdjustmentPurple: +20
- HueAdjustmentRed: +5
- HueAdjustmentYellow: 0
- LensManualDistortionAmount: 0
- LensProfileEnable: 0
- LensProfileSetup: LensDefaults
- LookName:
- LuminanceAdjustmentAqua: 0
- LuminanceAdjustmentBlue: -25
- LuminanceAdjustmentGreen: 0
- LuminanceAdjustmentMagenta: 0
- LuminanceAdjustmentOrange: 0
- LuminanceAdjustmentPurple: -15
- LuminanceAdjustmentRed: +5
- LuminanceAdjustmentYellow: +10
- LuminanceSmoothing: 0
- MissingCameraProfile: Agfa Vista 100 - N
- OverrideLookVignette: False
- ParametricDarks: 0
- ParametricHighlightSplit: 75
- ParametricHighlights: 0
- ParametricLights: 0
- ParametricMidtoneSplit: 48
- ParametricShadowSplit: 20
- ParametricShadows: 0
- PerspectiveAspect: 0
- PerspectiveHorizontal: 0
- PerspectiveRotate: 0.0
- PerspectiveScale: 100
- PerspectiveUpright: 0
- PerspectiveVertical: 0
- PerspectiveX: 0.00
- PerspectiveY: 0.00
- PostCropVignetteAmount: 0
- ProcessVersion: 11.0
- RawFileName: _5031106.ORF
- RedHue: +25
- RedSaturation: +40
- Saturation: -5
- SaturationAdjustmentAqua: -35
- SaturationAdjustmentBlue: -30
- SaturationAdjustmentGreen: -35
- SaturationAdjustmentMagenta: -45
- SaturationAdjustmentOrange: -20
- SaturationAdjustmentPurple: -45
- SaturationAdjustmentRed: -20
- SaturationAdjustmentYellow: -20
- ShadowTint: -4
- Shadows2012: +100
- SharpenDetail: 25
- SharpenEdgeMasking: 0
- SharpenRadius: +1.0
- Sharpness: 0
- SplitToningBalance: 0
- SplitToningHighlightHue: 0
- SplitToningHighlightSaturation: 0
- SplitToningShadowHue: 0
- SplitToningShadowSaturation: 0
- Texture: 0
- Tint: +5
- ToneCurve: 0, 0, 255, 255
- ToneCurveBlue: 0, 0, 255, 255
- ToneCurveGreen: 0, 0, 255, 255
- ToneCurveName: Linear
- ToneCurveName2012: Custom
- ToneCurvePV2012: 0, 0, 20, 23, 90, 92, 194, 192, 255, 255
- ToneCurvePV2012Blue: 0, 0, 36, 10, 76, 46, 122, 118, 183, 206, 222, 235, 255, 255
- ToneCurvePV2012Green: 0, 0, 36, 10, 76, 46, 124, 122, 180, 202, 255, 255
- ToneCurvePV2012Red: 0, 0, 40, 9, 76, 46, 126, 122, 182, 204, 255, 255
- ToneCurveRed: 0, 0, 255, 255
- ToneMapStrength: 0
- Version: 11.4.1
- Vibrance: 0
- VignetteAmount: 0
- WhiteBalance: As Shot
- Whites2012: -35
- XMP-dc
- Description: OLYMPUS DIGITAL CAMERA
- Format: image/jpeg
- XMP-exifEX
- XMP-xmp
- ModifyDate: 2020:05:04 10:32:39+03:00
- XMP-xmpMM
- PreservedFileName: _5031106.ORF