- Раздел: Тесты фототехники
- Дата съёмки: неизвестно
- Дата загрузки фото: 17.08.2021 14:02
- Оригинальная фотография: 3883 x 2912 (4,9 Мб)
- Технические характеристики:
- Фотоаппарат: HUAWEI ELS-NX9
- Выдержка: 0,0
- Гиперфокальное расстояние: inf m
- Диафрагма: 1,9
- Светочувствительность: 100
- Фокусное расстояние: 6,0 mm (35 mm equivalent: 24,0 mm)
- Полный EXIF
- Adobe
- ColorTransform: YCbCr
- Composite
- Aperture: 1,9
- CircleOfConfusion: 0,007 mm
- FOV: 73,0 deg
- FocalLength35efl: 6,0 mm (35 mm equivalent: 24,0 mm)
- GPSAltitude: 234 m Above Sea Level
- GPSDateTime: 2021:08:16 15:51:31Z
- GPSLatitude: 1403 deg 50' 43,00" N
- GPSLongitude: 2826 deg 1' 37,00" E
- GPSPosition: 1403 deg 50' 43,00" N, 2826 deg 1' 37,00" E
- HyperfocalDistance: inf m
- Megapixels: 11,3
- ScaleFactor35efl: 4,5
- ShutterSpeed: 0,0
- ExifIFD
- ApertureValue: 1,4
- BrightnessValue: 0
- ColorSpace: Uncalibrated
- Contrast: Normal
- CreateDate: 2021:08:16 20:51:31
- CustomRendered: Custom
- DateTimeOriginal: 2021:08:16 20:51:31
- DigitalZoomRatio: 1
- ExposureCompensation: 0
- ExposureMode: Auto
- ExposureProgram: Program AE
- ExposureTime: 0,0
- FNumber: 1,9
- Flash: No Flash
- FocalLength: 6,0 mm
- FocalLengthIn35mmFormat: 27 mm
- GainControl: None
- ISO: 100
- LensModel: HUAWEI P40 Pro Rear Main Camera
- LightSource: Daylight
- MaxApertureValue: 1,4
- MeteringMode: Multi-segment
- Saturation: Normal
- SceneCaptureType: Standard
- SceneType: Directly photographed
- SensingMethod: One-chip color area
- Sharpness: Normal
- ShutterSpeedValue: 1/64
- SubjectDistanceRange: Unknown
- WhiteBalance: Auto
- GPS
- GPSAltitude: 234,74 m
- GPSAltitudeRef: Above Sea Level
- GPSDateStamp: 2021:08:16
- GPSLatitude: 1403 deg 50' 43,00"
- GPSLatitudeRef: North
- GPSLongitude: 2826 deg 1' 37,00"
- GPSLongitudeRef: East
- GPSTimeStamp: 15:51:31
- GPSVersionID: 2.2.0.0
- ICC-header
- IFD0
- Make: HUAWEI
- Model: ELS-NX9
- ModifyDate: 2021:08:16 22:51:20
- IFD1
- IPTC
- City: Yekaterinburg
- Country-PrimaryLocationCode: RU
- Country-PrimaryLocationName: Russia
- DateCreated: 2021:08:16
- Province-State: Sverdlovsk
- System
- XMP-aux
- Lens: HUAWEI P40 Pro Rear Main Camera
- XMP-crs
- AlreadyApplied: True
- AutoLateralCA: 0
- Blacks2012: -19
- BlueHue: 0
- BlueSaturation: 0
- CameraProfile: Embedded
- Clarity2012: 0
- ColorGradeBlending: 50
- ColorGradeGlobalHue: 0
- ColorGradeGlobalLum: 0
- ColorGradeGlobalSat: 0
- ColorGradeHighlightLum: 0
- ColorGradeMidtoneHue: 0
- ColorGradeMidtoneLum: 0
- ColorGradeMidtoneSat: 0
- ColorGradeShadowLum: 0
- ColorNoiseReduction: 0
- Contrast2012: +6
- ConvertToGrayscale: False
- CropAngle: 0
- CropBottom: 0.973953
- CropConstrainToWarp: 1
- CropLeft: 0.026047
- CropRight: 0.973953
- CropTop: 0.026047
- DefringeGreenAmount: 0
- DefringeGreenHueHi: 60
- DefringeGreenHueLo: 40
- DefringePurpleAmount: 0
- DefringePurpleHueHi: 70
- DefringePurpleHueLo: 30
- Dehaze: 0
- Exposure2012: -0.16
- GrainAmount: 0
- GreenHue: 0
- GreenSaturation: 0
- HasCrop: True
- HasSettings: True
- Highlights2012: -47
- HueAdjustmentAqua: 0
- HueAdjustmentBlue: 0
- HueAdjustmentGreen: 0
- HueAdjustmentMagenta: 0
- HueAdjustmentOrange: 0
- HueAdjustmentPurple: 0
- HueAdjustmentRed: 0
- HueAdjustmentYellow: 0
- IncrementalTemperature: 0
- IncrementalTint: 0
- LensManualDistortionAmount: 0
- LensProfileEnable: 0
- LuminanceAdjustmentAqua: 0
- LuminanceAdjustmentBlue: 0
- LuminanceAdjustmentGreen: 0
- LuminanceAdjustmentMagenta: 0
- LuminanceAdjustmentOrange: 0
- LuminanceAdjustmentPurple: 0
- LuminanceAdjustmentRed: 0
- LuminanceAdjustmentYellow: 0
- LuminanceSmoothing: 0
- OverrideLookVignette: False
- ParametricDarks: 0
- ParametricHighlightSplit: 75
- ParametricHighlights: 0
- ParametricLights: 0
- ParametricMidtoneSplit: 50
- ParametricShadowSplit: 25
- ParametricShadows: 0
- PerspectiveAspect: 0
- PerspectiveHorizontal: 0
- PerspectiveRotate: +2.4
- PerspectiveScale: 100
- PerspectiveUpright: 0
- PerspectiveVertical: 0
- PerspectiveX: 0.00
- PerspectiveY: 0.00
- PostCropVignetteAmount: 0
- ProcessVersion: 11.0
- RawFileName:
- RedHue: 0
- RedSaturation: 0
- Saturation: +1
- SaturationAdjustmentAqua: 0
- SaturationAdjustmentBlue: 0
- SaturationAdjustmentGreen: 0
- SaturationAdjustmentMagenta: 0
- SaturationAdjustmentOrange: 0
- SaturationAdjustmentPurple: 0
- SaturationAdjustmentRed: 0
- SaturationAdjustmentYellow: 0
- ShadowTint: 0
- Shadows2012: +49
- Sharpness: 0
- SplitToningBalance: 0
- SplitToningHighlightHue: 0
- SplitToningHighlightSaturation: 0
- SplitToningShadowHue: 0
- SplitToningShadowSaturation: 0
- Texture: 0
- ToneCurveName2012: Linear
- ToneCurvePV2012: 0, 0, 255, 255
- ToneCurvePV2012Blue: 0, 0, 255, 255
- ToneCurvePV2012Green: 0, 0, 255, 255
- ToneCurvePV2012Red: 0, 0, 255, 255
- Version: 13.2
- Vibrance: +16
- VignetteAmount: 0
- WhiteBalance: As Shot
- Whites2012: +42
- XMP-dc
- XMP-exifEX
- XMP-iptcCore
- XMP-xmp
- CreateDate: 2021:08:16 20:51:31.219433
- ModifyDate: 2021:08:16 22:51:20+05:00
- XMP-xmpMM
- PreservedFileName: IMG_20210816_205131.jpg
- Просмотров: 93
- Рейтинг: голосов еще нет
- Отзывов: 0