- Раздел: Другое, разное
- Дата съёмки: 27.01.2015 20:40
- Дата загрузки фото: 13.09.2021 10:13
- Оригинальная фотография: 4000 x 3000 (6,0 Мб)
- Технические характеристики:
- Фотоаппарат: Panasonic DMC-GH1
- Выдержка: 0,0
- Гиперфокальное расстояние: inf m
- Диафрагма: 5,2
- Светочувствительность: 100
- Фокусное расстояние: 29,0 mm (35 mm equivalent: 58,0 mm)
- Полный EXIF
- Adobe
- ColorTransform: YCbCr
- Composite
- Aperture: 5,2
- CircleOfConfusion: 0,015 mm
- FOV: 34,0 deg
- FocalLength35efl: 29,0 mm (35 mm equivalent: 58,0 mm)
- HyperfocalDistance: inf m
- Megapixels: 12,0
- ScaleFactor35efl: 2,0
- ShutterSpeed: 0,0
- ExifIFD
- ApertureValue: 4,0
- Contrast: Normal
- CreateDate: 2015:01:27 20:40:57
- CustomRendered: Normal
- DateTimeOriginal: 2015:01:27 20:40:57
- DigitalZoomRatio: 0
- ExposureCompensation: 0
- ExposureMode: Manual
- ExposureProgram: Manual
- ExposureTime: 0,0
- FNumber: 5,2
- Flash: On, Fired
- FocalLength: 29,0 mm
- FocalLengthIn35mmFormat: 58 mm
- GainControl: None
- ISO: 100
- LensModel: LUMIX G VARIO 14-45/F3.5-5.6
- LensSerialNumber: 09KG1071753
- LightSource: Flash
- MaxApertureValue: 4,0
- MeteringMode: Multi-segment
- Saturation: Normal
- SceneCaptureType: Standard
- SceneType: Directly photographed
- SensingMethod: One-chip color area
- Sharpness: Normal
- ShutterSpeedValue: 1/64
- WhiteBalance: Auto
- ICC-header
- ICC-meas
- ICC-view
- IFD0
- Make: Panasonic
- Model: DMC-GH1
- ModifyDate: 2015:01:28 11:12:12
- IFD1
- IPTC
- DateCreated: 2015:01:27
- System
- XMP-aux
- Lens: LUMIX G VARIO 14-45/F3.5-5.6
- XMP-crs
- AlreadyApplied: True
- AutoLateralCA: 0
- AutoWhiteVersion: 134348800
- Blacks2012: +25
- BlueHue: 0
- BlueSaturation: 0
- Clarity2012: 0
- ColorNoiseReduction: 25
- ColorNoiseReductionDetail: 50
- ColorNoiseReductionSmoothness: 50
- ColorTemperature: 5250
- Contrast2012: 0
- ConvertToGrayscale: False
- DefringeGreenAmount: 0
- DefringeGreenHueHi: 60
- DefringeGreenHueLo: 40
- DefringePurpleAmount: 0
- DefringePurpleHueHi: 70
- DefringePurpleHueLo: 30
- Exposure2012: +0.57
- GrainAmount: 0
- GreenHue: 0
- GreenSaturation: 0
- HasCrop: False
- HasSettings: True
- Highlights2012: -10
- HueAdjustmentAqua: 0
- HueAdjustmentBlue: -15
- HueAdjustmentGreen: +20
- HueAdjustmentMagenta: +40
- HueAdjustmentOrange: 0
- HueAdjustmentPurple: +15
- HueAdjustmentRed: +25
- HueAdjustmentYellow: +10
- LensManualDistortionAmount: 0
- LensProfileEnable: 0
- LensProfileSetup: LensDefaults
- LuminanceAdjustmentAqua: +10
- LuminanceAdjustmentBlue: +5
- LuminanceAdjustmentGreen: 0
- LuminanceAdjustmentMagenta: 0
- LuminanceAdjustmentOrange: -8
- LuminanceAdjustmentPurple: +20
- LuminanceAdjustmentRed: 0
- LuminanceAdjustmentYellow: 0
- LuminanceSmoothing: 0
- ParametricDarks: -30
- ParametricHighlightSplit: 80
- ParametricHighlights: -48
- ParametricLights: +30
- ParametricMidtoneSplit: 40
- ParametricShadowSplit: 17
- ParametricShadows: -50
- PerspectiveAspect: 0
- PerspectiveHorizontal: 0
- PerspectiveRotate: 0.0
- PerspectiveScale: 100
- PerspectiveUpright: 0
- PerspectiveVertical: 0
- PostCropVignetteAmount: 0
- ProcessVersion: 6.7
- RedHue: 0
- RedSaturation: 0
- Saturation: 0
- SaturationAdjustmentAqua: -30
- SaturationAdjustmentBlue: -20
- SaturationAdjustmentGreen: -50
- SaturationAdjustmentMagenta: -20
- SaturationAdjustmentOrange: 0
- SaturationAdjustmentPurple: -50
- SaturationAdjustmentRed: -10
- SaturationAdjustmentYellow: -15
- ShadowTint: 0
- Shadows2012: +25
- SharpenDetail: 25
- SharpenEdgeMasking: 0
- SharpenRadius: +1.0
- Sharpness: 25
- SplitToningBalance: 0
- SplitToningHighlightHue: 0
- SplitToningHighlightSaturation: 0
- SplitToningShadowHue: 0
- SplitToningShadowSaturation: 0
- Tint: 0
- ToneCurve: 0, 0, 255, 255
- ToneCurveBlue: 0, 0, 255, 255
- ToneCurveGreen: 0, 0, 255, 255
- ToneCurveName: Linear
- ToneCurveName2012: Custom
- ToneCurvePV2012: 0, 8, 255, 249
- ToneCurvePV2012Blue: 0, 0, 43, 36, 130, 130, 183, 190, 235, 238, 255, 255
- ToneCurvePV2012Green: 0, 0, 46, 35, 130, 130, 178, 183, 255, 255
- ToneCurvePV2012Red: 0, 0, 46, 32, 129, 130, 182, 191, 220, 226, 255, 255
- ToneCurveRed: 0, 0, 255, 255
- Version: 8.7.1
- Vibrance: 0
- VignetteAmount: 0
- Whites2012: -10
- XMP-dc
- XMP-xmp
- ModifyDate: 2015:01:28 11:12:12+03:00
- XMP-xmpMM
- Просмотров: 136
- Рейтинг: голосов еще нет
- Отзывов: 0