- Раздел: Другое, разное
- Дата съёмки: 05.07.2014 06:44
- Дата загрузки фото: 16.10.2021 17:07
- Оригинальная фотография: 3008 x 2000 (4,0 Мб)
- Технические характеристики:
- Фотоаппарат: Epson R-D1
- Выдержка: 0,0
- Светочувствительность: 800
- Экспокоррекция: +1
- Полный EXIF
- Adobe
- ColorTransform: YCbCr
- Composite
- Megapixels: 6,0
- ShutterSpeed: 0,0
- ExifIFD
- CreateDate: 2014:07:05 06:44:41
- CustomRendered: Normal
- DateTimeOriginal: 2014:07:05 06:44:41
- ExposureCompensation: +1
- ExposureMode: Auto
- ExposureProgram: Aperture-priority AE
- ExposureTime: 0,0
- Flash: No flash function
- GainControl: Low gain up
- ISO: 800
- LightSource: Unknown
- MeteringMode: Center-weighted average
- SceneCaptureType: Standard
- SceneType: Directly photographed
- ShutterSpeedValue: 1/128
- WhiteBalance: Auto
- ICC-header
- ICC-meas
- ICC-view
- IFD0
- ImageDescription: EPSON DSC Picture
- Make: SEIKO EPSON CORP.
- Model: R-D1
- ModifyDate: 2014:07:22 21:15:23
- IFD1
- IPTC
- Caption-Abstract: EPSON DSC Picture
- DateCreated: 2014:07:05
- System
- XMP-crs
- AlreadyApplied: True
- AutoLateralCA: 0
- AutoWhiteVersion: 134348800
- Blacks2012: +5
- BlueHue: 0
- BlueSaturation: +12
- Clarity2012: -10
- ColorNoiseReduction: 25
- ColorNoiseReductionDetail: 50
- ColorNoiseReductionSmoothness: 50
- ColorTemperature: 4850
- Contrast2012: 0
- ConvertToGrayscale: False
- DefringeGreenAmount: 0
- DefringeGreenHueHi: 60
- DefringeGreenHueLo: 40
- DefringePurpleAmount: 0
- DefringePurpleHueHi: 70
- DefringePurpleHueLo: 30
- Exposure2012: 0.00
- GrainAmount: 10
- GrainFrequency: 10
- GrainSize: 10
- GreenHue: -5
- GreenSaturation: 0
- HasCrop: False
- HasSettings: True
- Highlights2012: -10
- HueAdjustmentAqua: +25
- HueAdjustmentBlue: -5
- HueAdjustmentGreen: 0
- HueAdjustmentMagenta: 0
- HueAdjustmentOrange: 0
- HueAdjustmentPurple: +30
- HueAdjustmentRed: +15
- HueAdjustmentYellow: -5
- LensManualDistortionAmount: 0
- LensProfileEnable: 0
- LensProfileSetup: LensDefaults
- LuminanceAdjustmentAqua: -15
- LuminanceAdjustmentBlue: -40
- LuminanceAdjustmentGreen: -30
- LuminanceAdjustmentMagenta: -20
- LuminanceAdjustmentOrange: -10
- LuminanceAdjustmentPurple: 0
- LuminanceAdjustmentRed: -25
- LuminanceAdjustmentYellow: -25
- LuminanceSmoothing: 0
- ParametricDarks: -22
- ParametricHighlightSplit: 80
- ParametricHighlights: -13
- ParametricLights: +10
- ParametricMidtoneSplit: 50
- ParametricShadowSplit: 18
- ParametricShadows: -32
- PerspectiveAspect: 0
- PerspectiveHorizontal: 0
- PerspectiveRotate: 0.0
- PerspectiveScale: 100
- PerspectiveUpright: 0
- PerspectiveVertical: 0
- PostCropVignetteAmount: 0
- ProcessVersion: 6.7
- RedHue: +10
- RedSaturation: -15
- Saturation: -8
- SaturationAdjustmentAqua: -20
- SaturationAdjustmentBlue: -30
- SaturationAdjustmentGreen: -32
- SaturationAdjustmentMagenta: -45
- SaturationAdjustmentOrange: -16
- SaturationAdjustmentPurple: 0
- SaturationAdjustmentRed: -15
- SaturationAdjustmentYellow: 0
- ShadowTint: 0
- Shadows2012: +20
- SharpenDetail: 25
- SharpenEdgeMasking: 0
- SharpenRadius: +1.0
- Sharpness: 0
- SplitToningBalance: 0
- SplitToningHighlightHue: 0
- SplitToningHighlightSaturation: 0
- SplitToningShadowHue: 0
- SplitToningShadowSaturation: 0
- Tint: +1
- ToneCurveName2012: Custom
- ToneCurvePV2012: 0, 37, 56, 81, 135, 154, 201, 206, 255, 250
- ToneCurvePV2012Blue: 0, 1, 30, 22, 120, 131, 220, 239, 255, 255
- ToneCurvePV2012Green: 0, 7, 45, 20, 123, 128, 166, 185, 220, 235, 255, 255
- ToneCurvePV2012Red: 0, 10, 36, 20, 121, 126, 222, 233, 255, 251
- Version: 8.3
- Vibrance: 0
- VignetteAmount: 0
- WhiteBalance: As Shot
- Whites2012: -10
- XMP-dc
- Description: EPSON DSC Picture
- Format: image/jpeg
- XMP-xmp
- ModifyDate: 2014:07:22 21:15:23+04:00
- XMP-xmpMM
- Просмотров: 260
- Рейтинг: голосов еще нет
- Отзывов: 2