- Раздел: Другое, разное
- Дата съёмки: неизвестно
- Дата загрузки фото: 28.10.2021 13:19
- Оригинальная фотография: 5801 x 3869 (12,8 Мб)
- Технические характеристики:
- Фотоаппарат: Canon EOS R5
- Выдержка: 0,0
- Гиперфокальное расстояние: inf m
- Диафрагма: 8,0
- Светочувствительность: 800
- Фокусное расстояние: 400,0 mm
- Полный EXIF
- Adobe
- ColorTransform: YCbCr
- Composite
- Aperture: 8,0
- CircleOfConfusion: 0,030 mm
- FocalLength35efl: 400,0 mm
- HyperfocalDistance: inf m
- LensID: Canon RF100-400mm F5.6-8 IS USM
- Megapixels: 22,4
- ScaleFactor35efl: 1,0
- ShutterSpeed: 0,0
- ExifIFD
- ApertureValue: 8,0
- ColorSpace: sRGB
- CreateDate: 2021:10:25 11:02:23
- CustomRendered: Normal
- DateTimeOriginal: 2021:10:25 11:02:23
- ExifImageHeight: 3869
- ExifImageWidth: 5801
- ExposureCompensation: 0
- ExposureMode: Manual
- ExposureProgram: Manual
- ExposureTime: 0,0
- FNumber: 8,0
- Flash: No Flash
- FocalLength: 400,0 mm
- ISO: 800
- LensInfo: 100-400mm f/?
- LensModel: RF100-400mm F5.6-8 IS USM
- LensSerialNumber: 0000000c18
- MaxApertureValue: 8,0
- MeteringMode: Multi-segment
- RecommendedExposureIndex: 800
- SceneCaptureType: Standard
- SensitivityType: Recommended Exposure Index
- SerialNumber: 038021000238
- ShutterSpeedValue: 1/256
- WhiteBalance: Auto
- ICC-header
- ICC-meas
- ICC-view
- IFD0
- Artist: Jack Tan
- BitsPerSample: 8 8 8
- Copyright: (c) 2021 Beanstalkpix
- ImageHeight: 3869
- ImageWidth: 5801
- Make: Canon
- Model: Canon EOS R5
- ModifyDate: 2021:10:28 13:17:53
- Orientation: Horizontal (normal)
- PhotometricInterpretation: RGB
- SamplesPerPixel: 3
- IFD1
- IPTC
- By-line: Jack Tan
- CopyrightNotice: (c) 2021 Beanstalkpix
- DateCreated: 2021:10:25
- System
- XMP-aux
- ApproximateFocusDistance: 5,13
- Firmware: 1.4.0
- FlashCompensation: 0
- ImageNumber: 6594
- LateralChromaticAberrationCorrectionAlreadyApplied: True
- Lens: RF100-400mm F5.6-8 IS USM
- LensID: 61182
- XMP-crs
- AlreadyApplied: True
- AutoLateralCA: 1
- BlueHue: 0
- BlueSaturation: 0
- Brightness: +50
- Clarity: 0
- ColorNoiseReduction: 25
- ColorNoiseReductionDetail: 50
- ColorNoiseReductionSmoothness: 50
- ColorTemperature: 4650
- Contrast: +50
- ConvertToGrayscale: False
- CropAngle: 0.504414
- CropBottom: 0.940212
- CropConstrainToWarp: 0
- CropLeft: 0.095238
- CropRight: 0.799232
- CropTop: 0.222712
- DefringeGreenAmount: 0
- DefringeGreenHueHi: 60
- DefringeGreenHueLo: 40
- DefringePurpleAmount: 0
- DefringePurpleHueHi: 70
- DefringePurpleHueLo: 30
- Exposure: -0.05
- FillLight: 7
- GrainAmount: 0
- GreenHue: 0
- GreenSaturation: 0
- HasCrop: True
- HasSettings: True
- HighlightRecovery: 0
- HueAdjustmentAqua: 0
- HueAdjustmentBlue: 0
- HueAdjustmentGreen: 0
- HueAdjustmentMagenta: 0
- HueAdjustmentOrange: 0
- HueAdjustmentPurple: 0
- HueAdjustmentRed: 0
- HueAdjustmentYellow: 0
- LensManualDistortionAmount: 0
- LensProfileEnable: 1
- LensProfileSetup: LensDefaults
- LuminanceAdjustmentAqua: 0
- LuminanceAdjustmentBlue: 0
- LuminanceAdjustmentGreen: 0
- LuminanceAdjustmentMagenta: 0
- LuminanceAdjustmentOrange: 0
- LuminanceAdjustmentPurple: 0
- LuminanceAdjustmentRed: 0
- LuminanceAdjustmentYellow: 0
- LuminanceSmoothing: 0
- OverrideLookVignette: False
- ParametricDarks: 0
- ParametricHighlightSplit: 75
- ParametricHighlights: 0
- ParametricLights: 0
- ParametricMidtoneSplit: 50
- ParametricShadowSplit: 25
- ParametricShadows: 0
- PerspectiveAspect: 0
- PerspectiveHorizontal: 0
- PerspectiveRotate: 0.0
- PerspectiveScale: 100
- PerspectiveUpright: 0
- PerspectiveVertical: 0
- PerspectiveX: 0.00
- PerspectiveY: 0.00
- PostCropVignetteAmount: 0
- ProcessVersion: 5.7
- RawFileName: 20211025_110223.cr3
- RedHue: 0
- RedSaturation: 0
- Saturation: 0
- SaturationAdjustmentAqua: 0
- SaturationAdjustmentBlue: 0
- SaturationAdjustmentGreen: 0
- SaturationAdjustmentMagenta: 0
- SaturationAdjustmentOrange: 0
- SaturationAdjustmentPurple: 0
- SaturationAdjustmentRed: 0
- SaturationAdjustmentYellow: 0
- ShadowTint: 0
- Shadows: 5
- SharpenDetail: 25
- SharpenEdgeMasking: 0
- SharpenRadius: +1.0
- Sharpness: 40
- SplitToningBalance: 0
- SplitToningHighlightHue: 0
- SplitToningHighlightSaturation: 0
- SplitToningShadowHue: 0
- SplitToningShadowSaturation: 0
- Tint: +14
- ToneCurve: 0, 0, 32, 22, 64, 56, 128, 128, 192, 196, 255, 255
- ToneCurveBlue: 0, 0, 255, 255
- ToneCurveGreen: 0, 0, 255, 255
- ToneCurveName: Medium Contrast
- ToneCurveRed: 0, 0, 255, 255
- Version: 13.3
- Vibrance: 0
- VignetteAmount: 0
- WhiteBalance: As Shot
- XMP-dc
- Creator: Jack Tan
- Format: image/jpeg
- Rights: (c) 2021 Beanstalkpix
- XMP-exifEX
- XMP-photomech
- ColorClass: 0 (None)
- PMVersion: PM6
- Prefs: Tagged:0, ColorClass:0, Rating:1, FrameNum:006594
- Tagged: No
- XMP-xmp
- ModifyDate: 2021:10:28 13:17:53+03:00
- Rating: 1
- XMP-xmpMM
- PreservedFileName: 20211025_110223.cr3
- XMP-xmpRights
- Просмотров: 58
- Рейтинг: голосов еще нет
- Отзывов: отключены