- Раздел: Другое, разное
- Дата съёмки: неизвестно
- Дата загрузки фото: 01.12.2021 11:15
- Оригинальная фотография: 4608 x 3086 (2,2 Мб)
- Технические характеристики:
- Фотоаппарат: Panasonic DMC-G6
- Выдержка: 0,0
- Гиперфокальное расстояние: inf m
- Диафрагма: 5,6
- Светочувствительность: 400
- Фокусное расстояние: 32,0 mm (35 mm equivalent: 64,0 mm)
- Полный EXIF
- Adobe
- ColorTransform: YCbCr
- Composite
- Aperture: 5,6
- CircleOfConfusion: 0,015 mm
- FOV: 31,0 deg
- FocalLength35efl: 32,0 mm (35 mm equivalent: 64,0 mm)
- HyperfocalDistance: inf m
- Megapixels: 14,2
- ScaleFactor35efl: 2,0
- ShutterSpeed: 0,0
- ExifIFD
- ApertureValue: 4,0
- ColorSpace: sRGB
- Contrast: Normal
- CreateDate: 2021:11:28 13:14:45
- CustomRendered: Normal
- DateTimeOriginal: 2021:11:28 13:14:45
- DigitalZoomRatio: 0
- ExifImageHeight: 3086
- ExifImageWidth: 4608
- ExposureCompensation: 0
- ExposureMode: Auto
- ExposureProgram: Aperture-priority AE
- ExposureTime: 0,0
- FNumber: 5,6
- Flash: Off, Did not fire
- FocalLength: 32,0 mm
- FocalLengthIn35mmFormat: 64 mm
- GainControl: High gain up
- ISO: 400
- LensModel: LUMIX G VARIO 12-32/F3.5-5.6
- LensSerialNumber: 08JX2250514A
- LightSource: Unknown
- MaxApertureValue: 4,0
- MeteringMode: Multi-segment
- Saturation: Normal
- SceneCaptureType: Standard
- SceneType: Directly photographed
- SensingMethod: One-chip color area
- SerialNumber: X151308140056
- Sharpness: Normal
- ShutterSpeedValue: 1/64
- WhiteBalance: Auto
- ICC-header
- ICC-meas
- ICC-view
- IFD0
- BitsPerSample: 8 8 8
- ImageHeight: 3086
- ImageWidth: 4608
- Make: Panasonic
- Model: DMC-G6
- ModifyDate: 2021:11:28 13:30:32
- Orientation: Horizontal (normal)
- PhotometricInterpretation: RGB
- SamplesPerPixel: 3
- IFD1
- IPTC
- DateCreated: 2021:11:28
- System
- XMP-aux
- DistortionCorrectionAlreadyApplied: True
- LateralChromaticAberrationCorrectionAlreadyApplied: True
- Lens: LUMIX G VARIO 12-32/F3.5-5.6
- XMP-crs
- AlreadyApplied: True
- AutoLateralCA: 0
- Blacks2012: -45
- BlueHue: 0
- BlueSaturation: 0
- Clarity2012: +49
- ColorNoiseReduction: 25
- ColorNoiseReductionDetail: 50
- ColorNoiseReductionSmoothness: 50
- ColorTemperature: 3900
- Contrast2012: +7
- ConvertToGrayscale: False
- CropAngle: 0
- CropBottom: 0.892814
- CropConstrainToWarp: 0
- CropLeft: 0
- CropRight: 1
- CropTop: 0
- DefringeGreenAmount: 0
- DefringeGreenHueHi: 60
- DefringeGreenHueLo: 40
- DefringePurpleAmount: 0
- DefringePurpleHueHi: 70
- DefringePurpleHueLo: 30
- Dehaze: 0
- Exposure2012: +0.03
- GrainAmount: 0
- GreenHue: 0
- GreenSaturation: 0
- HasCrop: True
- HasSettings: True
- Highlights2012: -95
- HueAdjustmentAqua: 0
- HueAdjustmentBlue: 0
- HueAdjustmentGreen: 0
- HueAdjustmentMagenta: 0
- HueAdjustmentOrange: 0
- HueAdjustmentPurple: 0
- HueAdjustmentRed: 0
- HueAdjustmentYellow: 0
- LensManualDistortionAmount: 0
- LensProfileEnable: 0
- LensProfileSetup: LensDefaults
- LookAmount: 1.000000
- LookGroup: Profiles
- LookParametersConvertToGrayscale: False
- LookParametersLookTable: E1095149FDB39D7A057BAB208837E2E1
- LookParametersProcessVersion: 11.0
- LookParametersToneCurvePV2012: 0, 0, 22, 16, 40, 35, 127, 127, 224, 230, 240, 246, 255, 255
- LookParametersToneCurvePV2012Blue: 0, 0, 255, 255
- LookParametersToneCurvePV2012Green: 0, 0, 255, 255
- LookParametersToneCurvePV2012Red: 0, 0, 255, 255
- LookParametersVersion: 12.4
- LookSupportsAmount: false
- LookSupportsMonochrome: false
- LookSupportsOutputReferred: false
- LuminanceAdjustmentAqua: 0
- LuminanceAdjustmentBlue: 0
- LuminanceAdjustmentGreen: 0
- LuminanceAdjustmentMagenta: 0
- LuminanceAdjustmentOrange: 0
- LuminanceAdjustmentPurple: 0
- LuminanceAdjustmentRed: 0
- LuminanceAdjustmentYellow: 0
- LuminanceSmoothing: 0
- OverrideLookVignette: False
- ParametricDarks: 0
- ParametricHighlightSplit: 75
- ParametricHighlights: 0
- ParametricLights: 0
- ParametricMidtoneSplit: 50
- ParametricShadowSplit: 25
- ParametricShadows: 0
- PerspectiveAspect: 0
- PerspectiveHorizontal: 0
- PerspectiveRotate: 0.0
- PerspectiveScale: 100
- PerspectiveUpright: 0
- PerspectiveVertical: 0
- PerspectiveX: 0.00
- PerspectiveY: 0.00
- PostCropVignetteAmount: 0
- ProcessVersion: 11.0
- RawFileName: P4820486.RW2
- RedHue: 0
- RedSaturation: 0
- Saturation: -2
- SaturationAdjustmentAqua: 0
- SaturationAdjustmentBlue: 0
- SaturationAdjustmentGreen: 0
- SaturationAdjustmentMagenta: 0
- SaturationAdjustmentOrange: 0
- SaturationAdjustmentPurple: 0
- SaturationAdjustmentRed: 0
- SaturationAdjustmentYellow: 0
- ShadowTint: 0
- Shadows2012: +79
- SharpenDetail: 25
- SharpenEdgeMasking: 0
- SharpenRadius: +1.0
- Sharpness: 40
- SplitToningBalance: 0
- SplitToningHighlightHue: 0
- SplitToningHighlightSaturation: 0
- SplitToningShadowHue: 0
- SplitToningShadowSaturation: 0
- Texture: 0
- Tint: +21
- ToneCurve: 0, 0, 255, 255
- ToneCurveBlue: 0, 0, 255, 255
- ToneCurveGreen: 0, 0, 255, 255
- ToneCurveName: Linear
- ToneCurveName2012: Linear
- ToneCurvePV2012: 0, 0, 255, 255
- ToneCurvePV2012Blue: 0, 0, 255, 255
- ToneCurvePV2012Green: 0, 0, 255, 255
- ToneCurvePV2012Red: 0, 0, 255, 255
- ToneCurveRed: 0, 0, 255, 255
- ToneMapStrength: 0
- Version: 12.4
- Vibrance: +15
- VignetteAmount: 0
- WhiteBalance: As Shot
- Whites2012: +36
- XMP-dc
- XMP-exifEX
- XMP-xmp
- ModifyDate: 2021:11:28 13:30:32+02:00
- XMP-xmpMM
- PreservedFileName: P4820486.RW2
- Просмотров: 56
- Рейтинг: голосов еще нет
- Отзывов: отключены