- Раздел: Другое, разное
- Дата съёмки: неизвестно
- Дата загрузки фото: 06.12.2021 23:06
- Оригинальная фотография: 1875 x 2500 (2,8 Мб)
- Технические характеристики:
- Фотоаппарат: HUAWEI ELS-NX9
- Выдержка: 0,0
- Гиперфокальное расстояние: inf m
- Диафрагма: 3,4
- Светочувствительность: 50
- Фокусное расстояние: 14,0 mm (35 mm equivalent: 126,0 mm)
- Полный EXIF
- Adobe
- ColorTransform: YCbCr
- Composite
- Aperture: 3,4
- CircleOfConfusion: 0,003 mm
- FOV: 16,0 deg
- FocalLength35efl: 14,0 mm (35 mm equivalent: 126,0 mm)
- GPSAltitude: 0 m Above Sea Level
- GPSDateTime: 2021:11:21 09:27:47Z
- GPSLatitude: 180 deg 11' 6,00" N
- GPSLongitude: 33 deg 5' 45,00" E
- GPSPosition: 180 deg 11' 6,00" N, 33 deg 5' 45,00" E
- HyperfocalDistance: inf m
- Megapixels: 4,7
- ScaleFactor35efl: 9,6
- ShutterSpeed: 0,0
- ExifIFD
- ApertureValue: 2,8
- BrightnessValue: 0
- ColorSpace: Uncalibrated
- Contrast: Normal
- CreateDate: 2021:11:21 12:27:47
- CustomRendered: Custom
- DateTimeOriginal: 2021:11:21 12:27:47
- DigitalZoomRatio: 1
- ExposureCompensation: 0
- ExposureMode: Auto
- ExposureProgram: Program AE
- ExposureTime: 0,0
- FNumber: 3,4
- Flash: No Flash
- FocalLength: 14,0 mm
- FocalLengthIn35mmFormat: 135 mm
- GainControl: None
- ISO: 50
- LensModel: HUAWEI P40 Pro Rear Telephoto Camera
- LightSource: Daylight
- MaxApertureValue: 2,8
- MeteringMode: Multi-segment
- Saturation: Normal
- SceneCaptureType: Standard
- SceneType: Directly photographed
- SensingMethod: One-chip color area
- Sharpness: Normal
- ShutterSpeedValue: 1/512
- SubjectDistanceRange: Unknown
- WhiteBalance: Auto
- GPS
- GPSAltitude: 0 m
- GPSAltitudeRef: Below Sea Level
- GPSDateStamp: 2021:11:21
- GPSLatitude: 180 deg 11' 6,00"
- GPSLatitudeRef: North
- GPSLongitude: 33 deg 5' 45,00"
- GPSLongitudeRef: East
- GPSTimeStamp: 09:27:47
- GPSVersionID: 2.2.0.0
- ICC-header
- IFD0
- Make: HUAWEI
- Model: ELS-NX9
- ModifyDate: 2021:12:07 01:05:36
- IFD1
- IPTC
- City: ГњskГјdar
- Country-PrimaryLocationCode: TR
- Country-PrimaryLocationName: Turkey
- DateCreated: 2021:11:21
- Province-State: Istanbul
- System
- XMP-aux
- Lens: HUAWEI P40 Pro Rear Telephoto Camera
- XMP-crs
- AlreadyApplied: True
- AutoLateralCA: 0
- Blacks2012: -16
- BlueHue: 0
- BlueSaturation: 0
- CameraProfile: Embedded
- Clarity2012: 0
- ColorGradeBlending: 50
- ColorGradeGlobalHue: 0
- ColorGradeGlobalLum: 0
- ColorGradeGlobalSat: 0
- ColorGradeHighlightLum: 0
- ColorGradeMidtoneHue: 0
- ColorGradeMidtoneLum: 0
- ColorGradeMidtoneSat: 0
- ColorGradeShadowLum: 0
- ColorNoiseReduction: 0
- Contrast2012: +7
- ConvertToGrayscale: False
- CropAngle: 0
- CropBottom: 0.988702
- CropConstrainToWarp: 1
- CropLeft: 0.011298
- CropRight: 0.988702
- CropTop: 0.011298
- DefringeGreenAmount: 0
- DefringeGreenHueHi: 60
- DefringeGreenHueLo: 40
- DefringePurpleAmount: 0
- DefringePurpleHueHi: 70
- DefringePurpleHueLo: 30
- Dehaze: 0
- Exposure2012: +0.08
- GrainAmount: 0
- GreenHue: 0
- GreenSaturation: 0
- HasCrop: True
- HasSettings: True
- Highlights2012: 0
- HueAdjustmentAqua: 0
- HueAdjustmentBlue: 0
- HueAdjustmentGreen: 0
- HueAdjustmentMagenta: 0
- HueAdjustmentOrange: 0
- HueAdjustmentPurple: 0
- HueAdjustmentRed: 0
- HueAdjustmentYellow: 0
- IncrementalTemperature: +5
- IncrementalTint: +1
- LensManualDistortionAmount: 0
- LensProfileEnable: 0
- LuminanceAdjustmentAqua: 0
- LuminanceAdjustmentBlue: 0
- LuminanceAdjustmentGreen: 0
- LuminanceAdjustmentMagenta: 0
- LuminanceAdjustmentOrange: 0
- LuminanceAdjustmentPurple: 0
- LuminanceAdjustmentRed: 0
- LuminanceAdjustmentYellow: 0
- LuminanceSmoothing: 0
- OverrideLookVignette: False
- ParametricDarks: 0
- ParametricHighlightSplit: 75
- ParametricHighlights: 0
- ParametricLights: 0
- ParametricMidtoneSplit: 50
- ParametricShadowSplit: 25
- ParametricShadows: 0
- PerspectiveAspect: 0
- PerspectiveHorizontal: 0
- PerspectiveRotate: -1.0
- PerspectiveScale: 100
- PerspectiveUpright: 0
- PerspectiveVertical: 0
- PerspectiveX: 0.00
- PerspectiveY: 0.00
- PostCropVignetteAmount: 0
- ProcessVersion: 11.0
- RawFileName:
- RedHue: 0
- RedSaturation: 0
- Saturation: +2
- SaturationAdjustmentAqua: 0
- SaturationAdjustmentBlue: 0
- SaturationAdjustmentGreen: 0
- SaturationAdjustmentMagenta: 0
- SaturationAdjustmentOrange: 0
- SaturationAdjustmentPurple: 0
- SaturationAdjustmentRed: 0
- SaturationAdjustmentYellow: 0
- ShadowTint: 0
- Shadows2012: +45
- Sharpness: 0
- SplitToningBalance: 0
- SplitToningHighlightHue: 0
- SplitToningHighlightSaturation: 0
- SplitToningShadowHue: 0
- SplitToningShadowSaturation: 0
- Texture: 0
- ToneCurveName2012: Linear
- ToneCurvePV2012: 0, 0, 255, 255
- ToneCurvePV2012Blue: 0, 0, 255, 255
- ToneCurvePV2012Green: 0, 0, 255, 255
- ToneCurvePV2012Red: 0, 0, 255, 255
- Version: 13.2
- Vibrance: -7
- VignetteAmount: 0
- WhiteBalance: Custom
- Whites2012: +39
- XMP-dc
- XMP-exifEX
- XMP-iptcCore
- XMP-xmp
- CreateDate: 2021:11:21 12:27:47.427015
- ModifyDate: 2021:12:07 01:05:36+05:00
- XMP-xmpMM
- PreservedFileName: IMG_20211121_122747.jpg
- Просмотров: 77
- Рейтинг: голосов еще нет
- Отзывов: 0