- Раздел: Другое, разное
- Дата съёмки: неизвестно
- Дата загрузки фото: 28.01.2022 16:26
- Оригинальная фотография: 3840 x 2556 (10,4 Мб)
- Технические характеристики:
- Фотоаппарат: Nikon D4
- Выдержка: 0,0
- Гиперфокальное расстояние: inf m
- Диафрагма: 8,0
- Светочувствительность: 2200
- Фокусное расстояние: 420,0 mm (35 mm equivalent: 420,0 mm)
- Экспокоррекция: +1
- Полный EXIF
- Composite
- Aperture: 8,0
- CircleOfConfusion: 0,030 mm
- FOV: 4,0 deg
- FocalLength35efl: 420,0 mm (35 mm equivalent: 420,0 mm)
- HyperfocalDistance: inf m
- LensID: AF Nikkor 300mm f/4 IF-ED
- Megapixels: 9,8
- ScaleFactor35efl: 1,0
- ShutterSpeed: 0,0
- ExifIFD
- ApertureValue: 8,0
- CFAPattern: [Red,Green][Green,Blue]
- ColorSpace: sRGB
- Contrast: Normal
- CreateDate: 2022:01:28 14:10:09
- CustomRendered: Normal
- DateTimeOriginal: 2022:01:28 14:10:09
- DigitalZoomRatio: 1
- ExposureCompensation: +1
- ExposureMode: Manual
- ExposureProgram: Manual
- ExposureTime: 0,0
- FNumber: 8,0
- Flash: No Flash
- FocalLength: 420,0 mm
- FocalLengthIn35mmFormat: 420 mm
- GainControl: High gain up
- ISO: 2200
- LensInfo: 300mm f/4
- LensModel: 300.0 mm f/4.0
- LightSource: Unknown
- MaxApertureValue: 5,7
- MeteringMode: Multi-segment
- Saturation: Normal
- SceneCaptureType: Standard
- SceneType: Directly photographed
- SensingMethod: One-chip color area
- SensitivityType: Recommended Exposure Index
- SerialNumber: 2017057
- Sharpness: Normal
- ShutterSpeedValue: 1/512
- SubjectDistanceRange: Unknown
- WhiteBalance: Auto
- ICC-header
- ICC-meas
- ICC-view
- IFD0
- Make: NIKON CORPORATION
- Model: NIKON D4
- ModifyDate: 2022:01:28 16:04:10
- IPTC
- OriginatingProgram: Topaz Labs
- System
- XMP-aux
- ApproximateFocusDistance: 0,03
- ImageNumber: 180850
- Lens: 300.0 mm f/4.0
- LensID: 16
- XMP-crs
- AlreadyApplied: True
- AutoLateralCA: 0
- Blacks2012: 0
- BlueHue: 0
- BlueSaturation: 0
- Clarity2012: 0
- ColorGradeBlending: 50
- ColorGradeGlobalHue: 0
- ColorGradeGlobalLum: 0
- ColorGradeGlobalSat: 0
- ColorGradeHighlightLum: 0
- ColorGradeMidtoneHue: 0
- ColorGradeMidtoneLum: 0
- ColorGradeMidtoneSat: 0
- ColorGradeShadowLum: 0
- ColorNoiseReduction: 25
- ColorNoiseReductionDetail: 50
- ColorNoiseReductionSmoothness: 50
- ColorTemperature: 6150
- Contrast2012: +1
- ConvertToGrayscale: False
- CropAngle: 0
- CropBottom: 1
- CropConstrainToWarp: 0
- CropLeft: 0
- CropRight: 1
- CropTop: 0
- DefringeGreenAmount: 0
- DefringeGreenHueHi: 60
- DefringeGreenHueLo: 40
- DefringePurpleAmount: 0
- DefringePurpleHueHi: 70
- DefringePurpleHueLo: 30
- Dehaze: 0
- Exposure2012: -0.09
- GrainAmount: 0
- GreenHue: +10
- GreenSaturation: -10
- HasCrop: False
- HasSettings: True
- Highlights2012: -25
- HueAdjustmentAqua: 0
- HueAdjustmentBlue: +5
- HueAdjustmentGreen: +15
- HueAdjustmentMagenta: +15
- HueAdjustmentOrange: -5
- HueAdjustmentPurple: +30
- HueAdjustmentRed: +12
- HueAdjustmentYellow: -10
- LensManualDistortionAmount: 0
- LensProfileEnable: 0
- LuminanceAdjustmentAqua: -15
- LuminanceAdjustmentBlue: -20
- LuminanceAdjustmentGreen: -25
- LuminanceAdjustmentMagenta: -15
- LuminanceAdjustmentOrange: 0
- LuminanceAdjustmentPurple: -5
- LuminanceAdjustmentRed: -20
- LuminanceAdjustmentYellow: 0
- LuminanceSmoothing: 0
- OverrideLookVignette: False
- PaintCorrectionActive: true
- PaintCorrectionAmount: 1.000000
- PaintCorrectionBrightness: 0.000000
- PaintCorrectionClarity2012: 0.000000
- PaintCorrectionContrast2012: 0.000000
- PaintCorrectionCorrectionRangeMaskColorAmount: 0.500000
- PaintCorrectionCorrectionRangeMaskDepthFeather: 0.500000
- PaintCorrectionCorrectionRangeMaskDepthMax: 1.000000
- PaintCorrectionCorrectionRangeMaskDepthMin: 0.000000
- PaintCorrectionCorrectionRangeMaskLumFeather: 0.500000
- PaintCorrectionCorrectionRangeMaskLumMax: 1.000000
- PaintCorrectionCorrectionRangeMaskLumMin: 0.000000
- PaintCorrectionCorrectionRangeMaskType: 0
- PaintCorrectionCorrectionRangeMaskVersion: +2
- PaintCorrectionDefringe: 0.000000
- PaintCorrectionExposure2012: 0.000000
- PaintCorrectionHighlights2012: 0.000000
- PaintCorrectionHue: 240.000000
- PaintCorrectionLocalBlacks2012: 0.082870
- PaintCorrectionLocalDehaze: 0.000000
- PaintCorrectionLocalHue: 0.000000
- PaintCorrectionLocalTexture: 0.000000
- PaintCorrectionLocalWhites2012: 0.000000
- PaintCorrectionLuminanceNoise: 0.524860
- PaintCorrectionMaskCenterWeight: 0.000000
- PaintCorrectionMaskFlow: 1.000000
- PaintCorrectionMaskRadius: 0.009389
- PaintCorrectionMaskValue: 1.000000
- PaintCorrectionMaskWhat: Mask/Paint
- PaintCorrectionMoire: 0.000000
- PaintCorrectionSaturation: 0.000000
- PaintCorrectionShadows2012: 0.281770
- PaintCorrectionSharpness: 0.000000
- PaintCorrectionTemperature: 0.000000
- PaintCorrectionTint: 0.000000
- PaintCorrectionWhat: Correction
- ParametricDarks: +15
- ParametricHighlightSplit: 90
- ParametricHighlights: 0
- ParametricLights: -15
- ParametricMidtoneSplit: 65
- ParametricShadowSplit: 10
- ParametricShadows: -10
- PerspectiveAspect: 0
- PerspectiveHorizontal: 0
- PerspectiveRotate: 0.0
- PerspectiveScale: 100
- PerspectiveUpright: 0
- PerspectiveVertical: 0
- PerspectiveX: 0.00
- PerspectiveY: 0.00
- PostCropVignetteAmount: 0
- ProcessVersion: 11.0
- RawFileName: AAA_1052.NEF
- RedHue: +10
- RedSaturation: +10
- Saturation: +5
- SaturationAdjustmentAqua: 0
- SaturationAdjustmentBlue: +10
- SaturationAdjustmentGreen: -10
- SaturationAdjustmentMagenta: -15
- SaturationAdjustmentOrange: -5
- SaturationAdjustmentPurple: 0
- SaturationAdjustmentRed: 0
- SaturationAdjustmentYellow: 0
- ShadowTint: 0
- Shadows2012: +23
- SharpenDetail: 25
- SharpenEdgeMasking: 0
- SharpenRadius: +1.6
- Sharpness: 55
- SplitToningBalance: 0
- SplitToningHighlightHue: 275
- SplitToningHighlightSaturation: 0
- SplitToningShadowHue: 0
- SplitToningShadowSaturation: 0
- Texture: 0
- Tint: -19
- ToneCurveName2012: Fortia SP - -
- ToneCurvePV2012: 0, 0, 47, 56, 124, 125, 255, 255
- ToneCurvePV2012Blue: 0, 0, 37, 7, 56, 24, 105, 114, 171, 204, 255, 253
- ToneCurvePV2012Green: 0, 0, 37, 7, 55, 23, 104, 115, 171, 204, 255, 255
- ToneCurvePV2012Red: 0, 0, 37, 7, 56, 24, 103, 115, 171, 205, 255, 255
- Version: 13.3
- Vibrance: +5
- VignetteAmount: 0
- WhiteBalance: As Shot
- Whites2012: 0
- XMP-dc
- XMP-xmp
- CreateDate: 2022:01:28 14:10:09.90
- ModifyDate: 2022:01:28 16:04:10+03:00
- XMP-xmpMM
- PreservedFileName: AAA_1052.NEF