- Раздел: Заставки, обои
- Дата съёмки: 07.06.2014 14:32
- Дата загрузки фото: 13.08.2022 10:50
- Оригинальная фотография: 1440 x 3200 (4,4 Мб)
- Технические характеристики:
- Фотоаппарат: ЩѕШі ШІЩ…ЫЊЩ†Щ‡ ШІЫЊШЁШ§ ШЁШ±Ш§ЫЊ ЪЇЩ?ШґЫЊ Canon E
- Выдержка: 0,0
- Гиперфокальное расстояние: inf m
- Диафрагма: 3,5
- Светочувствительность: 100
- Фокусное расстояние: 16,0 mm (35 mm equivalent: 32,0 mm)
- Полный EXIF
- Composite
- Aperture: 3,5
- CircleOfConfusion: 0,010 mm
- FOV: 58,0 deg
- FocalLength35efl: 16,0 mm (35 mm equivalent: 32,0 mm)
- HyperfocalDistance: inf m
- LensID: Unknown (246)
- Megapixels: 4,6
- ScaleFactor35efl: 2,9
- ShutterSpeed: 0,0
- ExifIFD
- ApertureValue: 2,8
- ColorSpace: Uncalibrated
- CreateDate: 2014:06:07 14:32:14
- CustomRendered: Normal
- DateTimeOriginal: 2014:06:07 14:32:14
- ExifImageHeight: 1920
- ExifImageWidth: 1280
- ExposureCompensation: 0
- ExposureMode: Manual
- ExposureProgram: Manual
- ExposureTime: 0,0
- FNumber: 3,5
- Flash: On, Red-eye reduction, Return detected
- FocalLength: 16,0 mm
- ISO: 100
- LensInfo: 16-35mm f/?
- LensModel: EF16-35mm f/2.8L II USM
- MaxApertureValue: 2,8
- MeteringMode: Multi-segment
- SceneCaptureType: Standard
- SerialNumber: 1831123146
- ShutterSpeedValue: 1/1024
- UserComment: ЩѕШі ШІЩ…ЫЊЩ†Щ‡ ШІЫЊШЁШ§ ШЁШ±Ш§ЫЊ ЪЇЩ€ШґЫЊ
- WhiteBalance: Manual
- ICC-header
- IFD0
- Artist: ЩѕШі ШІЩ…ЫЊЩ†Щ‡ ШІЫЊШЁШ§ ШЁШ±Ш§ЫЊ ЪЇЩ€ШґЫЊ
- BitsPerSample: 8 8 8
- Copyright: https://mag.noorgram.ir/
- ImageDescription: ЩѕШі ШІЩ…ЫЊЩ†Щ‡ ШІЫЊШЁШ§ ШЁШ±Ш§ЫЊ ЪЇЩ€ШґЫЊ
- ImageHeight: 1920
- ImageWidth: 1280
- Make: ЩѕШі ШІЩ…ЫЊЩ†Щ‡ ШІЫЊШЁШ§ ШЁШ±Ш§ЫЊ ЪЇЩ€ШґЫЊ
- Model: Canon EOS 5D Mark II
- ModifyDate: 2017:05:16 20:11:34
- Orientation: Horizontal (normal)
- Rating: 5
- RatingPercent: 99
- SamplesPerPixel: 3
- Software: Movavi Фоторедактор
- XPAuthor: ЩѕШі ШІЩ…ЫЊЩ†Щ‡ ШІЫЊШЁШ§ ШЁШ±Ш§ЫЊ ЪЇЩ€ШґЫЊ
- XPComment: ЩѕШі ШІЩ…ЫЊЩ†Щ‡ ШІЫЊШЁШ§ ШЁШ±Ш§ЫЊ ЪЇЩ€ШґЫЊ
- XPKeywords: ЩѕШі ШІЩ…ЫЊЩ†Щ‡ ШІЫЊШЁШ§ ШЁШ±Ш§ЫЊ ЪЇЩ€ШґЫЊ
- XPTitle: ЩѕШі ШІЩ…ЫЊЩ†Щ‡ ШІЫЊШЁШ§ ШЁШ±Ш§ЫЊ ЪЇЩ€ШґЫЊ
- IFD1
- IPTC
- By-line: ЩѕШі ШІЩ…ЫЊЩ†Щ‡ ШІЫЊШЁШ§ ШЁШ±Ш§ЫЊ ЪЇЩ€ШґЫЊ
- Caption-Abstract: ЩѕШі ШІЩ…ЫЊЩ†Щ‡ ШІЫЊШЁШ§ ШЁШ±Ш§ЫЊ ЪЇЩ€ШґЫЊ
- CopyrightNotice: https://mag.noorgram.ir/
- DateCreated: 2014:06:07
- Keywords: ЩѕШі ШІЩ…ЫЊЩ†Щ‡ ШІЫЊШЁШ§ ШЁШ±Ш§ЫЊ ЪЇЩ€ШґЫЊ
- System
- XMP-aux
- ApproximateFocusDistance: 4294967295
- Firmware: 2.0.4
- FlashCompensation: 0
- ImageNumber: 0
- Lens: EF16-35mm f/2.8L II USM
- LensID: 246
- XMP-crs
- AlreadyApplied: True
- AutoLateralCA: 0
- Blacks2012: +30
- BlueHue: 0
- BlueSaturation: 0
- CameraProfile: Fuji 160C 2C
- Clarity2012: 0
- ColorNoiseReduction: 0
- Contrast2012: 0
- ConvertToGrayscale: False
- DefringeGreenAmount: 0
- DefringeGreenHueHi: 60
- DefringeGreenHueLo: 40
- DefringePurpleAmount: 0
- DefringePurpleHueHi: 70
- DefringePurpleHueLo: 30
- Exposure2012: 0.00
- GrainAmount: 0
- GreenHue: 0
- GreenSaturation: 0
- HasCrop: False
- HasSettings: True
- Highlights2012: -49
- HueAdjustmentAqua: +26
- HueAdjustmentBlue: -8
- HueAdjustmentGreen: +8
- HueAdjustmentMagenta: +30
- HueAdjustmentOrange: +8
- HueAdjustmentPurple: +10
- HueAdjustmentRed: +5
- HueAdjustmentYellow: 0
- IncrementalTemperature: 0
- IncrementalTint: 0
- LensManualDistortionAmount: 0
- LensProfileEnable: 0
- LensProfileSetup: LensDefaults
- LuminanceAdjustmentAqua: +85
- LuminanceAdjustmentBlue: +2
- LuminanceAdjustmentGreen: +10
- LuminanceAdjustmentMagenta: 0
- LuminanceAdjustmentOrange: -5
- LuminanceAdjustmentPurple: -15
- LuminanceAdjustmentRed: 0
- LuminanceAdjustmentYellow: +5
- LuminanceSmoothing: 0
- PaintCorrectionActive: true
- PaintCorrectionAmount: 1.000000
- PaintCorrectionBrightness: 0.000000
- PaintCorrectionClarity2012: 0.000000
- PaintCorrectionContrast2012: 0.000000
- PaintCorrectionDefringe: 0.000000
- PaintCorrectionExposure2012: 0.000000
- PaintCorrectionHighlights2012: 0.000000
- PaintCorrectionHue: 33.000000
- PaintCorrectionLuminanceNoise: 0.000000
- PaintCorrectionMaskCenterWeight: 0.162140
- PaintCorrectionMaskFlow: 0.791000
- PaintCorrectionMaskRadius: 0.034116
- PaintCorrectionMaskValue: 1.000000
- PaintCorrectionMaskWhat: Mask/Paint
- PaintCorrectionMoire: 0.000000
- PaintCorrectionSaturation: 0.000000
- PaintCorrectionShadows2012: 0.295455
- PaintCorrectionSharpness: 0.000000
- PaintCorrectionTemperature: 0.431818
- PaintCorrectionTint: 0.000000
- PaintCorrectionWhat: Correction
- ParametricDarks: 0
- ParametricHighlightSplit: 75
- ParametricHighlights: 0
- ParametricLights: 0
- ParametricMidtoneSplit: 50
- ParametricShadowSplit: 25
- ParametricShadows: 0
- PerspectiveHorizontal: 0
- PerspectiveRotate: 0.0
- PerspectiveScale: 100
- PerspectiveVertical: 0
- PostCropVignetteAmount: 0
- ProcessVersion: 6.7
- RedHue: +5
- RedSaturation: 0
- Saturation: -9
- SaturationAdjustmentAqua: -23
- SaturationAdjustmentBlue: -15
- SaturationAdjustmentGreen: -15
- SaturationAdjustmentMagenta: +16
- SaturationAdjustmentOrange: +8
- SaturationAdjustmentPurple: -11
- SaturationAdjustmentRed: +10
- SaturationAdjustmentYellow: +5
- ShadowTint: 0
- Shadows2012: +10
- SharpenDetail: 25
- SharpenEdgeMasking: 0
- SharpenRadius: +1.0
- Sharpness: 0
- SplitToningBalance: 0
- SplitToningHighlightHue: 250
- SplitToningHighlightSaturation: 2
- SplitToningShadowHue: 65
- SplitToningShadowSaturation: 5
- ToneCurveName2012: Custom
- ToneCurvePV2012: 0, 5, 123, 126, 255, 255
- ToneCurvePV2012Blue: 0, 0, 34, 22, 114, 127, 186, 203, 255, 253
- ToneCurvePV2012Green: 0, 0, 34, 24, 114, 127, 186, 203, 255, 253
- ToneCurvePV2012Red: 0, 0, 34, 22, 117, 127, 186, 203, 255, 255
- Version: 7.3
- Vibrance: +11
- VignetteAmount: -62
- VignetteMidpoint: 36
- WhiteBalance: As Shot
- Whites2012: -5
- XMP-dc
- Creator: ЩѕШі ШІЩ…ЫЊЩ†Щ‡ ШІЫЊШЁШ§ ШЁШ±Ш§ЫЊ ЪЇЩ€ШґЫЊ
- Description: ЩѕШі ШІЩ…ЫЊЩ†Щ‡ ШІЫЊШЁШ§ ШЁШ±Ш§ЫЊ ЪЇЩ€ШґЫЊ
- Format: image/jpeg
- Rights: https://mag.noorgram.ir/
- Subject: ЩѕШі ШІЩ…ЫЊЩ†Щ‡ ШІЫЊШЁШ§ ШЁШ±Ш§ЫЊ ЪЇЩ€ШґЫЊ
- Title: ЩѕШі ШІЩ…ЫЊЩ†Щ‡ ШІЫЊШЁШ§ ШЁШ±Ш§ЫЊ ЪЇЩ€ШґЫЊ
- XMP-iptcCore
- CreatorWorkEmail: ele@avisiblesignofmyown.com
- CreatorWorkURL: blog.avisiblesignofmyown.com
- XMP-microsoft
- LastKeywordIPTC: ЩѕШі ШІЩ…ЫЊЩ†Щ‡ ШІЫЊШЁШ§ ШЁШ±Ш§ЫЊ ЪЇЩ€ШґЫЊ
- LastKeywordXMP: ЩѕШі ШІЩ…ЫЊЩ†Щ‡ ШІЫЊШЁШ§ ШЁШ±Ш§ЫЊ ЪЇЩ€ШґЫЊ
- XMP-x
- XMP-xmp
- ModifyDate: 2017:05:16 20:11:34+01:00
- XMP-xmpMM
- XMP-xmpRights
- Просмотров: 789
- Рейтинг: голосов еще нет
- Отзывов: 0