- Раздел: Животные
- Дата съёмки: неизвестно
- Дата загрузки фото: 22.08.2022 09:17
- Оригинальная фотография: 2000 x 2150 (2,6 Мб)
- Технические характеристики:
- Фотоаппарат: Canon PowerShot SX50 HS
- Выдержка: 0,0
- Гиперфокальное расстояние: inf m
- Диафрагма: 6,5
- Светочувствительность: 200
- Фокусное расстояние: 215,0 mm (35 mm equivalent: 1075,0 mm)
- Экспокоррекция: -1/3
- Полный EXIF
- Adobe
- ColorTransform: YCbCr
- Composite
- Aperture: 6,5
- CircleOfConfusion: 0,005 mm
- FOV: 1,0 deg
- Flash: Off, Did not fire
- FocalLength35efl: 215,0 mm (35 mm equivalent: 1075,0 mm)
- HyperfocalDistance: inf m
- Megapixels: 4,3
- ScaleFactor35efl: 5,6
- ShutterSpeed: 0,0
- ExifIFD
- ApertureValue: 5,7
- ColorSpace: sRGB
- CreateDate: 2022:08:21 12:10:04
- CustomRendered: Normal
- DateTimeOriginal: 2022:08:21 12:10:04
- DigitalZoomRatio: 1
- ExifImageHeight: 2150
- ExifImageWidth: 2000
- ExposureCompensation: 0
- ExposureMode: Manual
- ExposureTime: 0,0
- FNumber: 6,5
- FocalLength: 215,0 mm
- ISO: 200
- LensInfo: 4.3-215mm f/?
- LensModel: 4.3-215.0 mm
- MaxApertureValue: 5,7
- MeteringMode: Multi-segment
- SceneCaptureType: Standard
- SensingMethod: One-chip color area
- SensitivityType: Standard Output Sensitivity and Recommended Exposure Index
- ShutterSpeedValue: 1/1024
- WhiteBalance: Auto
- ICC-header
- ICC-meas
- ICC-view
- IFD0
- Artist: ALEKSANDR SMIRNOV
- Copyright: tondra@yandex.ru
- Make: Canon
- Model: Canon PowerShot SX50 HS
- ModifyDate: 2022:08:21 20:22:54
- Orientation: Horizontal (normal)
- IFD1
- IPTC
- By-line: ALEKSANDR SMIRNOV
- CopyrightNotice: tondra@yandex.ru
- DateCreated: 2022:08:21
- System
- XMP-aux
- ApproximateFocusDistance: 58,9
- Firmware: 1.00
- FlashCompensation: 0
- Lens: 4.3-215.0 mm
- XMP-crs
- AlreadyApplied: True
- AutoLateralCA: 0
- Blacks2012: +25
- BlueHue: 0
- BlueSaturation: 0
- CameraProfile: Embedded
- Clarity2012: +13
- ColorNoiseReduction: 0
- Contrast2012: +21
- ConvertToGrayscale: False
- DefringeGreenAmount: 0
- DefringeGreenHueHi: 60
- DefringeGreenHueLo: 40
- DefringePurpleAmount: 0
- DefringePurpleHueHi: 70
- DefringePurpleHueLo: 30
- Dehaze: 0
- Exposure2012: 0.00
- GrainAmount: 0
- GreenHue: 0
- GreenSaturation: 0
- HasCrop: False
- HasSettings: True
- Highlights2012: +4
- HueAdjustmentAqua: 0
- HueAdjustmentBlue: 0
- HueAdjustmentGreen: 0
- HueAdjustmentMagenta: 0
- HueAdjustmentOrange: 0
- HueAdjustmentPurple: 0
- HueAdjustmentRed: 0
- HueAdjustmentYellow: 0
- IncrementalTemperature: 0
- IncrementalTint: 0
- LensManualDistortionAmount: 0
- LensProfileEnable: 0
- LensProfileSetup: LensDefaults
- LuminanceAdjustmentAqua: 0
- LuminanceAdjustmentBlue: 0
- LuminanceAdjustmentGreen: 0
- LuminanceAdjustmentMagenta: 0
- LuminanceAdjustmentOrange: 0
- LuminanceAdjustmentPurple: 0
- LuminanceAdjustmentRed: 0
- LuminanceAdjustmentYellow: 0
- LuminanceSmoothing: 0
- ParametricDarks: 0
- ParametricHighlightSplit: 75
- ParametricHighlights: 0
- ParametricLights: 0
- ParametricMidtoneSplit: 50
- ParametricShadowSplit: 25
- ParametricShadows: 0
- PerspectiveAspect: 0
- PerspectiveHorizontal: 0
- PerspectiveRotate: 0.0
- PerspectiveScale: 100
- PerspectiveUpright: 0
- PerspectiveVertical: 0
- PerspectiveX: 0.00
- PerspectiveY: 0.00
- PostCropVignetteAmount: 0
- ProcessVersion: 6.7
- RawFileName: 041.JPG
- RedHue: 0
- RedSaturation: 0
- Saturation: 0
- SaturationAdjustmentAqua: 0
- SaturationAdjustmentBlue: 0
- SaturationAdjustmentGreen: 0
- SaturationAdjustmentMagenta: 0
- SaturationAdjustmentOrange: 0
- SaturationAdjustmentPurple: 0
- SaturationAdjustmentRed: 0
- SaturationAdjustmentYellow: 0
- ShadowTint: 0
- Shadows2012: +37
- SharpenDetail: 25
- SharpenEdgeMasking: 0
- SharpenRadius: +1.0
- Sharpness: 0
- SplitToningBalance: 0
- SplitToningHighlightHue: 0
- SplitToningHighlightSaturation: 0
- SplitToningShadowHue: 0
- SplitToningShadowSaturation: 0
- ToneCurve: 0, 0, 255, 255
- ToneCurveBlue: 0, 0, 255, 255
- ToneCurveGreen: 0, 0, 255, 255
- ToneCurveName: Linear
- ToneCurveName2012: Linear
- ToneCurvePV2012: 0, 0, 255, 255
- ToneCurvePV2012Blue: 0, 0, 255, 255
- ToneCurvePV2012Green: 0, 0, 255, 255
- ToneCurvePV2012Red: 0, 0, 255, 255
- ToneCurveRed: 0, 0, 255, 255
- ToneMapStrength: 0
- Version: 9.12.1
- Vibrance: +14
- VignetteAmount: 0
- WhiteBalance: As Shot
- Whites2012: +31
- XMP-dc
- Creator: ALEKSANDR SMIRNOV
- Format: image/jpeg
- Rights: tondra@yandex.ru
- XMP-exif
- ApertureValue: 6,5
- DateTimeDigitized: 2022:08:21 12:10:04+05:00
- DateTimeOriginal: 2022:08:21 12:10:04+05:00
- ExposureCompensation: -1/3
- ExposureTime: 1/1250
- FlashFired: False
- FlashFunction: False
- FlashMode: Off
- FlashRedEyeMode: False
- FlashReturn: No return detection
- MaxApertureValue: 6,5
- ShutterSpeedValue: 1/1250
- XMP-microsoft
- DateAcquired: 2022:08:21 20:02:32.118
- XMP-rdf
- XMP-tiff
- XMP-x
- XMP-xmp
- CreateDate: 2022:08:21 20:22:54+05:00
- ModifyDate: 2022:08:21 20:22:54+05:00
- XMP-xmpMM
- Просмотров: 326
- Рейтинг: голосов еще нет
- Отзывов: 0