- Раздел: Животные
- Дата съёмки: неизвестно
- Дата загрузки фото: 28.08.2022 20:32
- Оригинальная фотография: 1920 x 1286 (1,2 Мб)
- Технические характеристики:
- Фотоаппарат: Panasonic DC-S1R
- Выдержка: 0,0
- Гиперфокальное расстояние: inf m
- Диафрагма: 7,1
- Светочувствительность: 400
- Фокусное расстояние: 600,0 mm (35 mm equivalent: 600,0 mm)
- Экспокоррекция: -1
- Полный EXIF
- Adobe
- ColorTransform: YCbCr
- Composite
- Aperture: 7,1
- CircleOfConfusion: 0,030 mm
- FOV: 3,0 deg
- FocalLength35efl: 600,0 mm (35 mm equivalent: 600,0 mm)
- HyperfocalDistance: inf m
- Megapixels: 2,5
- ScaleFactor35efl: 1,0
- ShutterSpeed: 0,0
- ExifIFD
- ApertureValue: 5,7
- ColorSpace: sRGB
- CreateDate: 2022:08:28 13:04:02
- DateTimeOriginal: 2022:08:28 13:04:02
- ExposureCompensation: -1
- ExposureMode: Manual
- ExposureProgram: Manual
- ExposureTime: 0,0
- FNumber: 7,1
- Flash: Off, Did not fire
- FocalLength: 600,0 mm
- FocalLengthIn35mmFormat: 600 mm
- ISO: 400
- LensModel: IE'GA$@;">9!;9!:;!A>"BB$BB$AA#>< 87 645176@9#@;$A:$<8!51
- LensSerialNumber: 1.0,40:4!;5
- LightSource: Unknown
- MaxApertureValue: 5,7
- MeteringMode: Multi-segment
- SensingMethod: One-chip color area
- SensitivityType: Standard Output Sensitivity
- SerialNumber: WJ9EB001051
- ShutterSpeedValue: 1/512
- StandardOutputSensitivity: 1
- WhiteBalance: Auto
- ICC-header
- ICC-meas
- ICC-view
- IFD0
- Make: Panasonic
- Model: DC-S1R
- ModifyDate: 2022:08:28 20:05:41
- IFD1
- IPTC
- DateCreated: 2022:08:28
- System
- XMP-aux
- Lens: IE'GA$@;">9!;9!:;!A>"BB$BB$AA#>< 87 645176@9#@;$A:$<8!51
- XMP-crs
- AlreadyApplied: True
- AutoLateralCA: 0
- Blacks2012: -38
- BlueHue: 0
- BlueSaturation: 0
- CameraProfile: Embedded
- Clarity2012: 0
- ColorGradeBlending: 50
- ColorGradeGlobalHue: 241
- ColorGradeGlobalLum: 0
- ColorGradeGlobalSat: 0
- ColorGradeHighlightLum: 0
- ColorGradeMidtoneHue: 0
- ColorGradeMidtoneLum: 0
- ColorGradeMidtoneSat: 0
- ColorGradeShadowLum: 0
- ColorNoiseReduction: 25
- ColorNoiseReductionDetail: 50
- ColorNoiseReductionSmoothness: 50
- ColorTemperature: 4750
- Contrast2012: +7
- ConvertToGrayscale: False
- CropAngle: 0
- CropBottom: 0.752154
- CropConstrainToWarp: 0
- CropLeft: 0.192291
- CropRight: 0.796397
- CropTop: 0.148048
- DefringeGreenAmount: 3
- DefringeGreenHueHi: 90
- DefringeGreenHueLo: 13
- DefringePurpleAmount: 3
- DefringePurpleHueHi: 88
- DefringePurpleHueLo: 9
- Dehaze: 0
- Exposure2012: +0.97
- GrainAmount: 0
- GreenHue: 0
- GreenSaturation: 0
- HasCrop: True
- HasSettings: True
- Highlights2012: -71
- HueAdjustmentAqua: 0
- HueAdjustmentBlue: 0
- HueAdjustmentGreen: 0
- HueAdjustmentMagenta: 0
- HueAdjustmentOrange: 0
- HueAdjustmentPurple: 0
- HueAdjustmentRed: 0
- HueAdjustmentYellow: 0
- LensManualDistortionAmount: 0
- LensProfileEnable: 0
- LuminanceAdjustmentAqua: 0
- LuminanceAdjustmentBlue: 0
- LuminanceAdjustmentGreen: 0
- LuminanceAdjustmentMagenta: 0
- LuminanceAdjustmentOrange: 0
- LuminanceAdjustmentPurple: 0
- LuminanceAdjustmentRed: 0
- LuminanceAdjustmentYellow: 0
- LuminanceSmoothing: 0
- OverrideLookVignette: False
- ParametricDarks: 0
- ParametricHighlightSplit: 75
- ParametricHighlights: 0
- ParametricLights: 0
- ParametricMidtoneSplit: 50
- ParametricShadowSplit: 25
- ParametricShadows: 0
- PerspectiveAspect: 0
- PerspectiveHorizontal: 0
- PerspectiveRotate: 0.0
- PerspectiveScale: 100
- PerspectiveUpright: 0
- PerspectiveVertical: 0
- PerspectiveX: 0.00
- PerspectiveY: 0.00
- PostCropVignetteAmount: 0
- ProcessVersion: 11.0
- RawFileName:
- RedHue: 0
- RedSaturation: 0
- Saturation: +5
- SaturationAdjustmentAqua: -45
- SaturationAdjustmentBlue: -63
- SaturationAdjustmentGreen: 0
- SaturationAdjustmentMagenta: 0
- SaturationAdjustmentOrange: 0
- SaturationAdjustmentPurple: 0
- SaturationAdjustmentRed: 0
- SaturationAdjustmentYellow: 0
- ShadowTint: 0
- Shadows2012: +58
- SharpenDetail: 25
- SharpenEdgeMasking: 0
- SharpenRadius: +1.0
- Sharpness: 19
- SplitToningBalance: 0
- SplitToningHighlightHue: 0
- SplitToningHighlightSaturation: 0
- SplitToningShadowHue: 0
- SplitToningShadowSaturation: 0
- Texture: 0
- Tint: +15
- ToneCurveName2012: Linear
- ToneCurvePV2012: 0, 0, 255, 255
- ToneCurvePV2012Blue: 0, 0, 255, 255
- ToneCurvePV2012Green: 0, 0, 255, 255
- ToneCurvePV2012Red: 0, 0, 255, 255
- Version: 14.3
- Vibrance: +13
- VignetteAmount: 0
- WhiteBalance: Custom
- Whites2012: +23
- XMP-dc
- XMP-exifEX
- XMP-xmp
- CreateDate: 2022:08:28 13:04:02.101
- ModifyDate: 2022:08:28 20:05:41+03:00
- XMP-xmpMM
- PreservedFileName: P1344706-SharpenAI-Focus.dng
- Просмотров: 91
- Рейтинг: голосов еще нет
- Отзывов: 0