- Раздел: Другое, разное
- Дата съёмки: неизвестно
- Дата загрузки фото: 07.09.2022 14:53
- Оригинальная фотография: 4690 x 3676 (2,3 Мб)
- Технические характеристики:
- Фотоаппарат: Olympus E-M1MarkIII
- Выдержка: 0,0
- Гиперфокальное расстояние: inf m
- Диафрагма: 8,0
- Светочувствительность: 1250
- Фокусное расстояние: 600,0 mm (35 mm equivalent: 1200,0 mm)
- Полный EXIF
- Adobe
- ColorTransform: YCbCr
- Composite
- Aperture: 8,0
- CircleOfConfusion: 0,015 mm
- DOF: inf (0,00 m - inf)
- FOV: 1,0 deg
- FocalLength35efl: 600,0 mm (35 mm equivalent: 1200,0 mm)
- HyperfocalDistance: inf m
- Megapixels: 17,2
- ScaleFactor35efl: 2,0
- ShutterSpeed: 0,0
- ExifIFD
- ApertureValue: 8,0
- CFAPattern: [Red,Green][Green,Blue]
- ColorSpace: sRGB
- Contrast: Normal
- CreateDate: 2022:08:11 17:53:49
- CustomRendered: Normal
- DateTimeOriginal: 2022:08:11 17:53:49
- DigitalZoomRatio: 1
- ExposureCompensation: 0
- ExposureMode: Auto
- ExposureProgram: Aperture-priority AE
- ExposureTime: 0,0
- FNumber: 8,0
- Flash: On, Did not fire
- FocalLength: 600,0 mm
- FocalLengthIn35mmFormat: 1202 mm
- GainControl: High gain up
- ISO: 1250
- LensInfo: 600mm f/8
- LensModel: M.300mm F4.0 + MC-20
- LensSerialNumber: ACA001589
- LightSource: Unknown
- MaxApertureValue: 8,0
- MeteringMode: Multi-segment
- Saturation: Normal
- SceneCaptureType: Standard
- SensitivityType: Standard Output Sensitivity
- SerialNumber: BJDA05630
- Sharpness: Normal
- ShutterSpeedValue: 1/1024
- SubjectDistance: 8,065 m
- WhiteBalance: Auto
- ICC-header
- ICC-meas
- ICC-view
- IFD0
- Artist: Aleksey Zaytsev aka AZ
- Copyright:
- Make: OLYMPUS CORPORATION
- Model: E-M1MarkIII
- ModifyDate: 2022:08:12 10:26:03
- IFD1
- IPTC
- By-line: Aleksey Zaytsev aka AZ
- CopyrightNotice:
- DateCreated: 2022:08:11
- Keywords: #fauna, #птицы, Merops apiaster, Золотистая щурка
- System
- XMP-DxO
- OriginalColorspace: sRGB
- WhiteLevel: 30734
- XMP-aux
- ApproximateFocusDistance: 8,065
- FlashCompensation: 0
- Lens: M.300mm F4.0 + MC-20
- XMP-crs
- AlreadyApplied: True
- AutoLateralCA: 0
- Blacks2012: 0
- BlueHue: 0
- BlueSaturation: 0
- Clarity2012: 0
- ColorGradeBlending: 50
- ColorGradeGlobalHue: 0
- ColorGradeGlobalLum: 0
- ColorGradeGlobalSat: 0
- ColorGradeHighlightLum: 0
- ColorGradeMidtoneHue: 0
- ColorGradeMidtoneLum: 0
- ColorGradeMidtoneSat: 0
- ColorGradeShadowLum: 0
- ColorNoiseReduction: 0
- ColorTemperature: 4600
- CompatibleVersion: 234881024
- Contrast2012: 0
- CropAngle: 0
- CropBottom: 0.953959
- CropConstrainToWarp: 0
- CropLeft: 0
- CropRight: 0.904666
- CropTop: 0.008654
- DefringeGreenAmount: 0
- DefringeGreenHueHi: 60
- DefringeGreenHueLo: 40
- DefringePurpleAmount: 0
- DefringePurpleHueHi: 70
- DefringePurpleHueLo: 30
- Dehaze: 0
- Exposure2012: 0.00
- GrainAmount: 0
- GreenHue: 0
- GreenSaturation: 0
- HasCrop: True
- HasSettings: True
- Highlights2012: -80
- HueAdjustmentAqua: 0
- HueAdjustmentBlue: 0
- HueAdjustmentGreen: 0
- HueAdjustmentMagenta: 0
- HueAdjustmentOrange: 0
- HueAdjustmentPurple: 0
- HueAdjustmentRed: 0
- HueAdjustmentYellow: 0
- LensManualDistortionAmount: 0
- LensProfileEnable: 0
- LookAmount: 1
- LookParametersConvertToGrayscale: False
- LookParametersLookTable: E1095149FDB39D7A057BAB208837E2E1
- LookParametersProcessVersion: 11.0
- LookParametersToneCurvePV2012: 0, 0, 22, 16, 40, 35, 127, 127, 224, 230, 240, 246, 255, 255
- LookParametersVersion: 14.3
- LuminanceAdjustmentAqua: 0
- LuminanceAdjustmentBlue: 0
- LuminanceAdjustmentGreen: 0
- LuminanceAdjustmentMagenta: 0
- LuminanceAdjustmentOrange: 0
- LuminanceAdjustmentPurple: 0
- LuminanceAdjustmentRed: 0
- LuminanceAdjustmentYellow: 0
- LuminanceSmoothing: 0