- Раздел: Животные
- Дата съёмки: неизвестно
- Дата загрузки фото: 17.09.2022 22:46
- Оригинальная фотография: 1591 x 1013 (331 Кб)
- Технические характеристики:
- Фотоаппарат: Nikon D5100
- Выдержка: 0,0
- Гиперфокальное расстояние: inf m
- Диафрагма: 8,0
- Светочувствительность: 400
- Фокусное расстояние: 300,0 mm (35 mm equivalent: 300,0 mm)
- Полный EXIF
- Adobe
- ColorTransform: YCbCr
- Composite
- Aperture: 8,0
- CircleOfConfusion: 0,020 mm
- FOV: 6,0 deg
- FocalLength35efl: 300,0 mm (35 mm equivalent: 300,0 mm)
- HyperfocalDistance: inf m
- LensID: AF-S VR Zoom-Nikkor 70-300mm f/4.5-5.6G IF-ED
- Megapixels: 1,6
- ScaleFactor35efl: 1,5
- ShutterSpeed: 0,0
- ExifIFD
- ApertureValue: 8,0
- CFAPattern: [Red,Green][Green,Blue]
- ColorSpace: sRGB
- Contrast: Normal
- CreateDate: 2017:03:14 11:55:40
- CustomRendered: Normal
- DateTimeOriginal: 2017:03:14 11:55:40
- DigitalZoomRatio: 1
- ExifImageHeight: 1013
- ExifImageWidth: 1591
- ExposureCompensation: 0
- ExposureMode: Auto
- ExposureProgram: Aperture-priority AE
- ExposureTime: 0,0
- FNumber: 8,0
- Flash: No Flash
- FocalLength: 300,0 mm
- FocalLengthIn35mmFormat: 450 mm
- GainControl: Low gain up
- ISO: 400
- LensInfo: 70-300mm f/4.5-5.6
- LensModel: 70.0-300.0 mm f/4.5-5.6
- LightSource: Fine Weather
- MaxApertureValue: 5,7
- MeteringMode: Multi-segment
- Saturation: Normal
- SceneCaptureType: Standard
- SceneType: Directly photographed
- SensingMethod: One-chip color area
- SensitivityType: Recommended Exposure Index
- SerialNumber: 6993028
- Sharpness: Normal
- ShutterSpeedValue: 1/512
- SubjectDistanceRange: Unknown
- WhiteBalance: Manual
- ICC-header
- ICC-meas
- ICC-view
- IFD0
- BitsPerSample: 8 8 8
- ImageHeight: 1025
- ImageWidth: 1600
- Make: NIKON CORPORATION
- Model: NIKON D5100
- ModifyDate: 2022:09:17 22:45:42
- Orientation: Horizontal (normal)
- PhotometricInterpretation: RGB
- SamplesPerPixel: 3
- IFD1
- IPTC
- DateCreated: 2017:03:14
- System
- XMP-aux
- ApproximateFocusDistance: 9,44
- DistortionCorrectionAlreadyApplied: True
- ImageNumber: 26594
- LateralChromaticAberrationCorrectionAlreadyApplied: True
- Lens: 70.0-300.0 mm f/4.5-5.6
- LensID: 141
- VignetteCorrectionAlreadyApplied: True
- XMP-crs
- AlreadyApplied: True
- AutoLateralCA: 1
- AutoWhiteVersion: 134348800
- Blacks2012: +63
- BlueHue: -9
- BlueSaturation: -7
- Clarity2012: 0
- ColorNoiseReduction: 31
- ColorNoiseReductionDetail: 50
- ColorNoiseReductionSmoothness: 50
- ColorTemperature: 5200
- Contrast2012: +2
- ConvertToGrayscale: False
- DefringeGreenAmount: 0
- DefringeGreenHueHi: 60
- DefringeGreenHueLo: 40
- DefringePurpleAmount: 4
- DefringePurpleHueHi: 70
- DefringePurpleHueLo: 25
- Dehaze: 0
- Exposure2012: +1.10
- GrainAmount: 0
- GreenHue: 0
- GreenSaturation: 0
- HasCrop: False
- HasSettings: True
- Highlights2012: -8
- HueAdjustmentAqua: 0
- HueAdjustmentBlue: 0
- HueAdjustmentGreen: 0
- HueAdjustmentMagenta: 0
- HueAdjustmentOrange: 0
- HueAdjustmentPurple: -24
- HueAdjustmentRed: 0
- HueAdjustmentYellow: -6
- LensManualDistortionAmount: 0
- LensProfileChromaticAberrationScale: 100
- LensProfileDistortionScale: 100
- LensProfileEnable: 1
- LensProfileFilename: NIKON D700 (Nikon FX 70-300mm f4.5-5.6 G IF-ED VR v2) - RAW.lcp
- LensProfileSetup: LensDefaults
- LensProfileVignettingScale: 100
- LuminanceAdjustmentAqua: 0
- LuminanceAdjustmentBlue: 0
- LuminanceAdjustmentGreen: 0
- LuminanceAdjustmentMagenta: -8
- LuminanceAdjustmentOrange: +13
- LuminanceAdjustmentPurple: 0
- LuminanceAdjustmentRed: 0
- LuminanceAdjustmentYellow: -28
- LuminanceNoiseReductionContrast: 13
- LuminanceNoiseReductionDetail: 50
- LuminanceSmoothing: 3
- ParametricDarks: 0
- ParametricHighlightSplit: 75
- ParametricHighlights: 0
- ParametricLights: 0
- ParametricMidtoneSplit: 50
- ParametricShadowSplit: 25
- ParametricShadows: 0
- PerspectiveAspect: 0
- PerspectiveHorizontal: 0
- PerspectiveRotate: 0.0
- PerspectiveScale: 100
- PerspectiveUpright: 0
- PerspectiveVertical: 0
- PerspectiveX: 0.00
- PerspectiveY: 0.00
- PostCropVignetteAmount: 0
- ProcessVersion: 6.7
- RawFileName: DSC_7572.NEF
- RedHue: 0
- RedSaturation: 0
- Saturation: 0
- SaturationAdjustmentAqua: 0
- SaturationAdjustmentBlue: +13
- SaturationAdjustmentGreen: 0
- SaturationAdjustmentMagenta: -23
- SaturationAdjustmentOrange: +15
- SaturationAdjustmentPurple: -76
- SaturationAdjustmentRed: -3
- SaturationAdjustmentYellow: +1
- ShadowTint: 0
- Shadows2012: +1
- SharpenDetail: 34
- SharpenEdgeMasking: 0
- SharpenRadius: +0.9
- Sharpness: 84
- SplitToningBalance: 0
- SplitToningHighlightHue: 0
- SplitToningHighlightSaturation: 0
- SplitToningShadowHue: 0
- SplitToningShadowSaturation: 0
- Tint: +11
- ToneCurve: 0, 0, 32, 22, 64, 56, 128, 128, 192, 196, 255, 255
- ToneCurveBlue: 0, 0, 255, 255
- ToneCurveGreen: 0, 0, 255, 255
- ToneCurveName: Medium Contrast
- ToneCurveName2012: Linear
- ToneCurvePV2012: 0, 0, 255, 255
- ToneCurvePV2012Blue: 0, 0, 255, 255
- ToneCurvePV2012Green: 0, 0, 255, 255
- ToneCurvePV2012Red: 0, 0, 255, 255
- ToneCurveRed: 0, 0, 255, 255
- ToneMapStrength: 0
- Version: 9.8
- Vibrance: +39
- VignetteAmount: 0
- WhiteBalance: As Shot
- Whites2012: 0
- XMP-dc
- XMP-xmp
- ModifyDate: 2022:09:17 22:45:42+03:00
- Rating: 0
- XMP-xmpMM
- Просмотров: 214
- Рейтинг: голосов еще нет
- Отзывов: 0