- Раздел: Пейзаж
- Дата съёмки: 04.12.2007 17:16
- Дата загрузки фото: 04.12.2007 18:31
- Оригинальная фотография: 820 x 547 (207 Кб)
- Технические характеристики:
- Фотоаппарат: FujiFilm FinePix S9500
- Выдержка: 1/350
- Гиперфокальное расстояние: 3,09 m
- Диафрагма: 4,5
- Светочувствительность: 200
- Фокусное расстояние: 6,8mm (35mm эквивалент: 61,4mm)
- Полный EXIF
- Adobe
- ColorTransform: YCbCr
- Composite
- Aperture: 4,5
- CircleOfConfusion: 0,003 mm
- FocalLength35efl: 6,8mm (35mm equivalent: 61,4mm)
- HyperfocalDistance: 3,09 m
- LightValue: 11,8
- ScaleFactor35efl: 9,0
- ShutterSpeed: 1/350
- ExifIFD
- ApertureValue: 4,5
- BrightnessValue: 7,14
- ColorSpace: sRGB
- Contrast: Normal
- CreateDate: 2007:11:04 04:27:17
- CustomRendered: Normal
- DateTimeOriginal: 2007:11:04 04:27:17
- ExifImageLength: 547
- ExifImageWidth: 820
- ExposureCompensation: 0
- ExposureMode: Auto
- ExposureProgram: Program AE
- ExposureTime: 1/350
- FNumber: 4,5
- Flash: Off
- FocalLength: 6,8mm
- ISO: 200
- LightSource: Unknown (0)
- MaxApertureValue: 2,8
- MeteringMode: Multi-segment
- Saturation: Normal
- SceneCaptureType: Standard
- SceneType: Directly photographed
- SensingMethod: One-chip color area
- Sharpness: Normal
- ShutterSpeedValue: 1/350
- WhiteBalance: Auto
- ICC-header
- ICC-meas
- ICC-view
- IFD0
- Make: FUJIFILM
- Model: FinePix S9500
- ModifyDate: 2007:12:04 17:21:33
- Orientation: Horizontal (normal)
- TimeZoneOffset: -8 -8
- IFD1
- IPTC
- XMP-crs
- AlreadyApplied: True
- BlueHue: 0
- BlueSaturation: 0
- Brightness: +50
- CameraProfile: ACR 3.3
- ChromaticAberrationB: 0
- ChromaticAberrationR: 0
- Clarity: 15
- ColorNoiseReduction: 40
- Contrast: +43
- ConvertToGrayscale: False
- Defringe: 0
- Exposure: 0.00
- FillLight: 10
- GreenHue: 0
- GreenSaturation: 0
- HasCrop: False
- HasSettings: True
- HighlightRecovery: 21
- HueAdjustmentAqua: 0
- HueAdjustmentBlue: 0
- HueAdjustmentGreen: 0
- HueAdjustmentMagenta: 0
- HueAdjustmentOrange: 0
- HueAdjustmentPurple: 0
- HueAdjustmentRed: +11
- HueAdjustmentYellow: 0
- LuminanceAdjustmentAqua: 0
- LuminanceAdjustmentBlue: 0
- LuminanceAdjustmentGreen: 0
- LuminanceAdjustmentMagenta: 0
- LuminanceAdjustmentOrange: 0
- LuminanceAdjustmentPurple: 0
- LuminanceAdjustmentRed: 0
- LuminanceAdjustmentYellow: 0
- LuminanceSmoothing: 75
- ParametricDarks: +15
- ParametricHighlightSplit: 75
- ParametricHighlights: +18
- ParametricLights: +3
- ParametricMidtoneSplit: 50
- ParametricShadowSplit: 25
- ParametricShadows: -21
- RawFileName: DSCF8435.RAF
- RedHue: 0
- RedSaturation: 0
- Saturation: 0
- SaturationAdjustmentAqua: 0
- SaturationAdjustmentBlue: 0
- SaturationAdjustmentGreen: 0
- SaturationAdjustmentMagenta: 0
- SaturationAdjustmentOrange: 0
- SaturationAdjustmentPurple: 0
- SaturationAdjustmentRed: 0
- SaturationAdjustmentYellow: 0
- ShadowTint: 0
- Shadows: 42
- SharpenDetail: 15
- SharpenEdgeMasking: 23
- SharpenRadius: +0.6
- Sharpness: 11
- SplitToningBalance: -10
- SplitToningHighlightHue: 188
- SplitToningHighlightSaturation: 0
- SplitToningShadowHue: 66
- SplitToningShadowSaturation: 0
- Temperature: 4700
- Tint: 0
- ToneCurve: 0, 0, 32, 22, 64, 56, 128, 128, 192, 196, 255, 255
- ToneCurveName: Medium Contrast
- Version: 4.1
- Vibrance: 0
- VignetteAmount: 0
- WhiteBalance: As Shot
- XMP-dc
- XMP-exif
- DateTimeDigitized: 2007:11:04 04:27:17-08:00
- DateTimeOriginal: 2007:11:04 04:27:17-08:00
- FlashFired: False
- FlashFunction: False
- FlashMode: Off
- FlashRedEyeMode: False
- FlashReturn: No return detection
- SubjectDistanceRange: Unknown
- XMP-tiff
- XMP-xmp
- CreateDate: 2007:12:04 17:16:15-08:00
- ModifyDate: 2007:12:04 17:21:33-08:00
- Rating: 0
- XMP-xmpMM