- Раздел: Другое, разное
- Дата съёмки: неизвестно
- Дата загрузки фото: 29.10.2022 16:20
- Оригинальная фотография: 2200 x 1467 (3,1 Мб)
- Технические характеристики:
- Фотоаппарат: Canon EOS 5D Mark II
- Выдержка: 0,0
- Гиперфокальное расстояние: inf m
- Диафрагма: 8,0
- Светочувствительность: 200
- Фокусное расстояние: 40,0 mm
- Полный EXIF
- Adobe
- ColorTransform: YCbCr
- Composite
- Aperture: 8,0
- CircleOfConfusion: 0,031 mm
- FocalLength35efl: 40,0 mm
- HyperfocalDistance: inf m
- LensID: Canon EF 40mm f/2.8 STM
- Megapixels: 3,2
- ScaleFactor35efl: 1,0
- ShutterSpeed: 0,0
- ExifIFD
- ApertureValue: 8,0
- ColorSpace: sRGB
- CreateDate: 2022:10:29 16:18:51
- CustomRendered: Normal
- DateTimeOriginal: 2022:10:29 16:18:51
- ExifImageHeight: 1467
- ExifImageWidth: 2200
- ExposureCompensation: 0
- ExposureMode: Auto
- ExposureProgram: Aperture-priority AE
- ExposureTime: 0,0
- FNumber: 8,0
- Flash: Off, Did not fire
- FocalLength: 40,0 mm
- ISO: 200
- MaxApertureValue: 2,8
- MeteringMode: Center-weighted average
- SceneCaptureType: Standard
- ShutterSpeedValue: 1/512
- WhiteBalance: Auto
- ICC-header
- ICC-meas
- ICC-view
- IFD0
- Make: Canon
- Model: Canon EOS 5D Mark II
- ModifyDate: 2022:10:29 17:51:17
- Orientation: Horizontal (normal)
- IFD1
- IPTC
- DateCreated: 2022:10:29
- System
- XMP-aux
- ApproximateFocusDistance: 4294967295
- DistortionCorrectionAlreadyApplied: True
- Firmware: 2.1.2
- FlashCompensation: 0
- ImageNumber: 0
- LateralChromaticAberrationCorrectionAlreadyApplied: True
- Lens: EF40mm f/2.8 STM
- LensID: 4144
- LensInfo: 40mm f/?
- SerialNumber: 1831120787
- VignetteCorrectionAlreadyApplied: True
- XMP-crs
- AlreadyApplied: True
- AutoLateralCA: 1
- Blacks2012: -4
- BlueHue: 0
- BlueSaturation: 0
- CameraProfile: Camera Standard
- Clarity2012: 0
- ColorNoiseReduction: 25
- ColorNoiseReductionDetail: 50
- ColorNoiseReductionSmoothness: 50
- ColorTemperature: 4600
- Contrast2012: +38
- ConvertToGrayscale: False
- CropAngle: 0
- CropBottom: 1
- CropConstrainToWarp: 0
- CropLeft: 0
- CropRight: 1
- CropTop: 0
- DefringeGreenAmount: 4
- DefringeGreenHueHi: 60
- DefringeGreenHueLo: 40
- DefringePurpleAmount: 4
- DefringePurpleHueHi: 70
- DefringePurpleHueLo: 30
- Dehaze: 0
- Exposure2012: -0.35
- GrainAmount: 0
- GreenHue: 0
- GreenSaturation: 0
- HasCrop: True
- HasSettings: True
- Highlights2012: -84
- HueAdjustmentAqua: 0
- HueAdjustmentBlue: 0
- HueAdjustmentGreen: 0
- HueAdjustmentMagenta: 0
- HueAdjustmentOrange: 0
- HueAdjustmentPurple: 0
- HueAdjustmentRed: 0
- HueAdjustmentYellow: 0
- LensManualDistortionAmount: 0
- LensProfileChromaticAberrationScale: 100
- LensProfileDistortionScale: 100
- LensProfileEnable: 1
- LensProfileFilename: Canon EOS 5D Mark II (Canon EF 40mm f2.8 STM) - RAW.lcp
- LensProfileIsEmbedded: False
- LensProfileSetup: Auto
- LensProfileVignettingScale: 100
- LuminanceAdjustmentAqua: 0
- LuminanceAdjustmentBlue: 0
- LuminanceAdjustmentGreen: 0
- LuminanceAdjustmentMagenta: 0
- LuminanceAdjustmentOrange: 0
- LuminanceAdjustmentPurple: 0
- LuminanceAdjustmentRed: 0
- LuminanceAdjustmentYellow: 0
- LuminanceNoiseReductionContrast: 34
- LuminanceNoiseReductionDetail: 50
- LuminanceSmoothing: 36
- OverrideLookVignette: False
- ParametricDarks: 0
- ParametricHighlightSplit: 75
- ParametricHighlights: 0
- ParametricLights: 0
- ParametricMidtoneSplit: 50
- ParametricShadowSplit: 25
- ParametricShadows: 0
- PerspectiveAspect: 0
- PerspectiveHorizontal: 0
- PerspectiveRotate: 0.0
- PerspectiveScale: 100
- PerspectiveUpright: 0
- PerspectiveVertical: 0
- PerspectiveX: 0.00
- PerspectiveY: 0.00
- PostCropVignetteAmount: 0
- ProcessVersion: 11.0
- RedHue: 0
- RedSaturation: 0
- Saturation: -4
- SaturationAdjustmentAqua: 0
- SaturationAdjustmentBlue: 0
- SaturationAdjustmentGreen: 0
- SaturationAdjustmentMagenta: 0
- SaturationAdjustmentOrange: 0
- SaturationAdjustmentPurple: 0
- SaturationAdjustmentRed: 0
- SaturationAdjustmentYellow: 0
- ShadowTint: 0
- Shadows2012: +77
- SharpenDetail: 25
- SharpenEdgeMasking: 0
- SharpenRadius: +1.0
- Sharpness: 40
- SplitToningBalance: 0
- SplitToningHighlightHue: 0
- SplitToningHighlightSaturation: 0
- SplitToningShadowHue: 0
- SplitToningShadowSaturation: 0
- Texture: 0
- Tint: +10
- ToneCurve: 0, 0, 32, 22, 64, 56, 128, 128, 192, 196, 255, 255
- ToneCurveBlue: 0, 0, 255, 255
- ToneCurveGreen: 0, 0, 255, 255
- ToneCurveName: Medium Contrast
- ToneCurveName2012: Linear
- ToneCurvePV2012: 0, 0, 255, 255
- ToneCurvePV2012Blue: 0, 0, 255, 255
- ToneCurvePV2012Green: 0, 0, 255, 255
- ToneCurvePV2012Red: 0, 0, 255, 255
- ToneCurveRed: 0, 0, 255, 255
- ToneMapStrength: 0
- Version: 12.4
- Vibrance: -4
- VignetteAmount: 0
- WhiteBalance: As Shot
- Whites2012: -79
- XMP-dc
- XMP-exifEX
- LensModel: EF40mm f/2.8 STM
- XMP-xmp
- ModifyDate: 2022:10:29 17:51:17+05:00
- XMP-xmpMM
- Просмотров: 120
- Рейтинг: голосов еще нет
- Отзывов: 0