- Раздел: Заставки, обои
- Дата съёмки: неизвестно
- Дата загрузки фото: 28.12.2022 09:21
- Оригинальная фотография: 1440 x 3200 (4,1 Мб)
- Технические характеристики:
- Фотоаппарат: Hasselblad L2D-20c
- Выдержка: 0,0
- Гиперфокальное расстояние: inf m
- Диафрагма: 2,8
- Светочувствительность: 100
- Фокусное расстояние: 12,0 mm (35 mm equivalent: 24,0 mm)
- Экспокоррекция: -1
- Полный EXIF
- Adobe
- ColorTransform: YCbCr
- Composite
- Aperture: 2,8
- CircleOfConfusion: 0,015 mm
- FOV: 73,0 deg
- FocalLength35efl: 12,0 mm (35 mm equivalent: 24,0 mm)
- GPSLatitude: 57 deg 55' 16,00" S
- GPSLongitude: 168 deg 7' 54,00" E
- GPSPosition: 57 deg 55' 16,00" S, 168 deg 7' 54,00" E
- HyperfocalDistance: inf m
- Megapixels: 4,6
- ScaleFactor35efl: 2,0
- ShutterSpeed: 0,0
- ExifIFD
- ApertureValue: 2,0
- ColorSpace: sRGB
- Contrast: Normal
- CreateDate: 2022:06:11 07:00:56
- CustomRendered: Normal
- DateTimeOriginal: 2022:06:11 07:00:56
- DigitalZoomRatio: 1
- ExifImageHeight: 3200
- ExifImageWidth: 1440
- ExposureCompensation: -1
- ExposureMode: Manual
- ExposureProgram: Manual
- ExposureTime: 0,0
- FNumber: 2,8
- Flash: No Flash
- FocalLength: 12,0 mm
- FocalLengthIn35mmFormat: 24 mm
- GainControl: None
- ISO: 100
- LensInfo: 24mm f/2.8-11
- LensModel: 24.0 mm f/2.8
- LightSource: Unknown
- MaxApertureValue: 2,0
- MeteringMode: Average
- Saturation: Normal
- SceneCaptureType: Standard
- SceneType: Directly photographed
- SensitivityType: Recommended Exposure Index
- SerialNumber: 493OJB78AA05JZ
- Sharpness: Normal
- ShutterSpeedValue: 1/128
- SubjectDistance: 0 m
- WhiteBalance: Manual
- GPS
- GPSAltitude: 58,2 m
- GPSLatitude: 57 deg 55' 16,00"
- GPSLatitudeRef: South
- GPSLongitude: 168 deg 7' 54,00"
- GPSLongitudeRef: East
- GPSMapDatum: WGS-84
- GPSStatus: Measurement Void
- GPSVersionID: 2.2.0.0
- ICC-header
- ICC-meas
- ICC-view
- IFD0
- BitsPerSample: 8 8 8
- ImageHeight: 5272
- ImageWidth: 3948
- Make: Hasselblad
- Model: L2D-20c
- ModifyDate: 2022:12:28 09:20:51
- Orientation: Horizontal (normal)
- PhotometricInterpretation: RGB
- SamplesPerPixel: 3
- IFD1
- IPTC
- DateCreated: 2022:06:11
- System
- XMP-aux
- ApproximateFocusDistance: 0
- DistortionCorrectionAlreadyApplied: True
- LateralChromaticAberrationCorrectionAlreadyApplied: True
- Lens: 24.0 mm f/2.8
- XMP-crs
- AlreadyApplied: True
- AutoLateralCA: 0
- Blacks2012: +42
- BlueHue: -10
- BlueSaturation: +23
- CameraProfile: Embedded
- Clarity2012: +9
- ColorGradeBlending: 50
- ColorGradeGlobalHue: 0
- ColorGradeGlobalLum: 0
- ColorGradeGlobalSat: 0
- ColorGradeHighlightLum: 0
- ColorGradeMidtoneHue: 0
- ColorGradeMidtoneLum: 0
- ColorGradeMidtoneSat: 0
- ColorGradeShadowLum: 0
- ColorNoiseReduction: 25
- ColorNoiseReductionDetail: 50
- ColorNoiseReductionSmoothness: 50
- ColorTemperature: 6000
- Contrast2012: +1
- ConvertToGrayscale: False
- CropAngle: 0
- CropBottom: 1
- CropConstrainToWarp: 0
- CropLeft: 0
- CropRight: 1
- CropTop: 0
- DefringeGreenAmount: 0
- DefringeGreenHueHi: 60
- DefringeGreenHueLo: 40
- DefringePurpleAmount: 0
- DefringePurpleHueHi: 70
- DefringePurpleHueLo: 30
- Dehaze: +25
- Exposure2012: +0.36
- GrainAmount: 0
- GreenHue: -10
- GreenSaturation: +20
- HasCrop: False
- HasSettings: True
- Highlights2012: -35
- HueAdjustmentAqua: +66
- HueAdjustmentBlue: -12
- HueAdjustmentGreen: -79
- HueAdjustmentMagenta: +10
- HueAdjustmentOrange: -6
- HueAdjustmentPurple: +10
- HueAdjustmentRed: +17
- HueAdjustmentYellow: -41
- LensManualDistortionAmount: 0
- LensProfileEnable: 0
- LuminanceAdjustmentAqua: 0
- LuminanceAdjustmentBlue: 0
- LuminanceAdjustmentGreen: 0
- LuminanceAdjustmentMagenta: 0
- LuminanceAdjustmentOrange: +5
- LuminanceAdjustmentPurple: 0
- LuminanceAdjustmentRed: 0
- LuminanceAdjustmentYellow: +5
- LuminanceSmoothing: 0
- OverrideLookVignette: False
- ParametricDarks: +26
- ParametricHighlightSplit: 68
- ParametricHighlights: -46
- ParametricLights: -6
- ParametricMidtoneSplit: 41
- ParametricShadowSplit: 20
- ParametricShadows: +10
- PerspectiveAspect: 0
- PerspectiveHorizontal: 0
- PerspectiveRotate: 0.0
- PerspectiveScale: 100
- PerspectiveUpright: 0
- PerspectiveVertical: 0
- PerspectiveX: 0.00
- PerspectiveY: 0.00
- PostCropVignetteAmount: 0
- ProcessVersion: 11.0
- RawFileName:
- RedHue: 0
- RedSaturation: +10
- Saturation: +2
- SaturationAdjustmentAqua: -27
- SaturationAdjustmentBlue: -71
- SaturationAdjustmentGreen: -54
- SaturationAdjustmentMagenta: -21
- SaturationAdjustmentOrange: -19
- SaturationAdjustmentPurple: -35
- SaturationAdjustmentRed: -9
- SaturationAdjustmentYellow: -35
- ShadowTint: -5
- Shadows2012: +20
- SharpenDetail: 20
- SharpenEdgeMasking: 0
- SharpenRadius: +1.0
- Sharpness: 30
- SplitToningBalance: 0
- SplitToningHighlightHue: 0
- SplitToningHighlightSaturation: 0
- SplitToningShadowHue: 0
- SplitToningShadowSaturation: 0
- Texture: 0
- Tint: +16
- ToneCurveName2012: Custom
- ToneCurvePV2012: 2, 9, 45, 37, 79, 83, 136, 143, 196, 193, 255, 229
- ToneCurvePV2012Blue: 0, 0, 63, 62, 130, 125, 201, 196, 255, 255
- ToneCurvePV2012Green: 0, 0, 255, 255
- ToneCurvePV2012Red: 0, 0, 255, 255
- Version: 14.4
- Vibrance: +15
- VignetteAmount: 0
- WhiteBalance: Custom
- Whites2012: 0
- XMP-dc
- XMP-drone-dji
- AbsoluteAltitude: +58.222
- AltitudeType: GpsFusionAlt
- CamReverse: 0
- FlightPitchDegree: +13.70
- FlightRollDegree: -4.70
- FlightXSpeed: -0.1
- FlightYSpeed: 0.5
- FlightYawDegree: +101.50
- FlightZSpeed: 0.0
- GimbalPitchDegree: -90.00
- GimbalReverse: 0
- GimbalRollDegree: +0.00
- GimbalYawDegree: +97.30
- GpsLatitude: -32.948325724
- GpsLongitude: +151.759828744
- GpsStatus: Invalid
- RelativeAltitude: +77.100
- SelfData:
- Version: 1.2
- XMP-xmp
- ModifyDate: 2022:12:28 09:20:51+03:00
- XMP-xmpMM
- Просмотров: 257
- Рейтинг: голосов еще нет
- Отзывов: 0