- Раздел: Заставки, обои
- Дата съёмки: неизвестно
- Дата загрузки фото: 05.01.2023 19:09
- Оригинальная фотография: 3312 x 7360 (12,6 Мб)
- Технические характеристики:
- Фотоаппарат: Nikon D810
- Выдержка: 0,0
- Гиперфокальное расстояние: inf m
- Диафрагма: 3,0
- Светочувствительность: 100
- Фокусное расстояние: 105,0 mm (35 mm equivalent: 105,0 mm)
- Полный EXIF
- Adobe
- ColorTransform: YCbCr
- Composite
- Aperture: 3,0
- CircleOfConfusion: 0,030 mm
- FOV: 19,0 deg
- FocalLength35efl: 105,0 mm (35 mm equivalent: 105,0 mm)
- HyperfocalDistance: inf m
- LensID: AF-S VR Micro-Nikkor 105mm f/2.8G IF-ED
- Megapixels: 24,4
- ScaleFactor35efl: 1,0
- ShutterSpeed: 0,0
- ExifIFD
- ApertureValue: 2,8
- CFAPattern: [Red,Green][Green,Blue]
- ColorSpace: sRGB
- Contrast: Normal
- CreateDate: 2020:03:20 04:39:21
- CustomRendered: Normal
- DateTimeOriginal: 2020:03:20 04:39:21
- DigitalZoomRatio: 1
- ExifImageHeight: 7360
- ExifImageWidth: 3312
- ExposureCompensation: 0
- ExposureMode: Manual
- ExposureProgram: Manual
- ExposureTime: 0,0
- FNumber: 3,0
- Flash: Off, Did not fire
- FocalLength: 105,0 mm
- FocalLengthIn35mmFormat: 105 mm
- GainControl: None
- ISO: 100
- LensInfo: 105mm f/2.8
- LensModel: 105.0 mm f/2.8
- LightSource: Unknown
- MaxApertureValue: 2,8
- MeteringMode: Multi-segment
- Saturation: Normal
- SceneCaptureType: Standard
- SceneType: Directly photographed
- SensingMethod: One-chip color area
- SensitivityType: Recommended Exposure Index
- SerialNumber: 6034128
- Sharpness: Soft
- ShutterSpeedValue: 1/128
- SubjectDistanceRange: Unknown
- WhiteBalance: Auto
- ICC-header
- ICC-meas
- ICC-view
- IFD0
- BitsPerSample: 8 8 8
- ImageHeight: 7360
- ImageWidth: 4912
- Make: NIKON CORPORATION
- Model: NIKON D810
- ModifyDate: 2023:01:05 19:07:17
- Orientation: Horizontal (normal)
- PhotometricInterpretation: RGB
- SamplesPerPixel: 3
- IFD1
- IPTC
- DateCreated: 2020:03:20
- System
- XMP-aux
- ApproximateFocusDistance: 1,26
- DistortionCorrectionAlreadyApplied: True
- ImageNumber: 230574
- LateralChromaticAberrationCorrectionAlreadyApplied: True
- Lens: 105.0 mm f/2.8
- LensID: 138
- VignetteCorrectionAlreadyApplied: True
- XMP-crs
- AlreadyApplied: True
- AutoLateralCA: 1
- Blacks2012: +99
- BlueHue: -11
- BlueSaturation: -14
- Clarity2012: -4
- ColorNoiseReduction: 25
- ColorNoiseReductionDetail: 50
- ColorNoiseReductionSmoothness: 50
- ColorTemperature: 5569
- Contrast2012: -28
- ConvertToGrayscale: False
- DefringeGreenAmount: 0
- DefringeGreenHueHi: 60
- DefringeGreenHueLo: 40
- DefringePurpleAmount: 0
- DefringePurpleHueHi: 70
- DefringePurpleHueLo: 30
- Dehaze: -13
- Exposure2012: -1.15
- GrainAmount: 0
- GreenHue: +45
- GreenSaturation: -8
- HasCrop: False
- HasSettings: True
- Highlights2012: -40
- HueAdjustmentAqua: +5
- HueAdjustmentBlue: -10
- HueAdjustmentGreen: +10
- HueAdjustmentMagenta: +20
- HueAdjustmentOrange: 0
- HueAdjustmentPurple: +10
- HueAdjustmentRed: +8
- HueAdjustmentYellow: -10
- LensManualDistortionAmount: 0
- LensProfileChromaticAberrationScale: 100
- LensProfileDistortionScale: 100
- LensProfileEnable: 1
- LensProfileFilename: NIKON CORPORATION (TAMRON SP 24-70mm F_2.8 Di VC USD A007N) - RAW.lcp
- LensProfileSetup: Custom
- LensProfileVignettingScale: 102
- LookName:
- LuminanceAdjustmentAqua: +1
- LuminanceAdjustmentBlue: -2
- LuminanceAdjustmentGreen: -30
- LuminanceAdjustmentMagenta: +1
- LuminanceAdjustmentOrange: +15
- LuminanceAdjustmentPurple: +1
- LuminanceAdjustmentRed: -20
- LuminanceAdjustmentYellow: 0
- LuminanceSmoothing: 0
- OverrideLookVignette: False
- PaintCorrectionActive: true
- PaintCorrectionAmount: 1.000000
- PaintCorrectionBrightness: 0.000000
- PaintCorrectionClarity2012: 0.000000
- PaintCorrectionContrast2012: 0.000000
- PaintCorrectionCorrectionRangeMaskColorAmount: 0.500000
- PaintCorrectionCorrectionRangeMaskDepthFeather: 0.500000
- PaintCorrectionCorrectionRangeMaskDepthMax: 1.000000
- PaintCorrectionCorrectionRangeMaskDepthMin: 0.000000
- PaintCorrectionCorrectionRangeMaskLumFeather: 0.500000
- PaintCorrectionCorrectionRangeMaskLumMax: 1.000000
- PaintCorrectionCorrectionRangeMaskLumMin: 0.000000
- PaintCorrectionCorrectionRangeMaskType: 0
- PaintCorrectionCorrectionRangeMaskVersion: +2
- PaintCorrectionDefringe: 0.000000
- PaintCorrectionExposure2012: 0.064098
- PaintCorrectionHighlights2012: 0.000000
- PaintCorrectionHue: 188.050995
- PaintCorrectionLocalBlacks2012: -0.021267
- PaintCorrectionLocalDehaze: 0.000000
- PaintCorrectionLocalTexture: 0.000000
- PaintCorrectionLocalWhites2012: 0.000000
- PaintCorrectionLuminanceNoise: 0.000000
- PaintCorrectionMaskCenterWeight: 0.020794
- PaintCorrectionMaskFlow: 0.754886
- PaintCorrectionMaskRadius: 0.217852
- PaintCorrectionMaskValue: 1.000000
- PaintCorrectionMaskWhat: Mask/Paint
- PaintCorrectionMoire: 0.000000
- PaintCorrectionSaturation: 0.000000
- PaintCorrectionShadows2012: 0.339607
- PaintCorrectionSharpness: 0.000000
- PaintCorrectionTemperature: 0.022515
- PaintCorrectionTint: 0.000000
- PaintCorrectionWhat: Correction
- ParametricDarks: 0
- ParametricHighlightSplit: 75
- ParametricHighlights: -10
- ParametricLights: 0
- ParametricMidtoneSplit: 60
- ParametricShadowSplit: 14
- ParametricShadows: +5
- PerspectiveAspect: 0
- PerspectiveHorizontal: 0
- PerspectiveRotate: 0.0
- PerspectiveScale: 100
- PerspectiveUpright: 0
- PerspectiveVertical: 0
- PerspectiveX: 0.00
- PerspectiveY: 0.00
- PostCropVignetteAmount: 0
- ProcessVersion: 11.0
- RawFileName: RFF_8820.NEF
- RedHue: +45
- RedSaturation: -10
- Saturation: +2
- SaturationAdjustmentAqua: -10
- SaturationAdjustmentBlue: -61
- SaturationAdjustmentGreen: -68
- SaturationAdjustmentMagenta: -20
- SaturationAdjustmentOrange: +47
- SaturationAdjustmentPurple: -54
- SaturationAdjustmentRed: -20
- SaturationAdjustmentYellow: -39
- ShadowTint: 0
- Shadows2012: +98
- SharpenDetail: 25
- SharpenEdgeMasking: 0
- SharpenRadius: +1.0
- Sharpness: 86
- SplitToningBalance: 0
- SplitToningHighlightHue: 49
- SplitToningHighlightSaturation: 2
- SplitToningShadowHue: 46
- SplitToningShadowSaturation: 2
- Texture: 0
- Tint: +22
- ToneCurve: 0, 0, 255, 255
- ToneCurveBlue: 0, 0, 255, 255
- ToneCurveGreen: 0, 0, 255, 255
- ToneCurveName: Linear
- ToneCurveName2012: Custom
- ToneCurvePV2012: 0, 28, 31, 34, 52, 46, 84, 82, 94, 95, 112, 116, 134, 137, 156, 156, 174, 170, 255, 225
- ToneCurvePV2012Blue: 0, 0, 36, 12, 55, 29, 71, 50, 89, 77, 109, 109, 126, 136, 147, 165, 171, 192, 188, 208, 217, 231, 255, 255
- ToneCurvePV2012Green: 0, 0, 37, 13, 57, 31, 85, 70, 107, 106, 126, 136, 147, 165, 168, 189, 189, 209, 219, 232, 255, 255
- ToneCurvePV2012Red: 0, 0, 39, 12, 62, 35, 89, 77, 126, 135, 153, 171, 179, 200, 215, 230, 255, 255
- ToneCurveRed: 0, 0, 255, 255
- ToneMapStrength: 0
- Version: 12.2
- Vibrance: +4
- VignetteAmount: 0
- WhiteBalance: Custom
- Whites2012: +75
- XMP-dc
- XMP-xmp
- ModifyDate: 2023:01:05 19:07:17+03:00
- XMP-xmpMM
- PreservedFileName: RFF_8820.NEF
- Просмотров: 361
- Рейтинг: голосов еще нет
- Отзывов: 0