- Раздел: Другое, разное
- Дата съёмки: 19.12.2007 09:40
- Дата загрузки фото: 19.12.2007 09:41
- Оригинальная фотография: 1280 x 853 (319 Кб)
- Технические характеристики:
- Фотоаппарат: Canon EOS 40D
- Выдержка: 1/250
- Гиперфокальное расстояние: 116,00 m
- Диафрагма: 5,6
- Светочувствительность: 100
- Фокусное расстояние: 63,0mm (35mm эквивалент: 309,8mm)
- Полный EXIF
- Adobe
- ColorTransform: YCbCr
- Composite
- Aperture: 5,6
- CircleOfConfusion: 0,006 mm
- FocalLength35efl: 63,0mm (35mm equivalent: 309,8mm)
- HyperfocalDistance: 116,00 m
- LightValue: 12,9
- ScaleFactor35efl: 4,9
- ShutterSpeed: 1/250
- ExifIFD
- ApertureValue: 5,7
- ColorSpace: sRGB
- CreateDate: 2007:12:15 19:56:13
- CustomRendered: Normal
- DateTimeOriginal: 2007:12:15 19:56:13
- ExifImageLength: 853
- ExifImageWidth: 1280
- ExposureCompensation: 0
- ExposureMode: Auto
- ExposureProgram: Aperture-priority AE
- ExposureTime: 1/250
- FNumber: 5,6
- Flash: On
- FocalLength: 63,0mm
- ISO: 100
- MeteringMode: Multi-segment
- SceneCaptureType: Standard
- ShutterSpeedValue: 1/256
- UserComment:
- WhiteBalance: Auto
- GPS
- ICC-header
- ICC-meas
- ICC-view
- IFD0
- Artist: Rylov Ilya
- Copyright: FotoEpic.ru (c) 2007-2008 by Rylov Ilya
- ImageDescription: FotoEpic.ru
- Make: Canon
- Model: Canon EOS 40D
- ModifyDate: 2007:12:19 09:40:25
- Orientation: Horizontal (normal)
- IFD1
- IPTC
- By-line: Rylov Ilya
- By-lineTitle: FotoEpic.ru
- Caption-Abstract: FotoEpic.ru
- CopyrightNotice: FotoEpic.ru (c) 2007-2008 by Rylov Ilya
- XMP-crs
- AlreadyApplied: True
- BlueHue: 0
- BlueSaturation: 0
- Brightness: +50
- CameraProfile: ACR 3.7
- ChromaticAberrationB: 0
- ChromaticAberrationR: 0
- Clarity: 21
- ColorNoiseReduction: 25
- Contrast: +25
- ConvertToGrayscale: False
- Defringe: 0
- Exposure: -0.35
- FillLight: 0
- GreenHue: 0
- GreenSaturation: 0
- HasCrop: False
- HasSettings: True
- HighlightRecovery: 100
- HueAdjustmentAqua: 0
- HueAdjustmentBlue: 0
- HueAdjustmentGreen: 0
- HueAdjustmentMagenta: 0
- HueAdjustmentOrange: 0
- HueAdjustmentPurple: 0
- HueAdjustmentRed: 0
- HueAdjustmentYellow: 0
- LuminanceAdjustmentAqua: 0
- LuminanceAdjustmentBlue: 0
- LuminanceAdjustmentGreen: 0
- LuminanceAdjustmentMagenta: 0
- LuminanceAdjustmentOrange: 0
- LuminanceAdjustmentPurple: 0
- LuminanceAdjustmentRed: 0
- LuminanceAdjustmentYellow: 0
- LuminanceSmoothing: 0
- ParametricDarks: 0
- ParametricHighlightSplit: 75
- ParametricHighlights: 0
- ParametricLights: 0
- ParametricMidtoneSplit: 50
- ParametricShadowSplit: 25
- ParametricShadows: 0
- RedHue: 0
- RedSaturation: 0
- Saturation: 0
- SaturationAdjustmentAqua: 0
- SaturationAdjustmentBlue: 0
- SaturationAdjustmentGreen: 0
- SaturationAdjustmentMagenta: 0
- SaturationAdjustmentOrange: 0
- SaturationAdjustmentPurple: 0
- SaturationAdjustmentRed: 0
- SaturationAdjustmentYellow: 0
- ShadowTint: 0
- Shadows: 5
- SharpenDetail: 25
- SharpenEdgeMasking: 0
- SharpenRadius: +1.0
- Sharpness: 25
- SplitToningBalance: 0
- SplitToningHighlightHue: 0
- SplitToningHighlightSaturation: 0
- SplitToningShadowHue: 0
- SplitToningShadowSaturation: 0
- Temperature: 3350
- Tint: -12
- ToneCurve: 0, 0, 32, 22, 64, 56, 128, 128, 192, 196, 255, 255
- Vibrance: 0
- VignetteAmount: 0
- WhiteBalance: Custom
- XMP-dc
- Creator: Rylov Ilya
- Description: FotoEpic.ru
- Format: image/jpeg
- Rights: FotoEpic.ru (c) 2007-2008 by Rylov Ilya
- XMP-exif
- DateTimeDigitized: 2007:12:15 19:56:13+03:00
- DateTimeOriginal: 2007:12:15 19:56:13+03:00
- FlashFired: True
- FlashFunction: False
- FlashMode: On
- FlashRedEyeMode: False
- FlashReturn: No return detection
- GPSVersionID: 2.2.0.0
- XMP-tiff
- XMP-xmp
- CreateDate: 2007:12:19 09:40:25+03:00
- ModifyDate: 2007:12:19 09:40:25+03:00
- Rating: 0
- XMP-xmpMM
- DerivedFrom:
- XMP-xmpRights
- Marked: True
- WebStatement: FotoEpic.ru
- Просмотров: 858
- Рейтинг: голосов еще нет
- Отзывов: 0