- Раздел: Другое, разное
- Дата съёмки: неизвестно
- Дата загрузки фото: 20.02.2023 17:30
- Оригинальная фотография: 4032 x 3024 (10,1 Мб)
- Технические характеристики:
- Фотоаппарат: DJI FC3582
- Выдержка: 0,0
- Гиперфокальное расстояние: inf m
- Диафрагма: 1,7
- Светочувствительность: 120
- Фокусное расстояние: 6,0 mm (35 mm equivalent: 24,0 mm)
- Полный EXIF
- Adobe
- ColorTransform: YCbCr
- Composite
- Aperture: 1,7
- CircleOfConfusion: 0,008 mm
- FOV: 73,0 deg
- FocalLength35efl: 6,0 mm (35 mm equivalent: 24,0 mm)
- GPSAltitude: 118 m Above Sea Level
- GPSLatitude: 2410 deg 29' 47,00" N
- GPSLongitude: 941 deg 12' 23,00" E
- GPSPosition: 2410 deg 29' 47,00" N, 941 deg 12' 23,00" E
- HyperfocalDistance: inf m
- Megapixels: 12,2
- ScaleFactor35efl: 4,0
- ShutterSpeed: 0,0
- ExifIFD
- ApertureValue: 1,4
- ColorSpace: sRGB
- Contrast: Normal
- CreateDate: 2022:11:01 16:31:49
- DateTimeOriginal: 2022:11:01 16:31:49
- DigitalZoomRatio: 1
- ExposureCompensation: 0
- ExposureMode: Auto
- ExposureProgram: Program AE
- ExposureTime: 0,0
- FNumber: 1,7
- Flash: No Flash
- FocalLength: 6,0 mm
- FocalLengthIn35mmFormat: 24 mm
- GainControl: None
- ISO: 120
- LensInfo: 6.72mm f/1.7
- LensModel: 6.7 mm f/1.7
- LightSource: Daylight
- MaxApertureValue: 1,4
- MeteringMode: Average
- Saturation: Normal
- SceneCaptureType: Standard
- SceneType: Directly photographed
- SensitivityType: Recommended Exposure Index
- SerialNumber: 53HQK6R0M107VF
- Sharpness: Normal
- ShutterSpeedValue: 1/128
- WhiteBalance: Auto
- GPS
- GPSAltitude: 118,565 m
- GPSAltitudeRef: Above Sea Level
- GPSLatitude: 2410 deg 29' 47,00"
- GPSLatitudeRef: North
- GPSLongitude: 941 deg 12' 23,00"
- GPSLongitudeRef: East
- GPSMapDatum: WGS-84
- GPSStatus: Measurement Void
- GPSVersionID: 2.3.0.0
- ICC-header
- ICC-meas
- ICC-view
- IFD0
- Make: DJI
- Model: FC3582
- ModifyDate: 2023:02:19 23:56:12
- IFD1
- IPTC
- City: РђРєСЃСѓ
- Country-PrimaryLocationCode: KZ
- Country-PrimaryLocationName: Казахстан
- DateCreated: 2022:11:01
- Province-State: Павлодарская обл
- System
- XMP-aux
- LateralChromaticAberrationCorrectionAlreadyApplied: True
- Lens: 6.7 mm f/1.7
- XMP-crs
- AlreadyApplied: True
- AutoLateralCA: 1
- Blacks2012: -31
- BlueHue: 0
- BlueSaturation: 0
- CameraProfile: Embedded
- Clarity2012: +10
- ColorGradeBlending: 50
- ColorGradeGlobalHue: 0
- ColorGradeGlobalLum: 0
- ColorGradeGlobalSat: 0
- ColorGradeHighlightLum: 0
- ColorGradeMidtoneHue: 0
- ColorGradeMidtoneLum: 0
- ColorGradeMidtoneSat: 0
- ColorGradeShadowLum: 0
- ColorNoiseReduction: 25
- ColorNoiseReductionDetail: 50
- ColorNoiseReductionSmoothness: 50
- ColorTemperature: 5050
- CompatibleVersion: 234881024
- Contrast2012: +7
- ConvertToGrayscale: False
- CropAngle: 0
- CropBottom: 1
- CropConstrainToWarp: 0
- CropLeft: 0
- CropRight: 1
- CropTop: 0
- DefringeGreenAmount: 0
- DefringeGreenHueHi: 60
- DefringeGreenHueLo: 40
- DefringePurpleAmount: 0
- DefringePurpleHueHi: 70
- DefringePurpleHueLo: 30
- Dehaze: 0
- Exposure2012: -0.44
- GrainAmount: 0
- GreenHue: 0
- GreenSaturation: 0
- HasCrop: False
- HasSettings: True
- Highlights2012: -100
- HueAdjustmentAqua: 0
- HueAdjustmentBlue: 0
- HueAdjustmentGreen: 0
- HueAdjustmentMagenta: 0
- HueAdjustmentOrange: 0
- HueAdjustmentPurple: 0
- HueAdjustmentRed: 0
- HueAdjustmentYellow: 0
- LensManualDistortionAmount: 0
- LensProfileEnable: 1
- LensProfileSetup: LensDefaults
- LuminanceAdjustmentAqua: 0
- LuminanceAdjustmentBlue: 0
- LuminanceAdjustmentGreen: 0
- LuminanceAdjustmentMagenta: 0
- LuminanceAdjustmentOrange: 0
- LuminanceAdjustmentPurple: 0
- LuminanceAdjustmentRed: 0
- LuminanceAdjustmentYellow: 0
- LuminanceNoiseReductionContrast: 0
- LuminanceNoiseReductionDetail: 50
- LuminanceSmoothing: 20
- OverrideLookVignette: False
- ParametricDarks: 0
- ParametricHighlightSplit: 75
- ParametricHighlights: 0
- ParametricLights: 0
- ParametricMidtoneSplit: 50
- ParametricShadowSplit: 25
- ParametricShadows: 0
- PerspectiveAspect: 0
- PerspectiveHorizontal: 0
- PerspectiveRotate: 0.0
- PerspectiveScale: 100
- PerspectiveUpright: 0
- PerspectiveVertical: 0
- PerspectiveX: 0.00
- PerspectiveY: 0.00
- PostCropVignetteAmount: 0
- ProcessVersion: 11.0
- RawFileName:
- RedHue: 0
- RedSaturation: 0
- Saturation: +6
- SaturationAdjustmentAqua: 0
- SaturationAdjustmentBlue: 0
- SaturationAdjustmentGreen: 0
- SaturationAdjustmentMagenta: 0
- SaturationAdjustmentOrange: 0
- SaturationAdjustmentPurple: 0
- SaturationAdjustmentRed: 0
- SaturationAdjustmentYellow: 0
- ShadowTint: 0
- Shadows2012: +38
- SharpenDetail: 25
- SharpenEdgeMasking: 0
- SharpenRadius: +1.0
- Sharpness: 70
- SplitToningBalance: 0
- SplitToningHighlightHue: 0
- SplitToningHighlightSaturation: 0
- SplitToningShadowHue: 0
- SplitToningShadowSaturation: 0
- Texture: +10
- Tint: +2
- ToneCurveName2012: Linear
- ToneCurvePV2012: 0, 0, 255, 255
- ToneCurvePV2012Blue: 0, 0, 255, 255
- ToneCurvePV2012Green: 0, 0, 255, 255
- ToneCurvePV2012Red: 0, 0, 255, 255
- Version: 14.2
- Vibrance: +20
- VignetteAmount: 0
- WhiteBalance: As Shot
- Whites2012: +76
- XMP-dc
- XMP-drone-dji
- AbsoluteAltitude: +118.565
- AltitudeType: RtkAlt
- CamReverse: 0
- CameraSerialNumber: 53HQK6R0M107VF
- DroneModel: Mini 3 Pro
- DroneSerialNumber: 1581F4XFC227B0
- FlightPitchDegree: +4.20
- FlightRollDegree: +7.20
- FlightXSpeed: 0.0
- FlightYSpeed: 0.0
- FlightYawDegree: +47.10
- FlightZSpeed: 0.0
- GimbalPitchDegree: -25.40
- GimbalReverse: 0
- GimbalRollDegree: +0.00
- GimbalYawDegree: +45.60
- GpsLatitude: +52.047484132
- GpsLongitude: +76.938518997
- GpsStatus: Invalid
- ImageSource: DefaultCamera
- LensSerialNumber:
- RelativeAltitude: +97.300
- SelfData:
- ShutterType: Electronic
- SurveyingMode: 0
- UTCAtExposure:
- Version: 1.5
- XMP-iptcCore
- XMP-rdf
- XMP-xmp
- CreateDate: 2022:11:01 16:31:49Z
- Label: Готов
- ModifyDate: 2023:02:19 23:56:12+06:00
- XMP-xmpMM
- PreservedFileName: DJI_0180.DNG
- Просмотров: 49
- Рейтинг: голосов еще нет
- Отзывов: 0