- Раздел: Заставки, обои
- Дата съёмки: неизвестно
- Дата загрузки фото: 27.02.2023 12:06
- Оригинальная фотография: 4320 x 9600 (4,9 Мб)
- Технические характеристики:
- Фотоаппарат: Canon EOS 5D Mark III
- Выдержка: 0,0
- Диафрагма: 2,2
- Светочувствительность: 200
- Фокусное расстояние: 35,0 mm
- Экспокоррекция: -1
- Полный EXIF
- Composite
- Aperture: 2,2
- FocalLength35efl: 35,0 mm
- LensID: Canon EF 35mm f/1.4L or Other Lens
- Megapixels: 41,5
- ShutterSpeed: 0,0
- ExifIFD
- ApertureValue: 2,0
- ColorSpace: sRGB
- CreateDate: 2016:01:18 09:29:42
- CustomRendered: Normal
- DateTimeOriginal: 2016:01:18 09:29:42
- ExifImageHeight: 2400
- ExifImageWidth: 1080
- ExposureCompensation: -1
- ExposureMode: Auto
- ExposureProgram: Aperture-priority AE
- ExposureTime: 0,0
- FNumber: 2,2
- Flash: Off, Did not fire
- FocalLength: 35,0 mm
- ISO: 200
- LensInfo: 35mm f/?
- LensModel: EF35mm f/1.4L USM
- LensSerialNumber: 0000000000
- MaxApertureValue: 1,4
- MeteringMode: Multi-segment
- RecommendedExposureIndex: 200
- SceneCaptureType: Standard
- SensitivityType: Recommended Exposure Index
- SerialNumber: 073024009041
- ShutterSpeedValue: 1/512
- WhiteBalance: Manual
- ICC-header
- ICC-meas
- IFD0
- Artist: Evgeny Freyer
- BitsPerSample: 8 8 8
- Copyright: E.FREYER
- ImageHeight: 5760
- ImageWidth: 3840
- Make: Canon
- Model: Canon EOS 5D Mark III
- ModifyDate: 2023:02:27 12:04:52
- Orientation: Horizontal (normal)
- PlanarConfiguration: Chunky
- SamplesPerPixel: 3
- IPTC
- By-line: Evgeny Freyer, Evgeny Freyer
- CopyrightNotice: E.FREYER
- DateCreated: 2016:01:18
- OriginatingProgram: Topaz Labs
- System
- XMP-aux
- ApproximateFocusDistance: 2,03
- Firmware: 1.1.3
- FlashCompensation: 0
- ImageNumber: 0
- Lens: EF35mm f/1.4L USM
- LensID: 180
- XMP-crs
- AlreadyApplied: True
- AutoLateralCA: 0
- AutoWhiteVersion: 134348800
- Blacks2012: +82
- BlueHue: -15
- BlueSaturation: +25
- CameraProfile: Fuji Astia 100F - C
- Clarity2012: 0
- ColorNoiseReduction: 25
- ColorNoiseReductionDetail: 50
- ColorNoiseReductionSmoothness: 50
- ColorTemperature: 4851
- Contrast2012: 0
- ConvertToGrayscale: False
- DefringeGreenAmount: 0
- DefringeGreenHueHi: 60
- DefringeGreenHueLo: 40
- DefringePurpleAmount: 0
- DefringePurpleHueHi: 70
- DefringePurpleHueLo: 30
- Exposure2012: -0.70
- GradientBasedCorrActive: true
- GradientBasedCorrAmount: 1.000000
- GradientBasedCorrBrightness: 0.000000
- GradientBasedCorrClarity2012: 0.000000
- GradientBasedCorrContrast2012: 0.000000
- GradientBasedCorrDefringe: 0.000000
- GradientBasedCorrExposure2012: 0.078250
- GradientBasedCorrHighlights2012: 0.000000
- GradientBasedCorrHue: 0.000000
- GradientBasedCorrLuminanceNoise: 0.000000
- GradientBasedCorrMaskFullX: -0.005674
- GradientBasedCorrMaskFullY: 0.557447
- GradientBasedCorrMaskValue: 1.000000
- GradientBasedCorrMaskWhat: Mask/Gradient
- GradientBasedCorrMaskZeroX: 0.493617
- GradientBasedCorrMaskZeroY: 0.568085
- GradientBasedCorrMoire: 0.000000
- GradientBasedCorrSaturation: 0.000000
- GradientBasedCorrShadows2012: 0.000000
- GradientBasedCorrSharpness: 0.000000
- GradientBasedCorrTemperature: 0.000000
- GradientBasedCorrTint: 0.000000
- GradientBasedCorrWhat: Correction
- GrainAmount: 10
- GrainFrequency: 30
- GrainSize: 30
- GreenHue: +57
- GreenSaturation: -19
- HasCrop: False
- HasSettings: True
- Highlights2012: -66
- HueAdjustmentAqua: 0
- HueAdjustmentBlue: +5
- HueAdjustmentGreen: -20
- HueAdjustmentMagenta: +15
- HueAdjustmentOrange: -8
- HueAdjustmentPurple: +30
- HueAdjustmentRed: +8
- HueAdjustmentYellow: -32
- LensManualDistortionAmount: 0
- LensProfileEnable: 0
- LensProfileSetup: LensDefaults
- LuminanceAdjustmentAqua: 0
- LuminanceAdjustmentBlue: -10
- LuminanceAdjustmentGreen: -15
- LuminanceAdjustmentMagenta: -25
- LuminanceAdjustmentOrange: +2
- LuminanceAdjustmentPurple: -10
- LuminanceAdjustmentRed: -20
- LuminanceAdjustmentYellow: 0
- LuminanceSmoothing: 0
- PaintCorrectionActive: true
- PaintCorrectionAmount: 1.000000
- PaintCorrectionBrightness: 0.000000
- PaintCorrectionClarity2012: 0.000000
- PaintCorrectionContrast2012: 0.000000
- PaintCorrectionDefringe: 0.000000
- PaintCorrectionExposure2012: 0.078250
- PaintCorrectionHighlights2012: 0.000000
- PaintCorrectionHue: 0.000000
- PaintCorrectionLuminanceNoise: 0.000000
- PaintCorrectionMaskCenterWeight: 0.000000
- PaintCorrectionMaskFlow: 1.000000
- PaintCorrectionMaskRadius: 0.175664
- PaintCorrectionMaskValue: 1.000000
- PaintCorrectionMaskWhat: Mask/Paint
- PaintCorrectionMoire: 0.000000
- PaintCorrectionSaturation: 0.000000
- PaintCorrectionShadows2012: 0.000000
- PaintCorrectionSharpness: 0.000000
- PaintCorrectionTemperature: 0.000000
- PaintCorrectionTint: 0.000000
- PaintCorrectionWhat: Correction
- ParametricDarks: 0
- ParametricHighlightSplit: 75
- ParametricHighlights: 0
- ParametricLights: 0
- ParametricMidtoneSplit: 60
- ParametricShadowSplit: 14
- ParametricShadows: 0
- PerspectiveAspect: 0
- PerspectiveHorizontal: 0
- PerspectiveRotate: 0.0
- PerspectiveScale: 100
- PerspectiveUpright: 0
- PerspectiveVertical: 0
- PostCropVignetteAmount: 0
- ProcessVersion: 6.7
- RedHue: +22
- RedSaturation: 0
- Saturation: 0
- SaturationAdjustmentAqua: -15
- SaturationAdjustmentBlue: -26
- SaturationAdjustmentGreen: -30
- SaturationAdjustmentMagenta: -20
- SaturationAdjustmentOrange: -17
- SaturationAdjustmentPurple: -53
- SaturationAdjustmentRed: -10
- SaturationAdjustmentYellow: -35
- ShadowTint: 0
- Shadows2012: +85
- SharpenDetail: 25
- SharpenEdgeMasking: 0
- SharpenRadius: +1.2
- Sharpness: 40
- SplitToningBalance: 0
- SplitToningHighlightHue: 0
- SplitToningHighlightSaturation: 0
- SplitToningShadowHue: 0
- SplitToningShadowSaturation: 0
- Tint: -5
- ToneCurve: 0, 0, 255, 255
- ToneCurveBlue: 0, 0, 255, 255
- ToneCurveGreen: 0, 0, 255, 255
- ToneCurveName: Linear
- ToneCurveName2012: Custom
- ToneCurvePV2012: 0, 6, 55, 56, 129, 128, 255, 242
- ToneCurvePV2012Blue: 0, 0, 40, 26, 119, 124, 181, 200, 255, 255
- ToneCurvePV2012Green: 0, 0, 40, 25, 119, 125, 184, 197, 255, 255
- ToneCurvePV2012Red: 0, 0, 41, 25, 118, 123, 185, 195, 255, 255
- ToneCurveRed: 0, 0, 255, 255
- Version: 8.6
- Vibrance: 0
- VignetteAmount: 0
- WhiteBalance: Custom
- Whites2012: 0
- XMP-dc
- Creator: Evgeny Freyer
- Format: image/jpeg
- Rights: E.FREYER
- XMP-xmp
- ModifyDate: 2023:02:27 12:04:52+03:00
- Rating: 3
- XMP-xmpMM
- Просмотров: 459
- Рейтинг: голосов еще нет
- Отзывов: 0