- Раздел: Путешествия
- Дата съёмки: 22.12.2007 17:25
- Дата загрузки фото: 26.12.2007 21:17
- Оригинальная фотография: 1536 x 1024 (282 Кб)
- Технические характеристики:
- Фотоаппарат: Canon EOS 350D DIGITAL
- Выдержка: 1/100
- Гиперфокальное расстояние: 29,40 m
- Диафрагма: 4,5
- Светочувствительность: 1600
- Фокусное расстояние: 33,0mm (35mm эквивалент: 120,4mm)
- Полный EXIF
- Adobe
- ColorTransform: YCbCr
- Composite
- Aperture: 4,5
- CircleOfConfusion: 0,008 mm
- FlashOn: Off
- FocalLength35efl: 33,0mm (35mm equivalent: 120,4mm)
- HyperfocalDistance: 29,40 m
- LightValue: 7,0
- ScaleFactor35efl: 3,6
- ShutterSpeed: 1/100
- ExifIFD
- ApertureValue: 4,5
- CreateDate: 2007:12:22 17:25:44
- CustomRendered: Normal
- DateTimeOriginal: 2007:12:22 17:25:44
- ExposureCompensation: 0
- ExposureMode: Auto
- ExposureProgram: Aperture-priority AE
- ExposureTime: 1/100
- FNumber: 4,5
- Flash: Off
- FocalLength: 33,0mm
- ISO: 1600
- MaxApertureValue: 3,5
- MeteringMode: Partial
- SceneCaptureType: Standard
- ShutterSpeedValue: 1/100
- WhiteBalance: Auto
- ICC-header
- ICC-meas
- ICC-view
- IFD0
- Artist: Alexsandr Bolotov
- Make: Canon
- Model: Canon EOS 350D DIGITAL
- ModifyDate: 2007:12:26 22:32:24
- TimeZoneOffset: 5 5
- IPTC
- By-line: Alexsandr Bolotov
- XMP-aux
- Firmware: 1.0.3
- FlashCompensation: 0
- ImageNumber: 150
- Lens: 18.0-55.0 mm
- LensInfo: 18/1 55/1 0/0 0/0
- OwnerName: Alexsandr Bolotov
- SerialNumber: 3430712264
- XMP-crs
- AlreadyApplied: True
- BlueHue: 0
- BlueSaturation: 0
- Brightness: +56
- CameraProfile: ACR 3.1
- ChromaticAberrationB: 0
- ChromaticAberrationR: 0
- ColorNoiseReduction: 50
- Contrast: +55
- ConvertToGrayscale: False
- Exposure: 0.00
- FillLight: 0
- GreenHue: 0
- GreenSaturation: 0
- HasCrop: False
- HasSettings: True
- HighlightRecovery: 20
- HueAdjustmentAqua: 0
- HueAdjustmentBlue: 0
- HueAdjustmentGreen: 0
- HueAdjustmentMagenta: 0
- HueAdjustmentOrange: 0
- HueAdjustmentPurple: 0
- HueAdjustmentRed: 0
- HueAdjustmentYellow: 0
- LuminanceAdjustmentAqua: 0
- LuminanceAdjustmentBlue: 0
- LuminanceAdjustmentGreen: 0
- LuminanceAdjustmentMagenta: 0
- LuminanceAdjustmentOrange: 0
- LuminanceAdjustmentPurple: 0
- LuminanceAdjustmentRed: 0
- LuminanceAdjustmentYellow: 0
- LuminanceSmoothing: 25
- ParametricDarks: 0
- ParametricHighlightSplit: 75
- ParametricHighlights: 0
- ParametricLights: 0
- ParametricMidtoneSplit: 50
- ParametricShadowSplit: 25
- ParametricShadows: 0
- RawFileName: IMG_1174.CR2
- RedHue: 0
- RedSaturation: 0
- Saturation: 0
- SaturationAdjustmentAqua: 0
- SaturationAdjustmentBlue: 0
- SaturationAdjustmentGreen: 0
- SaturationAdjustmentMagenta: 0
- SaturationAdjustmentOrange: 0
- SaturationAdjustmentPurple: 0
- SaturationAdjustmentRed: 0
- SaturationAdjustmentYellow: 0
- ShadowTint: 0
- Shadows: 6
- Sharpness: 40
- SplitToningBalance: 0
- SplitToningHighlightHue: 0
- SplitToningHighlightSaturation: 0
- SplitToningShadowHue: 0
- SplitToningShadowSaturation: 0
- Temperature: 7050
- Tint: +31
- ToneCurve: 0, 0, 32, 22, 64, 56, 128, 128, 192, 196, 255, 255
- ToneCurveName: Medium Contrast
- Version: 4.0
- Vibrance: 0
- VignetteAmount: +15
- VignetteMidpoint: 65
- WhiteBalance: Custom
- XMP-dc
- Creator: Alexsandr Bolotov
- XMP-exif
- DateTimeDigitized: 2007:12:22 17:25:44+05:00
- DateTimeOriginal: 2007:12:22 17:25:44+05:00
- FlashFired: False
- FlashFunction: False
- FlashMode: Off
- FlashRedEyeMode: False
- FlashReturn: No return detection
- XMP-tiff
- ImageHeight: 1024
- ImageWidth: 1536
- XMP-xmp
- ModifyDate: 2007:12:26 22:32:24+05:00
- Rating: 0
- Просмотров: 258
- Рейтинг: голосов еще нет
- Отзывов: 0