- Раздел: Путешествия
- Дата съёмки: 22.12.2007 17:48
- Дата загрузки фото: 26.12.2007 21:18
- Оригинальная фотография: 1024 x 1536 (176 Кб)
- Технические характеристики:
- Фотоаппарат: Canon EOS 350D DIGITAL
- Выдержка: 1/30
- Гиперфокальное расстояние: 42,88 m
- Диафрагма: 5,0
- Светочувствительность: 1600
- Фокусное расстояние: 42,0mm (35mm эквивалент: 153,4mm)
- Полный EXIF
- Adobe
- ColorTransform: YCbCr
- Composite
- Aperture: 5,0
- CircleOfConfusion: 0,008 mm
- FlashOn: Off
- FocalLength35efl: 42,0mm (35mm equivalent: 153,4mm)
- HyperfocalDistance: 42,88 m
- LightValue: 5,6
- ScaleFactor35efl: 3,7
- ShutterSpeed: 1/30
- ExifIFD
- ApertureValue: 5,0
- CreateDate: 2007:12:22 17:48:39
- CustomRendered: Normal
- DateTimeOriginal: 2007:12:22 17:48:39
- ExposureCompensation: 0
- ExposureMode: Auto
- ExposureProgram: Aperture-priority AE
- ExposureTime: 1/30
- FNumber: 5,0
- Flash: Off
- FocalLength: 42,0mm
- ISO: 1600
- MaxApertureValue: 3,5
- MeteringMode: Partial
- SceneCaptureType: Standard
- ShutterSpeedValue: 1/30
- WhiteBalance: Auto
- ICC-header
- ICC-meas
- ICC-view
- IFD0
- Artist: Alexsandr Bolotov
- Make: Canon
- Model: Canon EOS 350D DIGITAL
- ModifyDate: 2007:12:26 22:37:49
- TimeZoneOffset: 5 5
- IPTC
- By-line: Alexsandr Bolotov
- XMP-aux
- Firmware: 1.0.3
- FlashCompensation: 0
- ImageNumber: 182
- Lens: 18.0-55.0 mm
- LensInfo: 18/1 55/1 0/0 0/0
- OwnerName: Alexsandr Bolotov
- SerialNumber: 3430712264
- XMP-crs
- AlreadyApplied: True
- BlueHue: 0
- BlueSaturation: 0
- Brightness: +50
- CameraProfile: ACR 3.1
- ChromaticAberrationB: 0
- ChromaticAberrationR: 0
- ColorNoiseReduction: 50
- Contrast: +10
- ConvertToGrayscale: False
- Exposure: 0.00
- FillLight: 10
- GreenHue: 0
- GreenSaturation: 0
- HasCrop: False
- HasSettings: True
- HighlightRecovery: 25
- HueAdjustmentAqua: 0
- HueAdjustmentBlue: 0
- HueAdjustmentGreen: 0
- HueAdjustmentMagenta: 0
- HueAdjustmentOrange: 0
- HueAdjustmentPurple: 0
- HueAdjustmentRed: 0
- HueAdjustmentYellow: 0
- LuminanceAdjustmentAqua: 0
- LuminanceAdjustmentBlue: 0
- LuminanceAdjustmentGreen: 0
- LuminanceAdjustmentMagenta: 0
- LuminanceAdjustmentOrange: 0
- LuminanceAdjustmentPurple: 0
- LuminanceAdjustmentRed: 0
- LuminanceAdjustmentYellow: 0
- LuminanceSmoothing: 25
- ParametricDarks: +10
- ParametricHighlightSplit: 75
- ParametricHighlights: -10
- ParametricLights: -10
- ParametricMidtoneSplit: 50
- ParametricShadowSplit: 25
- ParametricShadows: +10
- RawFileName: IMG_1206.CR2
- RedHue: 0
- RedSaturation: 0
- Saturation: 0
- SaturationAdjustmentAqua: 0
- SaturationAdjustmentBlue: 0
- SaturationAdjustmentGreen: 0
- SaturationAdjustmentMagenta: 0
- SaturationAdjustmentOrange: 0
- SaturationAdjustmentPurple: 0
- SaturationAdjustmentRed: 0
- SaturationAdjustmentYellow: 0
- ShadowTint: 0
- Shadows: 0
- Sharpness: 40
- SplitToningBalance: 0
- SplitToningHighlightHue: 0
- SplitToningHighlightSaturation: 0
- SplitToningShadowHue: 0
- SplitToningShadowSaturation: 0
- Temperature: 3200
- Tint: +12
- ToneCurve: 0, 0, 32, 22, 64, 56, 128, 128, 192, 196, 255, 255
- ToneCurveName: Medium Contrast
- Version: 4.0
- Vibrance: 0
- VignetteAmount: +15
- VignetteMidpoint: 65
- WhiteBalance: Custom
- XMP-dc
- Creator: Alexsandr Bolotov
- XMP-exif
- DateTimeDigitized: 2007:12:22 17:48:39+05:00
- DateTimeOriginal: 2007:12:22 17:48:39+05:00
- FlashFired: False
- FlashFunction: False
- FlashMode: Off
- FlashRedEyeMode: False
- FlashReturn: No return detection
- XMP-tiff
- ImageHeight: 1536
- ImageWidth: 1024
- XMP-xmp
- ModifyDate: 2007:12:26 22:37:49+05:00
- Rating: 0
- Просмотров: 193
- Рейтинг: голосов еще нет
- Отзывов: 0