- Раздел: Другое, разное
- Дата съёмки: неизвестно
- Дата загрузки фото: 31.03.2023 18:12
- Оригинальная фотография: 1149 x 1600 (625 Кб)
- Технические характеристики:
- Фотоаппарат: Samsung SM-A725F
- Выдержка: 0,0
- Гиперфокальное расстояние: inf m
- Диафрагма: 2,4
- Светочувствительность: 109
- Фокусное расстояние: 7,0 mm (35 mm equivalent: 98,0 mm)
- Полный EXIF
- Adobe
- ColorTransform: YCbCr
- Composite
- Aperture: 2,4
- CircleOfConfusion: 0,002 mm
- DOF: inf (0,00 m - inf)
- FOV: 20,0 deg
- FocalLength35efl: 7,0 mm (35 mm equivalent: 98,0 mm)
- HyperfocalDistance: inf m
- Megapixels: 1,8
- ScaleFactor35efl: 14,7
- ShutterSpeed: 0,0
- ExifIFD
- ApertureValue: 2,0
- BrightnessValue: 3,05
- ColorSpace: sRGB
- Contrast: Normal
- CreateDate: 2023:03:31 12:27:32
- CustomRendered: Custom
- DateTimeOriginal: 2023:03:31 12:27:32
- DigitalZoomRatio: 0
- ExifImageHeight: 1600
- ExifImageWidth: 1149
- ExposureCompensation: 0
- ExposureMode: Auto
- ExposureProgram: Program AE
- ExposureTime: 0,0
- FNumber: 2,4
- Flash: Off, Did not fire
- FocalLength: 7,0 mm
- FocalLengthIn35mmFormat: 103 mm
- ISO: 109
- LensMake: samsung
- LensModel: samsung
- MaxApertureValue: 2,0
- MeteringMode: Center-weighted average
- Saturation: Normal
- SceneCaptureType: Standard
- SceneType: Directly photographed
- SensingMethod: One-chip color area
- Sharpness: Normal
- ShutterSpeedValue: 1/32
- SubjectDistance: 4,456 m
- SubjectDistanceRange: Distant
- WhiteBalance: Auto
- ICC-header
- ICC-meas
- ICC-view
- IFD0
- Make: samsung
- Model: SM-A725F
- ModifyDate: 2023:03:31 17:51:09
- Orientation: Horizontal (normal)
- IFD1
- IPTC
- DateCreated: 2023:03:31
- System
- XMP-GCamera
- Shot_log_data: SERSUALvZDVtXnAeLOrjQ9jaZo3284E7qT79yMYmatYzbAmkHjKmd9PoVv7m3ZL9hzjKTohCsfTJ67PjoBfTuZhss/ZIRyckxtFu02sWklkmsFAIHOkPmWRczIrQexd4dGWEv7Yn7hjnYD87N+G815MQmmbh2x6SwYLBjJbz5jsQme+FJWav8TMZVoKkTvz92JBlwOuBdy58k56O/zl5ESjZy7lXHPDkqICAXpHKKNPtpF1bGIxMJhif8qGK/J+3DhL+OIjYEcLOG2PiAFb03e5bdQoSgggeCyg7t3hHi0LIfHPhDefqH5JpGfcxjU59pOhsd0QdhSKSZY3cWDOBcIxrCMzTJUy8vyUh9pnQjLlc68olffdthB6vR3S+rShPduRvyFdWTtLpHgeSFmp88dpJvZKlDXgkhoZdmA==
- XMP-aux
- ApproximateFocusDistance: 4,456
- Lens: samsung
- XMP-crs
- AlreadyApplied: True
- AutoLateralCA: 0
- Blacks2012: 0
- BlueHue: 0
- BlueSaturation: 0
- CameraProfile: Embedded
- Clarity2012: 0
- ColorGradeBlending: 50
- ColorGradeGlobalHue: 0
- ColorGradeGlobalLum: 0
- ColorGradeGlobalSat: 0
- ColorGradeHighlightLum: 0
- ColorGradeMidtoneHue: 0
- ColorGradeMidtoneLum: 0
- ColorGradeMidtoneSat: 0
- ColorGradeShadowLum: 0
- ColorNoiseReduction: 0
- Contrast2012: 0
- ConvertToGrayscale: False
- DefringeGreenAmount: 0
- DefringeGreenHueHi: 60
- DefringeGreenHueLo: 40
- DefringePurpleAmount: 0
- DefringePurpleHueHi: 70
- DefringePurpleHueLo: 30
- Dehaze: 0
- Exposure2012: 0.00
- GrainAmount: 0
- GreenHue: 0
- GreenSaturation: 0
- HasCrop: False
- HasSettings: True
- Highlights2012: 0
- HueAdjustmentAqua: 0
- HueAdjustmentBlue: 0
- HueAdjustmentGreen: 0
- HueAdjustmentMagenta: 0
- HueAdjustmentOrange: -4
- HueAdjustmentPurple: 0
- HueAdjustmentRed: +9
- HueAdjustmentYellow: -17
- IncrementalTemperature: +2
- IncrementalTint: 0
- LensManualDistortionAmount: 0
- LensProfileEnable: 0
- LuminanceAdjustmentAqua: 0
- LuminanceAdjustmentBlue: +20
- LuminanceAdjustmentGreen: 0
- LuminanceAdjustmentMagenta: 0
- LuminanceAdjustmentOrange: +7
- LuminanceAdjustmentPurple: 0
- LuminanceAdjustmentRed: -25
- LuminanceAdjustmentYellow: +11
- LuminanceSmoothing: 0
- OverrideLookVignette: False
- ParametricDarks: 0
- ParametricHighlightSplit: 75
- ParametricHighlights: 0
- ParametricLights: 0
- ParametricMidtoneSplit: 50
- ParametricShadowSplit: 25
- ParametricShadows: 0
- PerspectiveAspect: 0
- PerspectiveHorizontal: 0
- PerspectiveRotate: 0.0
- PerspectiveScale: 100
- PerspectiveUpright: 0
- PerspectiveVertical: 0
- PerspectiveX: 0.00
- PerspectiveY: 0.00
- PostCropVignetteAmount: 0
- ProcessVersion: 11.0
- RedHue: 0
- RedSaturation: 0
- Saturation: 0
- SaturationAdjustmentAqua: 0
- SaturationAdjustmentBlue: 0
- SaturationAdjustmentGreen: 0
- SaturationAdjustmentMagenta: 0
- SaturationAdjustmentOrange: +3
- SaturationAdjustmentPurple: 0
- SaturationAdjustmentRed: 0
- SaturationAdjustmentYellow: -7
- ShadowTint: 0
- Shadows2012: 0
- Sharpness: 0
- SplitToningBalance: 0
- SplitToningHighlightHue: 0
- SplitToningHighlightSaturation: 0
- SplitToningShadowHue: 0
- SplitToningShadowSaturation: 0
- Texture: 0
- ToneCurveName2012: Linear
- ToneCurvePV2012: 0, 0, 255, 255
- ToneCurvePV2012Blue: 0, 0, 255, 255
- ToneCurvePV2012Green: 0, 0, 255, 255
- ToneCurvePV2012Red: 0, 0, 255, 255
- Version: 14.5
- Vibrance: 0
- VignetteAmount: 0
- WhiteBalance: Custom
- Whites2012: 0
- XMP-dc
- XMP-exifEX
- XMP-xmp
- CreatorTool: HDR+ 1.0.antykat_libndy
- ModifyDate: 2023:03:31 17:51:09+03:00
- XMP-xmpMM
- Просмотров: 101
- Рейтинг: голосов еще нет
- Отзывов: 0