220В 300Вт М-СЭЛЗ I 1981, X 1983, I 1990
Лампы расположены в порядке от более старой к более новой (слева направо). У средней в маркировке также указана цена в 50 копеек. Возможно она была и у более старой но часть ее маркировки (как и у еще одной такой же лампы) плохо сохранилась.
У лампы слева при первом включении перегорел предохранитель. Такое впечатление что он был поврежден и не выдержал токового удара когда спираль еще была холодной. Разве что в лампе произошел пробой в газе между электродами в самом узком месте (поверх лопатки). Но эта версия мне видится сомнительной так как по свечению газа наполнение у этой лампы типичное и не отличается от остальных.
У продавца тип этих ламп был указан как Г230-240-300-3 (из этикетки на заводской коробке). Но так как изготовлены они в сильно разных годах то я не уверен что данный тип ко всем им подходит. Поэтому и не указываю его в наименовании снимков.
- Раздел: Хобби
- Дата съёмки: неизвестно
- Дата загрузки фото: 05.05.2023 23:48
- Оригинальная фотография: 4615 x 3268 (1,9 Мб)
- Технические характеристики:
- Фотоаппарат: Canon EOS 600D
- Выдержка: 0,0
- Гиперфокальное расстояние: inf m
- Диафрагма: 14,0
- Светочувствительность: 400
- Фокусное расстояние: 55,0 mm (35 mm equivalent: 55,0 mm)
- Полный EXIF
- Composite
- Aperture: 14,0
- CircleOfConfusion: 0,019 mm
- FOV: 36,0 deg
- FocalLength35efl: 55,0 mm (35 mm equivalent: 55,0 mm)
- HyperfocalDistance: inf m
- LensID: Canon EF-S 18-55mm f/3.5-5.6 IS II
- Megapixels: 15,1
- ScaleFactor35efl: 1,6
- ShutterSpeed: 0,0
- ExifIFD
- ApertureValue: 11,3
- ColorSpace: sRGB
- CreateDate: 2023:05:05 20:11:43
- CustomRendered: Normal
- DateTimeOriginal: 2023:05:05 20:11:43
- ExposureCompensation: 0
- ExposureMode: Manual
- ExposureProgram: Manual
- ExposureTime: 0,0
- FNumber: 14,0
- Flash: On, Fired
- FocalLength: 55,0 mm
- ISO: 400
- LensInfo: 18-55mm f/?
- LensModel: EF-S18-55mm f/3.5-5.6 IS II
- LensSerialNumber: 000030fbf1
- MaxApertureValue: 5,7
- MeteringMode: Multi-segment
- RecommendedExposureIndex: 400
- SceneCaptureType: Standard
- SensitivityType: Recommended Exposure Index
- SerialNumber: 248076176521
- ShutterSpeedValue: 1/64
- WhiteBalance: Auto
- ICC-header
- ICC-meas
- ICC-view
- IFD0
- Make: Canon
- Model: Canon EOS 600D
- ModifyDate: 2023:05:05 23:32:03
- Orientation: Horizontal (normal)
- IFD1
- IPTC
- DateCreated: 2023:05:05
- System
- XMP-aux
- ApproximateFocusDistance: 0,93
- Firmware: 1.0.2
- FlashCompensation: 0,333333333333333
- ImageNumber: 0
- Lens: EF-S18-55mm f/3.5-5.6 IS II
- LensID: 52
- XMP-crs
- AlreadyApplied: True
- AutoLateralCA: 1
- AutoWhiteVersion: 134348800
- Blacks2012: 0
- BlueHue: 0
- BlueSaturation: 0
- CameraProfile: Embedded
- Clarity2012: 0
- ColorNoiseReduction: 20
- ColorNoiseReductionDetail: 50
- ColorNoiseReductionSmoothness: 50
- Contrast2012: 0
- ConvertToGrayscale: False
- CropAngle: 1
- CropBottom: 0.968702
- CropConstrainToWarp: 0
- CropLeft: 0.051241
- CropRight: 0.930247
- CropTop: 0
- DefringeGreenAmount: 0
- DefringeGreenHueHi: 60
- DefringeGreenHueLo: 40
- DefringePurpleAmount: 0
- DefringePurpleHueHi: 70
- DefringePurpleHueLo: 30
- Dehaze: 0
- Exposure2012: +0.70
- GrainAmount: 0
- GreenHue: 0
- GreenSaturation: 0
- HasCrop: True
- HasSettings: True
- Highlights2012: 0
- HueAdjustmentAqua: 0
- HueAdjustmentBlue: 0
- HueAdjustmentGreen: 0
- HueAdjustmentMagenta: 0
- HueAdjustmentOrange: 0
- HueAdjustmentPurple: 0
- HueAdjustmentRed: 0
- HueAdjustmentYellow: 0
- IncrementalTemperature: 0
- IncrementalTint: 0
- LensManualDistortionAmount: 0
- LensProfileChromaticAberrationScale: 100
- LensProfileDistortionScale: 100
- LensProfileEnable: 1
- LensProfileFilename: Canon EOS 50D (Canon EF-S 18-55mm f3.5-5.6 IS).lcp
- LensProfileSetup: Custom
- LensProfileVignettingScale: 100
- LuminanceAdjustmentAqua: 0
- LuminanceAdjustmentBlue: 0
- LuminanceAdjustmentGreen: 0
- LuminanceAdjustmentMagenta: 0
- LuminanceAdjustmentOrange: 0
- LuminanceAdjustmentPurple: 0
- LuminanceAdjustmentRed: 0
- LuminanceAdjustmentYellow: 0
- LuminanceNoiseReductionContrast: 0
- LuminanceNoiseReductionDetail: 50
- LuminanceSmoothing: 20
- ParametricDarks: 0
- ParametricHighlightSplit: 75
- ParametricHighlights: 0
- ParametricLights: 0
- ParametricMidtoneSplit: 50
- ParametricShadowSplit: 25
- ParametricShadows: 0
- PerspectiveAspect: 0
- PerspectiveHorizontal: 0
- PerspectiveRotate: 0.0
- PerspectiveScale: 100
- PerspectiveUpright: 0
- PerspectiveVertical: 0
- PerspectiveX: 0.00
- PerspectiveY: 0.00
- PostCropVignetteAmount: 0
- ProcessVersion: 6.7
- RedHue: 0
- RedSaturation: 0
- Saturation: 0
- SaturationAdjustmentAqua: 0
- SaturationAdjustmentBlue: 0
- SaturationAdjustmentGreen: 0
- SaturationAdjustmentMagenta: 0
- SaturationAdjustmentOrange: 0
- SaturationAdjustmentPurple: 0
- SaturationAdjustmentRed: 0
- SaturationAdjustmentYellow: 0
- ShadowTint: 0
- Shadows2012: 0
- SharpenDetail: 25
- SharpenEdgeMasking: 0
- SharpenRadius: +1.0
- Sharpness: 20
- SplitToningBalance: 0
- SplitToningHighlightHue: 0
- SplitToningHighlightSaturation: 0
- SplitToningShadowHue: 0
- SplitToningShadowSaturation: 0
- ToneCurve: 0, 0, 255, 255
- ToneCurveBlue: 0, 0, 255, 255
- ToneCurveGreen: 0, 0, 255, 255
- ToneCurveName: Linear
- ToneCurveName2012: Linear
- ToneCurvePV2012: 0, 0, 255, 255
- ToneCurvePV2012Blue: 0, 0, 255, 255
- ToneCurvePV2012Green: 0, 0, 255, 255
- ToneCurvePV2012Red: 0, 0, 255, 255
- ToneCurveRed: 0, 0, 255, 255
- ToneMapStrength: 0
- Version: 9.7
- Vibrance: 0
- VignetteAmount: 0
- WhiteBalance: As Shot
- Whites2012: 0
- XMP-dc
- XMP-xmp
- CreateDate: 2023:05:05 20:11:43.77
- ModifyDate: 2023:05:05 23:32:03+03:00
- XMP-xmpMM
- Просмотров: 115
- Рейтинг: голосов еще нет
- Отзывов: 1
Получить код для блога
Вставка фотографии в текущем разрешении |
Вставка миниатюры |
HTML (для вставки в блог):
BBCode (для вставки в форум):
Ссылка на фото:
Ссылка на миниатюру:
- Послать ссылку другу
Комментарии к фотографии |
![](img/title-line.gif) |
![](img/title-shadow.gif) | |