- Раздел: Другое, разное
- Дата съёмки: 08.10.2006 21:37
- Дата загрузки фото: 03.01.2008 17:25
- Оригинальная фотография: 667 x 1000 (468 Кб)
- Технические характеристики:
- Фотоаппарат: Canon EOS 30D
- Выдержка: 20,0
- Гиперфокальное расстояние: 25,82 m
- Диафрагма: 11,0
- Светочувствительность: 200
- Фокусное расстояние: 39,0mm (35mm эквивалент: 218,8mm)
- Полный EXIF
- Adobe
- ColorTransform: YCbCr
- Composite
- Aperture: 11,0
- CircleOfConfusion: 0,005 mm
- FocalLength35efl: 39,0mm (35mm equivalent: 218,8mm)
- HyperfocalDistance: 25,82 m
- LightValue: 1,6
- ScaleFactor35efl: 5,6
- ShutterSpeed: 20,0
- ExifIFD
- ApertureValue: 11,0
- CreateDate: 2006:10:08 21:37:55
- CustomRendered: Normal
- DateTimeOriginal: 2006:10:08 21:37:55
- ExposureCompensation: 0
- ExposureMode: Auto
- ExposureProgram: Aperture-priority AE
- ExposureTime: 20,0
- FNumber: 11,0
- Flash: Off
- FocalLength: 39,0mm
- ISO: 200
- MaxApertureValue: 4,5
- MeteringMode: Multi-segment
- SceneCaptureType: Standard
- ShutterSpeedValue: 20,0
- WhiteBalance: Manual
- ICC-header
- IFD0
- Artist: Denisov Dmitry
- Make: Canon
- Model: Canon EOS 30D
- ModifyDate: 2008:01:03 17:24:03
- IPTC
- By-line: Denisov Dmitry
- XMP-aux
- Firmware: 1.0.4
- FlashCompensation: 0
- ImageNumber: 240
- Lens: EF-S18-55mm f/3.5-5.6
- LensInfo: 18/1 55/1 0/0 0/0
- OwnerName: Denisov Dmitry
- SerialNumber: 730516352
- XMP-crs
- AlreadyApplied: True
- BlueHue: 0
- BlueSaturation: 0
- Brightness: +50
- CameraProfile: ACR 3.4
- ChromaticAberrationB: 0
- ChromaticAberrationR: 0
- Clarity: 0
- ColorNoiseReduction: 100
- Contrast: +25
- ConvertToGrayscale: False
- Defringe: 0
- Exposure: 0.00
- FillLight: 0
- GreenHue: 0
- GreenSaturation: 0
- HasCrop: False
- HasSettings: True
- HighlightRecovery: 100
- HueAdjustmentAqua: +100
- HueAdjustmentBlue: +1
- HueAdjustmentGreen: +100
- HueAdjustmentMagenta: +100
- HueAdjustmentOrange: -55
- HueAdjustmentPurple: +100
- HueAdjustmentRed: -6
- HueAdjustmentYellow: +100
- LuminanceAdjustmentAqua: +100
- LuminanceAdjustmentBlue: +100
- LuminanceAdjustmentGreen: +100
- LuminanceAdjustmentMagenta: +100
- LuminanceAdjustmentOrange: +100
- LuminanceAdjustmentPurple: +100
- LuminanceAdjustmentRed: +100
- LuminanceAdjustmentYellow: +100
- LuminanceSmoothing: 100
- ParametricDarks: 0
- ParametricHighlightSplit: 75
- ParametricHighlights: 0
- ParametricLights: 0
- ParametricMidtoneSplit: 50
- ParametricShadowSplit: 25
- ParametricShadows: 0
- RedHue: 0
- RedSaturation: 0
- Saturation: 0
- SaturationAdjustmentAqua: +100
- SaturationAdjustmentBlue: +100
- SaturationAdjustmentGreen: +100
- SaturationAdjustmentMagenta: +100
- SaturationAdjustmentOrange: +100
- SaturationAdjustmentPurple: +100
- SaturationAdjustmentRed: +100
- SaturationAdjustmentYellow: -100
- ShadowTint: 0
- Shadows: 7
- SharpenDetail: 0
- SharpenEdgeMasking: 0
- SharpenRadius: +0.5
- Sharpness: 0
- SplitToningBalance: -100
- SplitToningHighlightHue: 0
- SplitToningHighlightSaturation: 0
- SplitToningShadowHue: 0
- SplitToningShadowSaturation: 0
- Temperature: 2300
- Tint: -2
- ToneCurve: 0, 0, 32, 22, 64, 56, 128, 128, 192, 196, 255, 255
- ToneCurveName: Medium Contrast
- Version: 1.0
- Vibrance: 0
- VignetteAmount: 0
- WhiteBalance: Custom
- XMP-dc
- XMP-exif
- DateTimeDigitized: 2006:10:08 21:37:55+04:00
- DateTimeOriginal: 2006:10:08 21:37:55+04:00
- FlashFired: False
- FlashFunction: False
- FlashMode: Off
- FlashRedEyeMode: False
- FlashReturn: No return detection
- XMP-tiff
- ImageHeight: 1000
- ImageWidth: 667
- XMP-xmp
- ModifyDate: 2008:01:03 17:24:03+03:00
- Просмотров: 172
- Рейтинг: голосов еще нет
- Отзывов: 0