- Раздел: Другое, разное
- Дата съёмки: неизвестно
- Дата загрузки фото: 16.06.2023 12:24
- Оригинальная фотография: 3885 x 2590 (9,0 Мб)
- Технические характеристики:
- Фотоаппарат: Sony DSC-RX100M3
- Выдержка: 0,0
- Гиперфокальное расстояние: inf m
- Диафрагма: 6,3
- Светочувствительность: 125
- Фокусное расстояние: 20,0 mm (35 mm equivalent: 40,0 mm)
- Полный EXIF
- Composite
- Aperture: 6,3
- CircleOfConfusion: 0,011 mm
- FOV: 48,0 deg
- FocalLength35efl: 20,0 mm (35 mm equivalent: 40,0 mm)
- HyperfocalDistance: inf m
- Megapixels: 10,1
- ScaleFactor35efl: 2,9
- ShutterSpeed: 0,0
- ExifIFD
- ApertureValue: 5,7
- BrightnessValue: 2,4859375
- ColorSpace: Uncalibrated
- Contrast: Low
- CreateDate: 2023:04:30 05:19:49
- CustomRendered: Normal
- DateTimeOriginal: 2023:04:30 05:19:49
- DigitalZoomRatio: 1
- ExifImageHeight: 2590
- ExifImageWidth: 3885
- ExposureCompensation: 0
- ExposureMode: Auto
- ExposureProgram: Aperture-priority AE
- ExposureTime: 0,0
- FNumber: 6,3
- Flash: Off, Did not fire
- FocalLength: 20,0 mm
- FocalLengthIn35mmFormat: 57 mm
- ISO: 125
- LensInfo: 8.8-25.7mm f/1.8-2.8
- LensModel: 24-70mm F1.8-2.8
- LightSource: Unknown
- MaxApertureValue: 2,0
- MeteringMode: Multi-segment
- RecommendedExposureIndex: 125
- Saturation: Normal
- SceneCaptureType: Standard
- SceneType: Directly photographed
- SensitivityType: Recommended Exposure Index
- Sharpness: Soft
- ShutterSpeedValue: 0,5
- WhiteBalance: Auto
- IFD0
- Make: SONY
- Model: DSC-RX100M3
- ModifyDate: 2023:06:15 22:21:47
- Orientation: Horizontal (normal)
- IFD1
- IPTC
- DateCreated: 2023:04:30
- System
- XMP-aux
- DistortionCorrectionAlreadyApplied: True
- LateralChromaticAberrationCorrectionAlreadyApplied: True
- Lens: 24-70mm F1.8-2.8
- LensDistortInfo: 33090/32768 -42257633/1073741824 21372483/1073741824 10309197/1073741824
- XMP-crs
- AlreadyApplied: True
- AutoLateralCA: 0
- Blacks2012: -26
- BlueHue: 0
- BlueSaturation: 0
- Clarity2012: 0
- ColorGradeBlending: 50
- ColorGradeGlobalHue: 0
- ColorGradeGlobalLum: 0
- ColorGradeGlobalSat: 0
- ColorGradeHighlightLum: 0
- ColorGradeMidtoneHue: 0
- ColorGradeMidtoneLum: 0
- ColorGradeMidtoneSat: 0
- ColorGradeShadowLum: 0
- ColorNoiseReduction: 25
- ColorNoiseReductionDetail: 50
- ColorNoiseReductionSmoothness: 50
- ColorTemperature: 5200
- Contrast2012: +7
- DefringeGreenAmount: 0
- DefringeGreenHueHi: 60
- DefringeGreenHueLo: 40
- DefringePurpleAmount: 0
- DefringePurpleHueHi: 70
- DefringePurpleHueLo: 30
- Dehaze: 0
- Exposure2012: -0.30
- GrainAmount: 0
- GreenHue: 0
- GreenSaturation: 0
- HasCrop: False
- HasSettings: True
- Highlights2012: -64
- HueAdjustmentAqua: 0
- HueAdjustmentBlue: 0
- HueAdjustmentGreen: 0
- HueAdjustmentMagenta: 0
- HueAdjustmentOrange: 0
- HueAdjustmentPurple: 0
- HueAdjustmentRed: 0
- HueAdjustmentYellow: 0
- LensManualDistortionAmount: 0
- LensProfileEnable: 0
- LookAmount: 1
- LookGroup: Profiles
- LookParametersConvertToGrayscale: False
- LookParametersLookTable: E1095149FDB39D7A057BAB208837E2E1
- LookParametersProcessVersion: 11.0
- LookParametersToneCurvePV2012: 0, 0, 22, 16, 40, 35, 127, 127, 224, 230, 240, 246, 255, 255
- LookParametersToneCurvePV2012Blue: 0, 0, 255, 255
- LookParametersToneCurvePV2012Green: 0, 0, 255, 255
- LookParametersToneCurvePV2012Red: 0, 0, 255, 255
- LookParametersVersion: 14.5
- LookSupportsAmount: false
- LookSupportsMonochrome: false
- LookSupportsOutputReferred: false
- LuminanceAdjustmentAqua: 0
- LuminanceAdjustmentBlue: 0
- LuminanceAdjustmentGreen: 0
- LuminanceAdjustmentMagenta: 0
- LuminanceAdjustmentOrange: 0
- LuminanceAdjustmentPurple: 0
- LuminanceAdjustmentRed: 0
- LuminanceAdjustmentYellow: 0
- LuminanceSmoothing: 0
- OverrideLookVignette: False
- ParametricDarks: 0
- ParametricHighlightSplit: 75
- ParametricHighlights: 0
- ParametricLights: 0
- ParametricMidtoneSplit: 50
- ParametricShadowSplit: 25
- ParametricShadows: 0
- PerspectiveAspect: 0
- PerspectiveHorizontal: 0
- PerspectiveRotate: 0.0
- PerspectiveScale: 100
- PerspectiveUpright: 0
- PerspectiveVertical: 0
- PerspectiveX: 0.00
- PerspectiveY: 0.00
- PostCropVignetteAmount: 0
- ProcessVersion: 11.0
- RedHue: 0
- RedSaturation: 0
- Saturation: +21
- SaturationAdjustmentAqua: 0
- SaturationAdjustmentBlue: 0
- SaturationAdjustmentGreen: 0
- SaturationAdjustmentMagenta: 0
- SaturationAdjustmentOrange: 0
- SaturationAdjustmentPurple: 0
- SaturationAdjustmentRed: 0
- SaturationAdjustmentYellow: 0
- ShadowTint: 0
- Shadows2012: +80
- SharpenDetail: 25
- SharpenEdgeMasking: 0
- SharpenRadius: +1.0
- Sharpness: 40
- SplitToningBalance: 0
- SplitToningHighlightHue: 0
- SplitToningHighlightSaturation: 0
- SplitToningShadowHue: 0
- SplitToningShadowSaturation: 0
- Texture: 0
- Tint: -12
- ToneCurveName2012: Linear
- ToneCurvePV2012: 0, 0, 255, 255
- ToneCurvePV2012Blue: 0, 0, 255, 255
- ToneCurvePV2012Green: 0, 0, 255, 255
- ToneCurvePV2012Red: 0, 0, 255, 255
- Version: 14.5
- Vibrance: +40
- VignetteAmount: 0
- WhiteBalance: As Shot
- Whites2012: -33
- XMP-dc
- XMP-exifEX
- XMP-xmp
- CreatorTool: DSC-RX100M3 v2.00
- ModifyDate: 2023:06:15 22:21:47+03:00
- XMP-xmpMM
- Просмотров: 40
- Рейтинг: голосов еще нет
- Отзывов: 0