- Раздел: Тесты фототехники
- Дата съёмки: неизвестно
- Дата загрузки фото: 31.07.2023 08:39
- Оригинальная фотография: 5760 x 3840 (8,6 Мб)
- Технические характеристики:
- Фотоаппарат: Sony ILCE-1
- Выдержка: 0,0
- Гиперфокальное расстояние: inf m
- Диафрагма: 7,1
- Светочувствительность: 640
- Фокусное расстояние: 600,0 mm (35 mm equivalent: 600,0 mm)
- Полный EXIF
- Adobe
- ColorTransform: YCbCr
- Composite
- Aperture: 7,1
- CircleOfConfusion: 0,030 mm
- FOV: 3,0 deg
- FocalLength35efl: 600,0 mm (35 mm equivalent: 600,0 mm)
- HyperfocalDistance: inf m
- Megapixels: 22,1
- ScaleFactor35efl: 1,0
- ShutterSpeed: 0,0
- ExifIFD
- ApertureValue: 5,7
- BrightnessValue: 10,6421875
- ColorSpace: sRGB
- Contrast: Normal
- CreateDate: 2023:07:30 12:22:48
- CustomRendered: Normal
- DateTimeOriginal: 2023:07:30 12:22:48
- DigitalZoomRatio: 1
- ExifImageHeight: 3840
- ExifImageWidth: 5760
- ExposureCompensation: 0
- ExposureMode: Manual
- ExposureProgram: Manual
- ExposureTime: 0,0
- FNumber: 7,1
- Flash: Off, Did not fire
- FocalLength: 600,0 mm
- FocalLengthIn35mmFormat: 600 mm
- ISO: 640
- LensInfo: 200-600mm f/5.6-6.3
- LensModel: FE 200-600mm F5.6-6.3 G OSS
- LightSource: Unknown
- MaxApertureValue: 5,7
- MeteringMode: Multi-segment
- RecommendedExposureIndex: 640
- Saturation: Normal
- SceneCaptureType: Standard
- SceneType: Directly photographed
- SensitivityType: Recommended Exposure Index
- Sharpness: Normal
- ShutterSpeedValue: 1/2048
- WhiteBalance: Auto
- ICC-header
- ICC-header2
- ICC-meas
- ICC-meas2
- ICC-view
- IFD0
- BitsPerSample: 8 8 8
- ImageHeight: 4800
- ImageWidth: 7200
- Make: SONY
- Model: ILCE-1
- ModifyDate: 2023:07:31 08:36:13
- Orientation: Horizontal (normal)
- PhotometricInterpretation: RGB
- PlanarConfiguration: Chunky
- SamplesPerPixel: 3
- SubfileType: Full-resolution Image
- IFD1
- IPTC
- DateCreated: 2023:07:30
- OriginatingProgram: Topaz Labs
- System
- XMP-aux
- LateralChromaticAberrationCorrectionAlreadyApplied: True
- Lens: FE 200-600mm F5.6-6.3 G OSS
- LensDistortInfo: 1048909993/1073741824 25735998/1073741824 463437/1073741824 -1386518/1073741824
- XMP-crs
- AlreadyApplied: True
- AutoLateralCA: 1
- Blacks2012: 0
- BlueHue: 0
- BlueSaturation: 0
- CameraProfile: Camera ST
- Clarity2012: +32
- ColorGradeBlending: 50
- ColorGradeGlobalHue: 0
- ColorGradeGlobalLum: 0
- ColorGradeGlobalSat: 0
- ColorGradeHighlightLum: 0
- ColorGradeMidtoneHue: 0
- ColorGradeMidtoneLum: 0
- ColorGradeMidtoneSat: 0
- ColorGradeShadowLum: 0
- ColorNoiseReduction: 25
- ColorNoiseReductionDetail: 50
- ColorNoiseReductionSmoothness: 50
- ColorTemperature: 5250
- Contrast2012: 0
- ConvertToGrayscale: False
- DefringeGreenAmount: 0
- DefringeGreenHueHi: 60
- DefringeGreenHueLo: 40
- DefringePurpleAmount: 0
- DefringePurpleHueHi: 70
- DefringePurpleHueLo: 30
- Dehaze: 0
- Exposure2012: +0.75
- GrainAmount: 0
- GreenHue: 0
- GreenSaturation: 0
- HasCrop: False
- HasSettings: True
- Highlights2012: -38
- HueAdjustmentAqua: 0
- HueAdjustmentBlue: 0
- HueAdjustmentGreen: 0
- HueAdjustmentMagenta: 0
- HueAdjustmentOrange: 0
- HueAdjustmentPurple: 0
- HueAdjustmentRed: 0
- HueAdjustmentYellow: 0
- LensManualDistortionAmount: 0
- LensProfileEnable: 0
- LuminanceAdjustmentAqua: 0
- LuminanceAdjustmentBlue: 0
- LuminanceAdjustmentGreen: 0
- LuminanceAdjustmentMagenta: 0
- LuminanceAdjustmentOrange: 0
- LuminanceAdjustmentPurple: 0
- LuminanceAdjustmentRed: 0
- LuminanceAdjustmentYellow: 0
- LuminanceSmoothing: 0
- OverrideLookVignette: False
- ParametricDarks: 0
- ParametricHighlightSplit: 75
- ParametricHighlights: 0
- ParametricLights: 0
- ParametricMidtoneSplit: 50
- ParametricShadowSplit: 25
- ParametricShadows: 0
- PerspectiveAspect: 0
- PerspectiveHorizontal: 0
- PerspectiveRotate: 0.0
- PerspectiveScale: 100
- PerspectiveUpright: 0
- PerspectiveVertical: 0
- PerspectiveX: 0.00
- PerspectiveY: 0.00
- PostCropVignetteAmount: 0
- ProcessVersion: 15.4
- RedHue: 0
- RedSaturation: 0
- Saturation: 0
- SaturationAdjustmentAqua: 0
- SaturationAdjustmentBlue: 0
- SaturationAdjustmentGreen: 0
- SaturationAdjustmentMagenta: 0
- SaturationAdjustmentOrange: 0
- SaturationAdjustmentPurple: 0
- SaturationAdjustmentRed: 0
- SaturationAdjustmentYellow: 0
- ShadowTint: 0
- Shadows2012: +39
- SharpenDetail: 25
- SharpenEdgeMasking: 0
- SharpenRadius: +1.0
- Sharpness: 35
- SplitToningBalance: 0
- SplitToningHighlightHue: 0
- SplitToningHighlightSaturation: 0
- SplitToningShadowHue: 0
- SplitToningShadowSaturation: 0
- Texture: 0
- Tint: +13
- ToneCurveName2012: Linear
- ToneCurvePV2012: 0, 0, 255, 255
- ToneCurvePV2012Blue: 0, 0, 255, 255
- ToneCurvePV2012Green: 0, 0, 255, 255
- ToneCurvePV2012Red: 0, 0, 255, 255
- Version: 15.4.1
- Vibrance: 0
- VignetteAmount: 0
- WhiteBalance: As Shot
- Whites2012: +29
- XMP-dc
- XMP-exifEX
- XMP-xmp
- ModifyDate: 2023:07:31 08:36:13+03:00
- Rating: 0
- XMP-xmpMM