- Раздел: Другое, разное
- Дата съёмки: неизвестно
- Дата загрузки фото: 18.08.2023 09:27
- Оригинальная фотография: 3000 x 2234 (5,3 Мб)
- Технические характеристики:
- Фотоаппарат: Canon PowerShot SX50 HS
- Выдержка: 0,0
- Гиперфокальное расстояние: inf m
- Диафрагма: 3,4
- Светочувствительность: 320
- Фокусное расстояние: 4,0 mm (35 mm equivalent: 20,0 mm)
- Экспокоррекция: -1/3
- Полный EXIF
- Adobe
- ColorTransform: YCbCr
- Composite
- Aperture: 3,4
- CircleOfConfusion: 0,005 mm
- Flash: Off, Did not fire
- FocalLength35efl: 4,0 mm (35 mm equivalent: 20,0 mm)
- FOV: 83,0 deg
- HyperfocalDistance: inf m
- Megapixels: 6,7
- ScaleFactor35efl: 5,6
- ShutterSpeed: 0,0
- ExifIFD
- ApertureValue: 2,8
- ColorSpace: sRGB
- CreateDate: 2023:08:17 08:34:40
- CustomRendered: Normal
- DateTimeOriginal: 2023:08:17 08:34:40
- DigitalZoomRatio: 1
- ExifImageHeight: 2234
- ExifImageWidth: 3000
- ExposureCompensation: 0
- ExposureMode: Manual
- ExposureTime: 0,0
- FNumber: 3,4
- FocalLength: 4,0 mm
- ISO: 320
- LensInfo: 4.3-215mm f/?
- LensModel: 4.3-215.0 mm
- MaxApertureValue: 2,8
- MeteringMode: Multi-segment
- SceneCaptureType: Standard
- SensingMethod: One-chip color area
- SensitivityType: Standard Output Sensitivity and Recommended Exposure Index
- ShutterSpeedValue: 1/16
- WhiteBalance: Auto
- ICC-header
- ICC-meas
- ICC-view
- IFD0
- Artist: ALEKSANDR SMIRNOV
- Copyright: tondra@yandex.ru
- Make: Canon
- Model: Canon PowerShot SX50 HS
- ModifyDate: 2023:08:18 11:06:43
- Orientation: Horizontal (normal)
- IFD1
- IPTC
- By-line: ALEKSANDR SMIRNOV
- CopyrightNotice: tondra@yandex.ru
- DateCreated: 2023:08:17
- System
- XMP-aux
- ApproximateFocusDistance: 0,25
- Firmware: 1.00
- FlashCompensation: 0
- Lens: 4.3-215.0 mm
- XMP-crs
- AlreadyApplied: True
- AutoLateralCA: 0
- Blacks2012: +23
- BlueHue: 0
- BlueSaturation: 0
- CameraProfile: Embedded
- Clarity2012: +15
- ColorNoiseReduction: 0
- Contrast2012: +19
- ConvertToGrayscale: False
- DefringeGreenAmount: 0
- DefringeGreenHueHi: 60
- DefringeGreenHueLo: 40
- DefringePurpleAmount: 0
- DefringePurpleHueHi: 70
- DefringePurpleHueLo: 30
- Dehaze: 0
- Exposure2012: 0.00
- GrainAmount: 0
- GreenHue: 0
- GreenSaturation: 0
- HasCrop: False
- HasSettings: True
- Highlights2012: -32
- HueAdjustmentAqua: 0
- HueAdjustmentBlue: 0
- HueAdjustmentGreen: 0
- HueAdjustmentMagenta: 0
- HueAdjustmentOrange: -14
- HueAdjustmentPurple: 0
- HueAdjustmentRed: 0
- HueAdjustmentYellow: 0
- IncrementalTemperature: +10
- IncrementalTint: +5
- LensManualDistortionAmount: 0
- LensProfileEnable: 0
- LensProfileSetup: LensDefaults
- LuminanceAdjustmentAqua: 0
- LuminanceAdjustmentBlue: 0
- LuminanceAdjustmentGreen: 0
- LuminanceAdjustmentMagenta: 0
- LuminanceAdjustmentOrange: 0
- LuminanceAdjustmentPurple: 0
- LuminanceAdjustmentRed: 0
- LuminanceAdjustmentYellow: 0
- LuminanceSmoothing: 0
- ParametricDarks: 0
- ParametricHighlights: 0
- ParametricHighlightSplit: 75
- ParametricLights: 0
- ParametricMidtoneSplit: 50
- ParametricShadows: 0
- ParametricShadowSplit: 25
- PerspectiveAspect: 0
- PerspectiveHorizontal: 0
- PerspectiveRotate: 0.0
- PerspectiveScale: 100
- PerspectiveUpright: 0
- PerspectiveVertical: 0
- PerspectiveX: 0.00
- PerspectiveY: 0.00
- PostCropVignetteAmount: 0
- ProcessVersion: 6.7
- RawFileName: 093.JPG
- RedHue: 0
- RedSaturation: 0
- Saturation: 0
- SaturationAdjustmentAqua: -30
- SaturationAdjustmentBlue: -41
- SaturationAdjustmentGreen: 0
- SaturationAdjustmentMagenta: 0
- SaturationAdjustmentOrange: +14
- SaturationAdjustmentPurple: 0
- SaturationAdjustmentRed: 0
- SaturationAdjustmentYellow: 0
- Shadows2012: +48
- ShadowTint: 0
- SharpenDetail: 25
- SharpenEdgeMasking: 0
- SharpenRadius: +1.0
- Sharpness: 0
- SplitToningBalance: 0
- SplitToningHighlightHue: 0
- SplitToningHighlightSaturation: 0
- SplitToningShadowHue: 0
- SplitToningShadowSaturation: 0
- ToneCurve: 0, 0, 255, 255
- ToneCurveBlue: 0, 0, 255, 255
- ToneCurveGreen: 0, 0, 255, 255
- ToneCurveName: Linear
- ToneCurveName2012: Linear
- ToneCurvePV2012: 0, 0, 255, 255
- ToneCurvePV2012Blue: 0, 0, 255, 255
- ToneCurvePV2012Green: 0, 0, 255, 255
- ToneCurvePV2012Red: 0, 0, 255, 255
- ToneCurveRed: 0, 0, 255, 255
- ToneMapStrength: 0
- Version: 9.12.1
- Vibrance: +24
- VignetteAmount: 0
- WhiteBalance: Custom
- Whites2012: -19
- XMP-dc
- Creator: ALEKSANDR SMIRNOV
- Format: image/jpeg
- Rights: tondra@yandex.ru
- XMP-exif
- ApertureValue: 3,4
- DateTimeDigitized: 2023:08:17 08:34:40+05:00
- DateTimeOriginal: 2023:08:17 08:34:40+05:00
- ExposureCompensation: -1/3
- ExposureTime: 1/25
- FlashFired: False
- FlashFunction: False
- FlashMode: Off
- FlashRedEyeMode: False
- FlashReturn: No return detection
- FocalLength: 4,3 mm
- MaxApertureValue: 3,4
- ShutterSpeedValue: 1/25
- XMP-microsoft
- DateAcquired: 2023:08:17 16:13:27.940
- XMP-rdf
- XMP-tiff
- XMP-x
- XMP-xmp
- CreateDate: 2023:08:18 11:06:43+05:00
- ModifyDate: 2023:08:18 11:06:43+05:00
- XMP-xmpMM