- Раздел: Другое, разное
- Дата съёмки: неизвестно
- Дата загрузки фото: 12.09.2023 20:05
- Оригинальная фотография: 8160 x 6120 (3,7 Мб)
- Технические характеристики:
- Фотоаппарат: Samsung Galaxy S23 Ultra
- Выдержка: 0,0
- Гиперфокальное расстояние: inf m
- Диафрагма: 1,7
- Светочувствительность: 50
- Фокусное расстояние: 6,0 mm (35 mm equivalent: 18,0 mm)
- Полный EXIF
- Adobe
- ColorTransform: YCbCr
- Composite
- Aperture: 1,7
- CircleOfConfusion: 0,008 mm
- FocalLength35efl: 6,0 mm (35 mm equivalent: 18,0 mm)
- FOV: 90,0 deg
- GPSAltitude: 148 m Above Sea Level
- GPSLatitude: 55 deg 37' 4,00" N
- GPSLongitude: 38 deg 9' 52,00" E
- GPSPosition: 55 deg 37' 4,00" N, 38 deg 9' 52,00" E
- HyperfocalDistance: inf m
- Megapixels: 49,9
- ScaleFactor35efl: 3,8
- ShutterSpeed: 0,0
- ExifIFD
- ApertureValue: 1,4
- ColorSpace: sRGB
- DateTimeOriginal: 2023:09:11 09:54:49
- ExifImageHeight: 6120
- ExifImageWidth: 8160
- ExposureCompensation: 0
- ExposureTime: 0,0
- FNumber: 1,7
- FocalLength: 6,0 mm
- FocalLengthIn35mmFormat: 23 mm
- ISO: 50
- LensModel: Samsung Galaxy S23 Ultra Rear Wide Camera
- ShutterSpeedValue: 1/64
- GPS
- GPSAltitude: 148 m
- GPSAltitudeRef: Above Sea Level
- GPSLatitude: 55 deg 37' 4,00"
- GPSLatitudeRef: North
- GPSLongitude: 38 deg 9' 52,00"
- GPSLongitudeRef: East
- GPSVersionID: 2.2.0.0
- ICC-header
- ICC-meas
- ICC-view
- IFD0
- Make: samsung
- Model: Galaxy S23 Ultra
- ModifyDate: 2023:09:11 12:19:16
- Orientation: Horizontal (normal)
- IFD1
- IPTC
- DateCreated: 2023:09:11
- System
- XMP-aux
- Lens: Samsung Galaxy S23 Ultra Rear Wide Camera
- XMP-crs
- AlreadyApplied: True
- AutoLateralCA: 0
- Blacks2012: -5
- BlueHue: 0
- BlueSaturation: 0
- Clarity2012: +8
- ColorGradeBlending: 50
- ColorGradeGlobalHue: 0
- ColorGradeGlobalLum: 0
- ColorGradeGlobalSat: 0
- ColorGradeHighlightLum: 0
- ColorGradeMidtoneHue: 0
- ColorGradeMidtoneLum: 0
- ColorGradeMidtoneSat: 0
- ColorGradeShadowLum: 0
- ColorNoiseReduction: 20
- ColorNoiseReductionDetail: 50
- ColorNoiseReductionSmoothness: 50
- ColorTemperature: 4550
- Contrast2012: 0
- ConvertToGrayscale: False
- DefringeGreenAmount: 0
- DefringeGreenHueHi: 60
- DefringeGreenHueLo: 40
- DefringePurpleAmount: 0
- DefringePurpleHueHi: 70
- DefringePurpleHueLo: 30
- Dehaze: 0
- Exposure2012: -1.15
- GrainAmount: 0
- GreenHue: 0
- GreenSaturation: 0
- HasCrop: False
- HasSettings: True
- Highlights2012: -87
- HueAdjustmentAqua: 0
- HueAdjustmentBlue: 0
- HueAdjustmentGreen: 0
- HueAdjustmentMagenta: 0
- HueAdjustmentOrange: 0
- HueAdjustmentPurple: 0
- HueAdjustmentRed: 0
- HueAdjustmentYellow: 0
- LensManualDistortionAmount: 0
- LensProfileEnable: 0
- LuminanceAdjustmentAqua: 0
- LuminanceAdjustmentBlue: 0
- LuminanceAdjustmentGreen: 0
- LuminanceAdjustmentMagenta: 0
- LuminanceAdjustmentOrange: 0
- LuminanceAdjustmentPurple: 0
- LuminanceAdjustmentRed: 0
- LuminanceAdjustmentYellow: 0
- LuminanceNoiseReductionContrast: 0
- LuminanceNoiseReductionDetail: 50
- LuminanceSmoothing: 10
- OverrideLookVignette: False
- ParametricDarks: -40
- ParametricHighlights: 0
- ParametricHighlightSplit: 75
- ParametricLights: +21
- ParametricMidtoneSplit: 50
- ParametricShadows: -21
- ParametricShadowSplit: 25
- PerspectiveAspect: 0
- PerspectiveHorizontal: 0
- PerspectiveRotate: 0.0
- PerspectiveScale: 100
- PerspectiveUpright: 0
- PerspectiveVertical: 0
- PerspectiveX: 0.00
- PerspectiveY: 0.00
- PostCropVignetteAmount: 0
- ProcessVersion: 11.0
- RedHue: 0
- RedSaturation: 0
- Saturation: 0
- SaturationAdjustmentAqua: 0
- SaturationAdjustmentBlue: 0
- SaturationAdjustmentGreen: 0
- SaturationAdjustmentMagenta: 0
- SaturationAdjustmentOrange: 0
- SaturationAdjustmentPurple: 0
- SaturationAdjustmentRed: 0
- SaturationAdjustmentYellow: 0
- Shadows2012: +100
- ShadowTint: 0
- SharpenDetail: 25
- SharpenEdgeMasking: 0
- SharpenRadius: +1.4
- Sharpness: 50
- SplitToningBalance: 0
- SplitToningHighlightHue: 0
- SplitToningHighlightSaturation: 0
- SplitToningShadowHue: 0
- SplitToningShadowSaturation: 0
- Texture: 0
- Tint: +16
- ToneCurveName2012: Linear
- ToneCurvePV2012: 0, 0, 255, 255
- ToneCurvePV2012Blue: 0, 0, 255, 255
- ToneCurvePV2012Green: 0, 0, 255, 255
- ToneCurvePV2012Red: 0, 0, 255, 255
- Version: 15.2
- Vibrance: 0
- VignetteAmount: 0
- WhiteBalance: Custom
- Whites2012: +15
- XMP-dc
- XMP-exifEX
- XMP-xmp
- CreateDate: 2023:09:11 09:54:49.27406
- CreatorTool: S918BXXU3AWGJ
- ModifyDate: 2023:09:11 12:19:16+03:00
- XMP-xmpMM
- Просмотров: 53
- Рейтинг: голосов еще нет
- Отзывов: отключены