_ICT2494.jpg |
_ICT2494.jpg
- :
- : 01.01.2008 08:26
- : 11.01.2008 13:15
- : 1200 x 798 (595 )
- : Minolta DYNAX 5D
- : 1/50
- : 4,35 m
- : 9,0
- : 100
- : 28,0mm (35mm : 42,0mm)
- EXIF
- Adobe
- ColorTransform: YCbCr
- Composite
- Aperture: 9,0
- CircleOfConfusion: 0,020 mm
- FocalLength35efl: 28,0mm (35mm equivalent: 42,0mm)
- HyperfocalDistance: 4,35 m
- LightValue: 12,0
- ScaleFactor35efl: 1,5
- ShutterSpeed: 1/50
- ExifIFD
- ApertureValue: 9,0
- BrightnessValue: 7
- Contrast: Normal
- CreateDate: 2008:01:01 08:26:28
- CustomRendered: Normal
- DateTimeOriginal: 2008:01:01 08:26:28
- DigitalZoomRatio: 0
- ExposureCompensation: 0
- ExposureMode: Auto
- ExposureProgram: Aperture-priority AE
- ExposureTime: 1/50
- FNumber: 9,0
- Flash: Off
- FocalLength: 28,0mm
- FocalLengthIn35mmFormat: 42mm
- GainControl: None
- ISO: 100
- LightSource: Unknown (0)
- MaxApertureValue: 4,0
- MeteringMode: Multi-segment
- Saturation: Normal
- SceneCaptureType: Standard
- Sharpness: Normal
- ShutterSpeedValue: 1/50
- SubjectLocation: 1504 1000 256 304
- WhiteBalance: Auto
- ICC-header
- ICC-meas
- ICC-view
- IFD0
- ImageDescription: KONICA MINOLTA DIGITAL CAMERA
- Make: KONICA MINOLTA
- Model: DYNAX 5D
- ModifyDate: 2008:01:09 17:01:48
- Software: DYNAX 5D v1.00
- TimeZoneOffset: 3 3
- IPTC
- Caption-Abstract: KONICA MINOLTA DIGITAL CAMERA
- Keywords: Èðêóòñê-2008-ÍÃ-Çèìà
- XMP-aux
- XMP-crs
- AlreadyApplied: True
- BlueHue: 0
- BlueSaturation: 0
- Brightness: +50
- CameraProfile: ACR 3.2
- ChromaticAberrationB: 0
- ChromaticAberrationR: 0
- Clarity: 0
- ColorNoiseReduction: 25
- Contrast: +25
- ConvertToGrayscale: False
- Defringe: 0
- Exposure: -0.05
- FillLight: 0
- GreenHue: 0
- GreenSaturation: 0
- HasCrop: False
- HasSettings: True
- HighlightRecovery: 56
- HueAdjustmentAqua: 0
- HueAdjustmentBlue: 0
- HueAdjustmentGreen: 0
- HueAdjustmentMagenta: 0
- HueAdjustmentOrange: 0
- HueAdjustmentPurple: 0
- HueAdjustmentRed: 0
- HueAdjustmentYellow: 0
- LuminanceAdjustmentAqua: 0
- LuminanceAdjustmentBlue: 0
- LuminanceAdjustmentGreen: 0
- LuminanceAdjustmentMagenta: 0
- LuminanceAdjustmentOrange: 0
- LuminanceAdjustmentPurple: 0
- LuminanceAdjustmentRed: 0
- LuminanceAdjustmentYellow: 0
- LuminanceSmoothing: 0
- ParametricDarks: 0
- ParametricHighlightSplit: 75
- ParametricHighlights: 0
- ParametricLights: 0
- ParametricMidtoneSplit: 50
- ParametricShadowSplit: 25
- ParametricShadows: 0
- RedHue: 0
- RedSaturation: 0
- Saturation: 0
- SaturationAdjustmentAqua: 0
- SaturationAdjustmentBlue: 0
- SaturationAdjustmentGreen: 0
- SaturationAdjustmentMagenta: 0
- SaturationAdjustmentOrange: 0
- SaturationAdjustmentPurple: 0
- SaturationAdjustmentRed: 0
- SaturationAdjustmentYellow: 0
- ShadowTint: 0
- Shadows: 5
- SharpenDetail: 25
- SharpenEdgeMasking: 0
- SharpenRadius: +1.0
- Sharpness: 25
- SplitToningBalance: 0
- SplitToningHighlightHue: 0
- SplitToningHighlightSaturation: 0
- SplitToningShadowHue: 0
- SplitToningShadowSaturation: 0
- Temperature: 6000
- Tint: +10
- ToneCurve: 0, 0, 32, 22, 64, 56, 128, 128, 192, 196, 255, 255
- ToneCurveName: Medium Contrast
- Version: 1.0
- Vibrance: 0
- VignetteAmount: 0
- WhiteBalance: Custom
- XMP-dc
- Description: KONICA MINOLTA DIGITAL CAMERA
- Subject: Иркутск-2008-НГ-Зима
- XMP-exif
- DateTimeDigitized: 2008:01:01 08:26:28+03:00
- DateTimeOriginal: 2008:01:01 08:26:28+03:00
- FlashFired: False
- FlashFunction: False
- FlashMode: Off
- FlashRedEyeMode: False
- FlashReturn: No return detection
- FocalLengthIn35mmFormat: 42
- SubjectArea: 1504, 1000, 256, 304
- XMP-tiff
- ImageHeight: 798
- ImageWidth: 1200
- XMP-xmp
- ModifyDate: 2008:01:09 17:01:48+03:00
HTML ( ):
BBCode ( ):
: