- Раздел: Другое, разное
- Дата съёмки: неизвестно
- Дата загрузки фото: 16.11.2023 09:09
- Оригинальная фотография: 4205 x 2793 (5,1 Мб)
- Технические характеристики:
- Фотоаппарат: Nikon D2X
- Выдержка: 0,0
- Гиперфокальное расстояние: inf m
- Диафрагма: 8,0
- Светочувствительность: 100
- Фокусное расстояние: 18,0 mm (35 mm equivalent: 18,0 mm)
- Экспокоррекция: -2
- Полный EXIF
- Composite
- Aperture: 8,0
- BlueBalance: 1,75
- CircleOfConfusion: 0,020 mm
- DOF: inf (0,00 m - inf)
- Flash: No Flash
- FocalLength35efl: 18,0 mm (35 mm equivalent: 18,0 mm)
- FOV: 89,0 deg (3,00 m)
- HyperfocalDistance: inf m
- LensID: AF-S DX Zoom-Nikkor 18-70mm f/3.5-4.5G IF-ED
- LensSpec: 18-70mm f/3.5-4.5 G
- Megapixels: 11,7
- RedBalance: 1,476563
- ScaleFactor35efl: 1,5
- ShutterSpeed: 0,0
- ExifIFD
- ApertureValue: 8,0
- CFAPattern: [Red,Green][Green,Blue]
- ColorSpace: sRGB
- Contrast: Normal
- CreateDate: 2019:10:03 11:35:17
- CustomRendered: Normal
- DateTimeOriginal: 2019:10:03 11:35:17
- DigitalZoomRatio: 1
- ExifImageHeight: 2793
- ExifImageWidth: 4205
- ExposureCompensation: 0
- ExposureMode: Auto
- ExposureProgram: Program AE
- ExposureTime: 0,0
- FNumber: 8,0
- FocalLength: 18,0 mm
- FocalLengthIn35mmFormat: 27 mm
- GainControl: None
- ISO: 100
- LightSource: Unknown
- MaxApertureValue: 2,8
- MeteringMode: Multi-segment
- Saturation: Normal
- SceneCaptureType: Standard
- SceneType: Directly photographed
- SensingMethod: One-chip color area
- Sharpness: Normal
- ShutterSpeedValue: 1/128
- SubjectDistance: 2,37 m
- SubjectDistanceRange: Unknown
- UserComment:
- WhiteBalance: Auto
- GPS
- IFD0
- Make: NIKON CORPORATION
- Model: NIKON D2X
- ModifyDate: 2022:11:14 21:56:01
- Orientation: Horizontal (normal)
- Rating: 0
- RatingPercent: 0
- Software: DxO PhotoLab 5.0
- TIFF-EPStandardID: 1 0 0 0
- IFD1
- Nikon
- AFAperture: 3,6
- AFAreaMode: Single Area
- AFPoint: Center
- AFPointsInFocus: Center
- ColorHue: Mode1
- CropHiSpeed: Off (4320x2868 cropped to 4320x2868 at pixel 0,0)
- DeletedImageCount: 14275
- EffectiveMaxAperture: 3,6
- ExitPupilPosition: 102,4 mm
- ExposureBracketValue: 0
- ExposureDifference: 0
- ExposureTuning: 0
- ExternalFlashExposureComp: 0
- ExternalFlashFirmware: n/a
- ExternalFlashFlags: (none)
- FlashCommanderMode: Off
- FlashCompensation: 0
- FlashControlMode: Off
- FlashExposureBracketValue: 0,0
- FlashGNDistance: 0
- FlashGroupACompensation: 0
- FlashGroupAControlMode: Off
- FlashGroupBCompensation: 0
- FlashGroupBControlMode: Off
- FlashInfoVersion: 0100
- FlashMode: Did Not Fire
- FlashSetting: Normal
- FlashSource: None
- FlashType:
- FocalLength: 18,3 mm
- FocusDistance: 2,37 m
- FocusMode: AF-S
- FocusPosition: 0xf1
- HighISONoiseReduction: Off
- HueAdjustment: 0
- ImageCount: 130156
- ISOSetting: 100
- Lens: 18-70mm f/3.5-4.5
- LensDataVersion: 0201
- LensFStops: 5,33
- LensIDNumber: 127
- LensType: G
- LightSource: Natural
- MakerNoteVersion: 2.10
- MaxApertureAtMaxFocal: 4,5
- MaxApertureAtMinFocal: 3,6
- MaxFocalLength: 71,3 mm
- MCUVersion: 132
- MinFocalLength: 18,3 mm
- MultiExposureAutoGain: Off
- MultiExposureMode: Off
- MultiExposureShots: 0
- MultiExposureVersion: 0100
- NoiseReduction: Off
- ProgramShift: 0
- Quality: Fine
- SensorPixelSize: 5,4 x 5,4 um
- SerialNumber: 5000989
- ShootingMode: Single-Frame
- ShotInfoVersion: 0204
- ShutterCount: 144431
- ToneComp: Normal
- VibrationReduction: Off
- WB_RGGBLevels: 378 256 256 448
- WhiteBalanceFineTune: 0
- System
- XMP-aux
- ImageNumber: 144431
- Lens: 18.0-70.0 mm f/3.5-4.5
- LensID: 127
- LensInfo: 18-70mm f/3.5-4.5
- XMP-crs
- AlreadyApplied: True
- BlueHue: 0
- BlueSaturation: 0
- Brightness: +50
- ChromaticAberrationB: 0
- ChromaticAberrationR: 0
- Clarity: 0
- ColorNoiseReduction: 25
- ColorNoiseReductionDetail: 50
- ColorTemperature: 4750
- Contrast: +25
- ConvertToGrayscale: False
- Defringe: 0
- Exposure: +0.25
- FillLight: 0
- GrainAmount: 0
- GreenHue: 0
- GreenSaturation: 0
- HasCrop: False
- HasSettings: True
- HighlightRecovery: 0
- HueAdjustmentAqua: 0
- HueAdjustmentBlue: -1
- HueAdjustmentGreen: 0
- HueAdjustmentMagenta: 0
- HueAdjustmentOrange: 0
- HueAdjustmentPurple: 0
- HueAdjustmentRed: 0
- HueAdjustmentYellow: 0
- LuminanceAdjustmentAqua: 0
- LuminanceAdjustmentBlue: 0
- LuminanceAdjustmentGreen: 0
- LuminanceAdjustmentMagenta: 0
- LuminanceAdjustmentOrange: +15
- LuminanceAdjustmentPurple: 0
- LuminanceAdjustmentRed: 0
- LuminanceAdjustmentYellow: +15
- LuminanceNoiseReductionContrast: 0
- LuminanceNoiseReductionDetail: 50
- LuminanceSmoothing: 14
- ParametricDarks: +31
- ParametricHighlights: +38
- ParametricHighlightSplit: 75
- ParametricLights: +10
- ParametricMidtoneSplit: 50
- ParametricShadows: 0
- ParametricShadowSplit: 25
- PostCropVignetteAmount: 0
- ProcessVersion: 5.7
- RawFileName: SCC_1703.NEF
- RedHue: 0
- RedSaturation: 0
- Saturation: 0
- SaturationAdjustmentAqua: 0
- SaturationAdjustmentBlue: 0
- SaturationAdjustmentGreen: 0
- SaturationAdjustmentMagenta: 0
- SaturationAdjustmentOrange: +6
- SaturationAdjustmentPurple: 0
- SaturationAdjustmentRed: +7
- SaturationAdjustmentYellow: +8
- Shadows: 5
- ShadowTint: 0
- SharpenDetail: 25
- SharpenEdgeMasking: 0
- SharpenRadius: +1.0
- Sharpness: 25
- SplitToningBalance: 0
- SplitToningHighlightHue: 0
- SplitToningHighlightSaturation: 0
- SplitToningShadowHue: 0
- SplitToningShadowSaturation: 0
- Tint: 0
- ToneCurve: 0, 0, 32, 22, 64, 56, 128, 128, 192, 196, 255, 255
- ToneCurveName: Medium Contrast
- Version: 6.0
- Vibrance: 0
- VignetteAmount: +12
- VignetteMidpoint: 50
- WhiteBalance: Custom
- XMP-exif
- DateTimeOriginal: 2019:10:03 11:35:17.14+03:00
- ExposureCompensation: -2
- ExposureTime: 1,0
- FlashFired: False
- FlashFunction: False
- FlashMode: Unknown
- FlashRedEyeMode: False
- FlashReturn: No return detection
- FNumber: 8 / 1
- FocalLength: 180,0 mm
- MaxApertureValue: 3,5
- ShutterSpeedValue: 1/250
- XMP-tiff
- XMP-x
- XMP-xmp
- CreateDate: 2019:10:03 11:35:17.14+03:00
- CreatorTool: DxO PhotoLab 5.0
- ModifyDate: 2022:11:14 21:56:01+03:00
- Просмотров: 63
- Рейтинг: голосов еще нет
- Отзывов: отключены